BEGIN:VCALENDAR
VERSION:2.0
PRODID:-//ChamberMaster//Event Calendar 2.0//EN
METHOD:PUBLISH
X-PUBLISHED-TTL:P3D
REFRESH-INTERVAL:P3D
CALSCALE:GREGORIAN
BEGIN:VEVENT
DTSTART:20220626T200000Z
DTEND:20220626T210000Z
X-MICROSOFT-CDO-ALLDAYEVENT:FALSE
SUMMARY:Urban SUN: Black Voices Book Club
DESCRIPTION:Join the Urban SUN: Black Voices Book Club!\n\n\n\nA monthly book club devoted to creating meaningful conversations about race by exploring works of contemporary and historical African-American authors. Discussions are led by Sun Prairie residents\, Donna Mackey and Marilyn Ruffin. Get ready to get uncomfortable and get real!\n\nThis month's book selection is She Would Be King\, by Wayetu Moore. Copies will be available at the library's Information Desk for those who register\, and ebook format can be accessed through Hoopla Digital.\n\nPlease Note: The Urban SUN book club will meet via Zoom until further notice. Please register to attend the discussion\, and Zoom details will be emailed to you.
X-ALT-DESC;FMTTYPE=text/html:<p style="box-sizing: border-box\; margin-top: 0px\; margin-bottom: 1rem\; font-family: Quattrocento\, &quot\;serif&quot\;\; font-size: 16px\;"><span style="font-size:20px\;"><span style="font-size:24px\;"><span style="font-size:26px\;">Join the Urban SUN: Black Voices Book Club!</span></span><br />\n<br />\nA monthly book club devoted to creating meaningful conversations about race by exploring works of contemporary and historical African-American authors. Discussions are led by Sun Prairie residents\, Donna Mackey and Marilyn Ruffin.<em style="box-sizing: border-box\;">&nbsp\;Get ready to get uncomfortable and get real!</em></span></p>\n\n<p style="box-sizing: border-box\; margin-top: 0px\; margin-bottom: 1rem\; font-family: Quattrocento\, &quot\;serif&quot\;\; font-size: 16px\;"><span style="font-size:20px\;">This month&#39\;s book selection is&nbsp\;<a href="https://www.linkcat.info/app/search/(she%20would%20be%20king%20wayetu%20moore)?sort=score%20desc" style="box-sizing: border-box\; color: rgb(177\, 83\, 18)\; text-decoration-line: none\; background-color: transparent\; transition: all 0.2s ease-in-out 0s\; font-weight: 700\;"><span style="box-sizing: border-box\; font-weight: bolder\;">She Would Be King</span></a>\, by Wayetu Moore. Copies will be available at the library&#39\;s Information Desk for those who register\, and ebook format can be accessed through Hoopla Digital.</span></p>\n\n<p style="box-sizing: border-box\; margin-top: 0px\; margin-bottom: 1rem\; font-family: Quattrocento\, &quot\;serif&quot\;\; font-size: 16px\;"><span style="font-size:20px\;"><em style="box-sizing: border-box\;"><span style="box-sizing: border-box\; font-weight: bolder\;">Please Note: The Urban SUN book club will meet via Zoom until further notice. Please register to attend the discussion\, and Zoom details will be emailed to you.</span></em></span></p>\n\n<p style="box-sizing: border-box\; margin-top: 0px\; margin-bottom: 1rem\; font-family: Quattrocento\, &quot\;serif&quot\;\; font-size: 16px\;">&nbsp\;</p>\n
LOCATION:
UID:e.2844.6324
SEQUENCE:3
DTSTAMP:20260424T202520Z
URL:https://business.sunprairiechamber.com/events/details/urban-sun-black-voices-book-club-6324
END:VEVENT

END:VCALENDAR
