BEGIN:VCALENDAR
VERSION:2.0
PRODID:-//ChamberMaster//Event Calendar 2.0//EN
METHOD:PUBLISH
X-PUBLISHED-TTL:P3D
REFRESH-INTERVAL:P3D
CALSCALE:GREGORIAN
BEGIN:VEVENT
DTSTART;VALUE=DATE:20220722
DTEND;VALUE=DATE:20220809
TRANSP:TRANSPARENT
X-MICROSOFT-CDO-ALLDAYEVENT:TRUE
SUMMARY:Stuff the Bus Donation Drive 2022
DESCRIPTION:Stuff the Bus Donation Drive\n\n\n\n\n\n\n\n\n\nStuff the Bus believes every child in our community deserves to receive the basic materials to help their educational success\, regardless of their economic background.  This year\, with the support of the community\, we will be providing backpacks and school supplies to 1\,600 students.\n\nWe will be accepting backpack donations.  In order to purchase the school supplies\, we are asking for the community's support to reach our $24\,000 fundraising goal.  Please support our program by donating today.  Every donation counts!\n\nCheck donations can be mailed to Sunshine Place\, PO Box 307\, Sun Prairie\, WI 53590.  Or to donate online\, please click below and enter "Stuff the Bus" in the Donor Note. https://sunshine.app.neoncrm.com/forms/3\n\nBackpack donations can be dropped off at the following locations:\n\n\n	Sunshine Place-18 Rickel Road\n	Bank of Sun Prairie:\n	\n		228 E Main Street\n		550 Broadway Drive\n		695 S. Grand Ave.\n	\n	\n	Smokey Anderson American Family Insurance-695 S Grand Ave. 204
X-ALT-DESC;FMTTYPE=text/html:&nbsp\;\n<div class="elementor-element elementor-element-31deb752 elementor-widget elementor-widget-text-editor" data-element_type="widget" data-id="31deb752" data-widget_type="text-editor.default" style="box-sizing: border-box\; --flex-direction: initial\; --flex-wrap: initial\; --justify-content: initial\; --align-items: initial\; --align-content: initial\; --gap: initial\; --flex-basis: initial\; --flex-grow: initial\; --flex-shrink: initial\; --order: initial\; --align-self: initial\; -webkit-box-orient: vertical\; -webkit-box-direction: normal\; flex-direction: var(--flex-direction)\; flex-wrap: var(--flex-wrap)\; -webkit-box-pack: var(--justify-content)\; justify-content: var(--justify-content)\; -webkit-box-align: var(--align-items)\; align-items: var(--align-items)\; align-content: var(--align-content)\; gap: var(--gap)\; flex-basis: var(--flex-basis)\; -webkit-box-flex: var(--flex-grow)\; flex-grow: var(--flex-grow)\; flex-shrink: var(--flex-shrink)\; -webkit-box-ordinal-group: var(--order)\; order: var(--order)\; align-self: var(--align-self)\; position: relative\; --widgets-spacing:20px\; font-family: Lora\, sans-serif\; width: 652px\; margin-bottom: 0px\; font-size: 28px\; font-style: italic\; background-color: rgb(255\, 255\, 255)\;">\n<div class="elementor-widget-container" style="box-sizing: border-box\; transition: background 0.3s ease 0s\, border 0.3s ease 0s\, border-radius 0.3s ease 0s\, box-shadow 0.3s ease 0s\, -webkit-box-shadow 0.3s ease 0s\;">\n<div class="elementor-text-editor elementor-clearfix" style="box-sizing: border-box\;">\n<h1 style="box-sizing: border-box\; overflow-wrap: break-word\; margin-top: 0px\; margin-bottom: 0.5rem\; font-family: Lora\; color: inherit\; line-height: 1.2\;"><span style="font-family:verdana\;"><strong><span style="font-size:48px\;">Stuff the Bus Donation Drive</span></strong></span></h1>\n</div>\n</div>\n</div>\n\n<div class="elementor-element elementor-element-5fda6468 elementor-widget elementor-widget-text-editor" data-element_type="widget" data-id="5fda6468" data-widget_type="text-editor.default" style="box-sizing: border-box\; --flex-direction: initial\; --flex-wrap: initial\; --justify-content: initial\; --align-items: initial\; --align-content: initial\; --gap: initial\; --flex-basis: initial\; --flex-grow: initial\; --flex-shrink: initial\; --order: initial\; --align-self: initial\; -webkit-box-orient: vertical\; -webkit-box-direction: normal\; flex-direction: var(--flex-direction)\; flex-wrap: var(--flex-wrap)\; -webkit-box-pack: var(--justify-content)\; justify-content: var(--justify-content)\; -webkit-box-align: var(--align-items)\; align-items: var(--align-items)\; align-content: var(--align-content)\; gap: var(--gap)\; flex-basis: var(--flex-basis)\; -webkit-box-flex: var(--flex-grow)\; flex-grow: var(--flex-grow)\; flex-shrink: var(--flex-shrink)\; -webkit-box-ordinal-group: var(--order)\; order: var(--order)\; align-self: var(--align-self)\; position: relative\; --widgets-spacing:20px\; font-family: &quot\;Nunito Sans&quot\;\, sans-serif\; width: 652px\; margin-bottom: 0px\; font-size: 20px\; background-color: rgb(255\, 255\, 255)\;">\n<div class="elementor-widget-container" style="box-sizing: border-box\; transition: background 0.3s ease 0s\, border 0.3s ease 0s\, border-radius 0.3s ease 0s\, box-shadow 0.3s ease 0s\, -webkit-box-shadow 0.3s ease 0s\;">\n<div class="elementor-text-editor elementor-clearfix" style="box-sizing: border-box\;">\n<p style="box-sizing: border-box\; overflow-wrap: break-word\; margin-top: 0px\; margin-bottom: 1rem\;"><br />\n<span style="font-size:18px\;">Stuff the Bus believes every child in our community deserves to receive the basic materials to help their educational success\, regardless of their economic background.&nbsp\; <strong>This year\, with the support of the community\, we will be providing backpacks and school supplies to 1\,600 students.</strong></span></p>\n\n<p style="box-sizing: border-box\; overflow-wrap: break-word\; margin-top: 0px\; margin-bottom: 1rem\;"><span style="font-size:18px\;">We will be accepting backpack donations.&nbsp\; <strong>In order to purchase the school supplies\, we are asking for the community&rsquo\;s support to reach our $24\,000 fundraising goal.</strong>&nbsp\; Please support our program by donating today.&nbsp\; Every donation counts!</span></p>\n\n<p style="box-sizing: border-box\; overflow-wrap: break-word\; margin-top: 0px\; margin-bottom: 1rem\;"><span style="font-size:18px\;">Check donations can be mailed to Sunshine Place\, PO Box 307\, Sun Prairie\, WI 53590.&nbsp\; Or to donate online\, please click below and enter &ldquo\;Stuff the Bus&rdquo\; in the Donor Note.&nbsp\;<a href="https://sunshine.app.neoncrm.com/forms/3">https://sunshine.app.neoncrm.com/forms/3</a></span></p>\n\n<p style="box-sizing: border-box\; overflow-wrap: break-word\; margin-top: 0px\; margin-bottom: 1rem\;"><span style="font-size:18px\;">Backpack donations can be dropped off at the following locations:</span></p>\n\n<ul style="box-sizing: border-box\; overflow-wrap: break-word\; margin-top: 0px\; margin-bottom: 1rem\;">\n	<li style="box-sizing: border-box\;"><span style="font-size:18px\;">Sunshine Place-18 Rickel Road</span></li>\n	<li style="box-sizing: border-box\;"><span style="font-size:18px\;">Bank of Sun Prairie:</span>\n	<ul style="box-sizing: border-box\; overflow-wrap: break-word\; margin-top: 0px\; margin-bottom: 0px\;">\n		<li style="box-sizing: border-box\;"><span style="font-size:18px\;">228 E Main Street</span></li>\n		<li style="box-sizing: border-box\;"><span style="font-size:18px\;">550 Broadway Drive</span></li>\n		<li style="box-sizing: border-box\;"><span style="font-size:18px\;">695 S. Grand Ave.</span></li>\n	</ul>\n	</li>\n	<li style="box-sizing: border-box\;"><span style="font-size:18px\;">Smokey Anderson American Family Insurance-695 S Grand Ave. 204&nbsp\;</span></li>\n</ul>\n</div>\n</div>\n</div>\n
LOCATION:
UID:e.2844.6816
SEQUENCE:3
DTSTAMP:20260419T115041Z
URL:https://business.sunprairiechamber.com/events/details/stuff-the-bus-2022-donation-drive-6816
END:VEVENT

END:VCALENDAR
