BEGIN:VCALENDAR
VERSION:2.0
PRODID:-//ChamberMaster//Event Calendar 2.0//EN
METHOD:PUBLISH
X-PUBLISHED-TTL:P3D
REFRESH-INTERVAL:P3D
CALSCALE:GREGORIAN
BEGIN:VEVENT
DTSTART:20260505T233000Z
DTEND:20260506T010000Z
X-MICROSOFT-CDO-ALLDAYEVENT:FALSE
SUMMARY:SCORE: Your New AI Employee Works 24/7 and Never Calls in Sick
DESCRIPTION:You didn't start your business to spend half your time on administrative tasks. Discover how small business owners use AI automation to handle the tasks that eat up their week   answering calls\, following up on leads\, organizing files\, and generating reports   all without hiring anyone new. Walk away with real workflows you can start using the same day\, presented by a consultant with 25+ years in enterprise AI now focused on helping small businesses compete with the big guys.\n\nNaveen Aggarwal is the founder of Explained Consulting\, a consulting firm focusing on Small to medium sized businesses scale and get the most out of technology.\n\nHe's spent 20+ years leading marketing and tech for brands like U.S. Army\, Harley-Davidson\, and Abbott and now helps small and solo businesses use AI to grow without adding overhead.\n\nBased in Naperville\, Naveen runs workshops that turn buzzwords into real\, usable tools that save time and drive revenue.
X-ALT-DESC;FMTTYPE=text/html:<p style="box-sizing: border-box\; border-width: 0px\; border-style: solid\; border-color: currentcolor\; margin: 0px\; font-family: Lato\, Helvetica\, Arial\, &quot\;sans-serif&quot\;\; font-size: 20px\; line-height: 28px\; color: rgb(70\, 70\, 72)\; margin-block: 24px\; background-color: rgb(255\, 255\, 255)\;">You didn&#39\;t start your business to spend half your time on administrative tasks. Discover how small business owners use AI automation to handle the tasks that eat up their week &mdash\; answering calls\, following up on leads\, organizing files\, and generating reports &mdash\; all without hiring anyone new. Walk away with real workflows you can start using the same day\, presented by a consultant with 25+ years in enterprise AI now focused on helping small businesses compete with the big guys.</p>\n\n<p style="box-sizing: border-box\; border-width: 0px\; border-style: solid\; border-color: currentcolor\; margin: 0px\; font-family: Lato\, Helvetica\, Arial\, &quot\;sans-serif&quot\;\; font-size: 20px\; line-height: 28px\; color: rgb(70\, 70\, 72)\; margin-block: 24px\; background-color: rgb(255\, 255\, 255)\;">Naveen Aggarwal is the&nbsp\;founder of Explained Consulting\, a consulting firm focusing on Small to medium sized businesses scale and get the most out of technology.</p>\n\n<p style="box-sizing: border-box\; border-width: 0px\; border-style: solid\; border-color: currentcolor\; margin: 0px\; font-family: Lato\, Helvetica\, Arial\, &quot\;sans-serif&quot\;\; font-size: 20px\; line-height: 28px\; color: rgb(70\, 70\, 72)\; margin-block: 24px\; background-color: rgb(255\, 255\, 255)\;">He&rsquo\;s spent 20+ years leading marketing and tech for brands like U.S. Army\, Harley-Davidson\, and Abbott&mdash\;and now helps small and solo businesses use AI to grow without adding overhead.</p>\n\n<p style="box-sizing: border-box\; border-width: 0px\; border-style: solid\; border-color: currentcolor\; margin: 0px\; font-family: Lato\, Helvetica\, Arial\, &quot\;sans-serif&quot\;\; font-size: 20px\; line-height: 28px\; color: rgb(70\, 70\, 72)\; margin-block: 24px\; background-color: rgb(255\, 255\, 255)\;">Based in Naperville\, Naveen runs workshops that turn buzzwords into real\, usable tools that save time and drive revenue.</p>\n
LOCATION:Webinar
UID:e.2844.10423
SEQUENCE:3
DTSTAMP:20260422T001740Z
URL:https://business.sunprairiechamber.com/events/details/score-your-new-ai-employee-works-24-7-and-never-calls-in-sick-10423
END:VEVENT

END:VCALENDAR
