BEGIN:VCALENDAR
VERSION:2.0
PRODID:-//ChamberMaster//Event Calendar 2.0//EN
METHOD:PUBLISH
X-PUBLISHED-TTL:P3D
REFRESH-INTERVAL:P3D
CALSCALE:GREGORIAN
BEGIN:VEVENT
DTSTART:20231024T160000Z
DTEND:20231024T170000Z
X-MICROSOFT-CDO-ALLDAYEVENT:FALSE
SUMMARY:SCORE - Year End Tax Planning
DESCRIPTION:Year-End Tax Planning for Your Business for 2023\n\n\n\nWith the final quarter of the year still ahead\, learn what year-end tax planning you can do to favorably impact your bottom line and your tax bill for 2023 and how to better position yourself moving into 2024.\n\nWhether you work with a CPA or go it alone\, learn which tax breaks apply to you and how to nail them down now before time runs out.\n\nIn this webinar\, you will learn:\n\n \n\n\n	What's new for your 2023 return\n	Year-end actions to reduce your 2023 tax bill\n	Best business practices to avoid problems with the IRS\n	Necessary actions to get ready for 2024\n\n\n\n\n\n\n*please visit their website for more info
X-ALT-DESC;FMTTYPE=text/html:<p style="box-sizing: border-box\; border-width: 0px\; border-style: solid\; border-color: currentcolor\; margin: 0px\; font-family: var(--ff-body)\; font-size: var(--fs-xl)\; line-height: var(--lh-xl)\; color: var(--brand-secondaryGraphite)\; margin-block-start: var(--wysiwyg-gap-size)\; margin-block-end: var(--wysiwyg-gap-size)\;"><span style="font-size:20px\;"><span style="color: rgb(13\, 61\, 114)\; font-family: Jost\, Helvetica\, Arial\, &quot\;sans-serif&quot\;\; font-weight: 600\; letter-spacing: -1px\;">Year-End Tax Planning for Your Business for 2023</span></span><br />\n<br />\n<span style="box-sizing: border-box\; border-width: 0px\; border-style: solid\; border-color: currentcolor\;"><span style="font-size:18px\;">With the final quarter of the year still ahead\, learn what year-end tax planning you can do to favorably impact your bottom line and your tax bill for 2023 and how to better position yourself moving into 2024.</span></span></p>\n\n<p style="box-sizing: border-box\; border-width: 0px\; border-style: solid\; border-color: currentcolor\; margin: 0px\; font-family: var(--ff-body)\; font-size: var(--fs-xl)\; line-height: var(--lh-xl)\; color: var(--brand-secondaryGraphite)\; margin-block-start: var(--wysiwyg-gap-size)\; margin-block-end: var(--wysiwyg-gap-size)\;"><span style="font-size:18px\;"><span style="box-sizing: border-box\; border-width: 0px\; border-style: solid\; border-color: currentcolor\;">Whether you work with a CPA or go it alone\, learn which tax breaks apply to you and how to nail them down now before time runs out.</span></span></p>\n\n<p style="box-sizing: border-box\; border-width: 0px\; border-style: solid\; border-color: currentcolor\; margin: 0px\; font-family: var(--ff-body)\; font-size: var(--fs-xl)\; line-height: var(--lh-xl)\; color: var(--brand-secondaryGraphite)\; margin-block-start: var(--wysiwyg-gap-size)\; margin-block-end: var(--wysiwyg-gap-size)\;"><span style="font-size:18px\;"><span style="box-sizing: border-box\; border-width: 0px\; border-style: solid\; border-color: currentcolor\;">In this webinar\, you will learn:</span></span><br />\n&nbsp\;</p>\n\n<ul style="box-sizing: border-box\; border-width: 0px\; border-style: solid\; border-color: currentcolor\; list-style-position: initial\; list-style-image: initial\; margin: 0px\; padding: 0px 40px\; margin-block-start: var(--wysiwyg-gap-size)\; margin-block-end: var(--wysiwyg-gap-size)\; font-family: ui-sans-serif\, system-ui\, -apple-system\, BlinkMacSystemFont\, &quot\;Segoe UI&quot\;\, Roboto\, &quot\;Helvetica Neue&quot\;\, Arial\, &quot\;Noto Sans&quot\;\, sans-serif\, &quot\;Apple Color Emoji&quot\;\, &quot\;Segoe UI Emoji&quot\;\, &quot\;Segoe UI Symbol&quot\;\, &quot\;Noto Color Emoji&quot\;\;">\n	<li style="box-sizing: border-box\; border-width: 0px\; border-style: solid\; border-color: currentcolor\; padding-left: 12px\; font-family: var(--ff-body)\; line-height: var(--lh-lg)\; color: var(--brand-secondaryGraphite)\; font-size: var(--fs-lg)\; margin-block-end: 1rem\;"><span style="font-size:18px\;"><span style="box-sizing: border-box\; border-width: 0px\; border-style: solid\; border-color: currentcolor\;">What&rsquo\;s new for your 2023 return</span></span></li>\n	<li style="box-sizing: border-box\; border-width: 0px\; border-style: solid\; border-color: currentcolor\; padding-left: 12px\; font-family: var(--ff-body)\; line-height: var(--lh-lg)\; color: var(--brand-secondaryGraphite)\; font-size: var(--fs-lg)\; margin-block-end: 1rem\;"><span style="font-size:18px\;"><span style="box-sizing: border-box\; border-width: 0px\; border-style: solid\; border-color: currentcolor\;">Year-end actions to reduce your 2023 tax bill</span></span></li>\n	<li style="box-sizing: border-box\; border-width: 0px\; border-style: solid\; border-color: currentcolor\; padding-left: 12px\; font-family: var(--ff-body)\; line-height: var(--lh-lg)\; color: var(--brand-secondaryGraphite)\; font-size: var(--fs-lg)\; margin-block-end: 1rem\;"><span style="font-size:18px\;"><span style="box-sizing: border-box\; border-width: 0px\; border-style: solid\; border-color: currentcolor\;">Best business practices to avoid problems with the IRS</span></span></li>\n	<li style="box-sizing: border-box\; border-width: 0px\; border-style: solid\; border-color: currentcolor\; padding-left: 12px\; font-family: var(--ff-body)\; line-height: var(--lh-lg)\; color: var(--brand-secondaryGraphite)\; font-size: var(--fs-lg)\;"><span style="font-size:18px\;"><span style="box-sizing: border-box\; border-width: 0px\; border-style: solid\; border-color: currentcolor\;">Necessary actions to get ready for 2024</span></span></li>\n</ul>\n\n<div style="box-sizing: border-box\; border-width: 0px\; border-style: solid\; border-color: currentcolor\; padding-left: 12px\; font-family: var(--ff-body)\; line-height: var(--lh-lg)\; color: var(--brand-secondaryGraphite)\; font-size: var(--fs-lg)\;"><br />\n<br />\n<span style="font-size:18px\;"><span style="box-sizing: border-box\; border-width: 0px\; border-style: solid\; border-color: currentcolor\;"><span style="font-size:16px\;">*please visit their website for more info</span></span></span></div>\n
LOCATION:
UID:e.2844.8417
SEQUENCE:3
DTSTAMP:20260425T102402Z
URL:https://business.sunprairiechamber.com/events/details/score-year-end-tax-planning-8417
END:VEVENT

END:VCALENDAR
