BEGIN:VCALENDAR
VERSION:2.0
PRODID:-//ChamberMaster//Event Calendar 2.0//EN
METHOD:PUBLISH
X-PUBLISHED-TTL:P3D
REFRESH-INTERVAL:P3D
CALSCALE:GREGORIAN
BEGIN:VEVENT
DTSTART:20240110T180000Z
DTEND:20240110T190000Z
X-MICROSOFT-CDO-ALLDAYEVENT:FALSE
SUMMARY:SCORE - The Corporate Transparency Act
DESCRIPTION:The Corporate Transparency Act - What Small Businesses Need to Know\n\nWhether you're considering starting a business or are already a business owner\, you need to be aware of The Corporate Transparency Act (CTA)\, which introduces new compliance requirements for small businesses in 2024.\n\nIn this webinar\, we'll break down the key provisions of the CTA\, the purpose of this new law and how it might impact your business. We'll also guide you through the compliance requirements and reporting procedures to ensure you meet the deadlines.\n\n \n\nLearning objectives:\n\n\n	What is the Corporate Transparency Act\, and who must comply\n	What\, how and when is Information to be Reported?\n	Preparing for compliance and penalties for non-compliance\n	What is the impact on Small Businesses
X-ALT-DESC;FMTTYPE=text/html:<h1 class="semibold " style="letter-spacing: -1px\; margin: 0px\; font-family: var(--ff-display)\; font-weight: var(--fw-semibold)\; color: var(--score-heading-font-color\, var(--brand-background-hover))\; font-size: var(--fs-h1)\; line-height: 70.4px\; box-sizing: inherit\; background-color: rgb(255\, 255\, 255)\;"><span style="font-size:22px\;"><strong>The Corporate Transparency Act - What Small Businesses Need to Know</strong></span></h1>\n\n<p style="box-sizing: border-box\; border-width: 0px\; border-style: solid\; border-color: currentcolor\; margin: 0px\; font-family: var(--ff-body)\; font-size: var(--fs-xl)\; line-height: var(--lh-xl)\; color: var(--brand-secondaryGraphite)\; margin-block-start: var(--wysiwyg-gap-size)\; margin-block-end: var(--wysiwyg-gap-size)\; background-color: rgb(255\, 255\, 255)\;"><span style="box-sizing: border-box\; border-width: 0px\; border-style: solid\; border-color: currentcolor\;">Whether you&#39\;re considering starting a business or are already a business owner\, you need to be aware of The Corporate Transparency Act (CTA)\, which&nbsp\;</span><span style="box-sizing: border-box\; border-width: 0px\; border-style: solid\; border-color: currentcolor\;">introduces new compliance requirements for small businesses in 2024.</span></p>\n\n<p style="box-sizing: border-box\; border-width: 0px\; border-style: solid\; border-color: currentcolor\; margin: 0px\; font-family: var(--ff-body)\; font-size: var(--fs-xl)\; line-height: var(--lh-xl)\; color: var(--brand-secondaryGraphite)\; margin-block-start: var(--wysiwyg-gap-size)\; margin-block-end: var(--wysiwyg-gap-size)\; background-color: rgb(255\, 255\, 255)\;"><span style="box-sizing: border-box\; border-width: 0px\; border-style: solid\; border-color: currentcolor\;">In this webinar\, we&#39\;ll break down the key provisions of the CTA\, the purpose of this new law and how it might impact your business. We&#39\;ll also guide you through the compliance requirements and reporting procedures to ensure you meet the deadlines.</span></p>\n\n<p style="box-sizing: border-box\; border-width: 0px\; border-style: solid\; border-color: currentcolor\; margin: 0px\; font-family: var(--ff-body)\; font-size: var(--fs-xl)\; line-height: var(--lh-xl)\; color: var(--brand-secondaryGraphite)\; margin-block-start: var(--wysiwyg-gap-size)\; margin-block-end: var(--wysiwyg-gap-size)\; background-color: rgb(255\, 255\, 255)\;">&nbsp\;</p>\n\n<p style="box-sizing: border-box\; border-width: 0px\; border-style: solid\; border-color: currentcolor\; margin: 0px\; font-family: var(--ff-body)\; font-size: var(--fs-xl)\; line-height: var(--lh-xl)\; color: var(--brand-secondaryGraphite)\; margin-block-start: var(--wysiwyg-gap-size)\; margin-block-end: var(--wysiwyg-gap-size)\; background-color: rgb(255\, 255\, 255)\;"><span style="box-sizing: border-box\; border-width: 0px\; border-style: solid\; border-color: currentcolor\;">Learning objectives:</span></p>\n\n<ul style="box-sizing: border-box\; border-width: 0px\; border-style: solid\; border-color: currentcolor\; list-style-position: initial\; list-style-image: initial\; margin: 0px\; padding: 0px 40px\; margin-block-start: var(--wysiwyg-gap-size)\; margin-block-end: var(--wysiwyg-gap-size)\; font-family: ui-sans-serif\, system-ui\, -apple-system\, BlinkMacSystemFont\, &quot\;Segoe UI&quot\;\, Roboto\, &quot\;Helvetica Neue&quot\;\, Arial\, &quot\;Noto Sans&quot\;\, sans-serif\, &quot\;Apple Color Emoji&quot\;\, &quot\;Segoe UI Emoji&quot\;\, &quot\;Segoe UI Symbol&quot\;\, &quot\;Noto Color Emoji&quot\;\; background-color: rgb(255\, 255\, 255)\;">\n	<li style="box-sizing: border-box\; border-width: 0px\; border-style: solid\; border-color: currentcolor\; padding-left: 12px\; font-family: var(--ff-body)\; line-height: var(--lh-lg)\; color: var(--brand-secondaryGraphite)\; font-size: var(--fs-lg)\; margin-block-end: 1rem\;"><span style="box-sizing: border-box\; border-width: 0px\; border-style: solid\; border-color: currentcolor\;">What is the Corporate Transparency Act\, and who must comply</span></li>\n	<li style="box-sizing: border-box\; border-width: 0px\; border-style: solid\; border-color: currentcolor\; padding-left: 12px\; font-family: var(--ff-body)\; line-height: var(--lh-lg)\; color: var(--brand-secondaryGraphite)\; font-size: var(--fs-lg)\; margin-block-end: 1rem\;"><span style="box-sizing: border-box\; border-width: 0px\; border-style: solid\; border-color: currentcolor\;">What\, how and when is Information to be Reported?</span></li>\n	<li style="box-sizing: border-box\; border-width: 0px\; border-style: solid\; border-color: currentcolor\; padding-left: 12px\; font-family: var(--ff-body)\; line-height: var(--lh-lg)\; color: var(--brand-secondaryGraphite)\; font-size: var(--fs-lg)\; margin-block-end: 1rem\;"><span style="box-sizing: border-box\; border-width: 0px\; border-style: solid\; border-color: currentcolor\;">Preparing for compliance and penalties for non-compliance</span></li>\n	<li style="box-sizing: border-box\; border-width: 0px\; border-style: solid\; border-color: currentcolor\; padding-left: 12px\; font-family: var(--ff-body)\; line-height: var(--lh-lg)\; color: var(--brand-secondaryGraphite)\; font-size: var(--fs-lg)\;"><span style="box-sizing: border-box\; border-width: 0px\; border-style: solid\; border-color: currentcolor\;">What is the impact on Small Businesses</span></li>\n</ul>\n\n<p><br />\n&nbsp\;</p>\n\n<ul and="" apple="" background-color:="" be="" class="dark" color="" compliance="" corporate="" for="" helvetica="" how="" hr="" impact="" information="" is="" li="" must="" noto="" on="" penalties="" preparing="" segoe="" small="" span="" style="border: none\; margin: 0px\; height: 4px\; width: 75px\; box-sizing: inherit\; font-family: ui-sans-serif\, system-ui\, -apple-system\, BlinkMacSystemFont\, " the="" to="" transparency="" ui="" what="" when="" who="">\n</ul>\n
LOCATION:
UID:e.2844.8563
SEQUENCE:3
DTSTAMP:20260423T145434Z
URL:https://business.sunprairiechamber.com/events/details/score-the-corporate-transparency-act-8563
END:VEVENT

END:VCALENDAR
