BEGIN:VCALENDAR
VERSION:2.0
PRODID:-//ChamberMaster//Event Calendar 2.0//EN
METHOD:PUBLISH
X-PUBLISHED-TTL:P3D
REFRESH-INTERVAL:P3D
CALSCALE:GREGORIAN
BEGIN:VEVENT
DTSTART:20260528T180000Z
DTEND:20260528T200000Z
X-MICROSOFT-CDO-ALLDAYEVENT:FALSE
SUMMARY:SCORE: The Basics in Contracts: Protect Your Business with Confidence
DESCRIPTION:No matter the service or industry\, business is all about relationships. Without relationships\, there would be no transactions. In business\, those relationships are often formalized and governed by contracts. Every small business owner can benefit from knowing the basics of how contracts work.\n\nIn this presentation\, business attorney Kimberly Hanlon will cover the most important things you need to know about contracts in plain-English. She will also provide a handy guide you can take with you to reference the next time you are getting ready to nail down your next business agreement. \n\nIn this presentation\, Kimberly will cover:\n\n- What is (and isn't) a contract?\n\n- What are the minimum requirements for a contract?\n\n- What things can never be a contract?\n\n- When does a contract have to be in writing?\n\n- Can an oral (unwritten) contract be enforced?\n\n- What are the steps to documenting an agreement informally?\n\n- When can I use an informal agreement process?\n\n- When should I seek legal help?\n\nKimberly Hanlon is one of the founding attorneys at Lucere Legal\, where she serves business owners and entrepreneurs with business law and litigation matters.\n\nShe is the author of The Minnesota Small Business Owner's Legal Survival Guide. She has been awarded with a Women in Business Award\, an Up and Coming Attorney award\, and she has been named a Super Lawyer's Rising Star for four years.\n\nShe is married to her wonderful husband Richard\, and in her spare time she loves to travel\, read\, and to do fun and creative projects.
X-ALT-DESC;FMTTYPE=text/html:<p style="box-sizing: border-box\; border-width: 0px\; border-style: solid\; border-color: currentcolor\; margin: 0px\; font-family: Lato\, Helvetica\, Arial\, &quot\;sans-serif&quot\;\; font-size: 20px\; line-height: 28px\; color: rgb(70\, 70\, 72)\; margin-block: 24px\; background-color: rgb(255\, 255\, 255)\;">No matter the service or industry\, business is all about relationships. Without relationships\, there would be no transactions. In business\, those relationships are often formalized and governed by contracts. Every small business owner can benefit from knowing the basics of how contracts work.</p>\n\n<p style="box-sizing: border-box\; border-width: 0px\; border-style: solid\; border-color: currentcolor\; margin: 0px\; font-family: Lato\, Helvetica\, Arial\, &quot\;sans-serif&quot\;\; font-size: 20px\; line-height: 28px\; color: rgb(70\, 70\, 72)\; margin-block: 24px\; background-color: rgb(255\, 255\, 255)\;">In this presentation\, business attorney Kimberly Hanlon will cover the most important things you need to know about contracts in plain-English. She will also provide a handy guide you can take with you to reference the next time you are getting ready to nail down your next business agreement.&nbsp\;</p>\n\n<p style="box-sizing: border-box\; border-width: 0px\; border-style: solid\; border-color: currentcolor\; margin: 0px\; font-family: Lato\, Helvetica\, Arial\, &quot\;sans-serif&quot\;\; font-size: 20px\; line-height: 28px\; color: rgb(70\, 70\, 72)\; margin-block: 24px\; background-color: rgb(255\, 255\, 255)\;">In this presentation\, Kimberly will cover:</p>\n\n<p style="box-sizing: border-box\; border-width: 0px\; border-style: solid\; border-color: currentcolor\; margin: 0px\; font-family: Lato\, Helvetica\, Arial\, &quot\;sans-serif&quot\;\; font-size: 20px\; line-height: 28px\; color: rgb(70\, 70\, 72)\; margin-block: 24px\; background-color: rgb(255\, 255\, 255)\;">-&nbsp\;What is (and isn&rsquo\;t) a contract?</p>\n\n<p style="box-sizing: border-box\; border-width: 0px\; border-style: solid\; border-color: currentcolor\; margin: 0px\; font-family: Lato\, Helvetica\, Arial\, &quot\;sans-serif&quot\;\; font-size: 20px\; line-height: 28px\; color: rgb(70\, 70\, 72)\; margin-block: 24px\; background-color: rgb(255\, 255\, 255)\;">-&nbsp\;What are the minimum requirements for a contract?</p>\n\n<p style="box-sizing: border-box\; border-width: 0px\; border-style: solid\; border-color: currentcolor\; margin: 0px\; font-family: Lato\, Helvetica\, Arial\, &quot\;sans-serif&quot\;\; font-size: 20px\; line-height: 28px\; color: rgb(70\, 70\, 72)\; margin-block: 24px\; background-color: rgb(255\, 255\, 255)\;">-&nbsp\;What things can never be a contract?</p>\n\n<p style="box-sizing: border-box\; border-width: 0px\; border-style: solid\; border-color: currentcolor\; margin: 0px\; font-family: Lato\, Helvetica\, Arial\, &quot\;sans-serif&quot\;\; font-size: 20px\; line-height: 28px\; color: rgb(70\, 70\, 72)\; margin-block: 24px\; background-color: rgb(255\, 255\, 255)\;">-&nbsp\;When does a contract have to be in writing?</p>\n\n<p style="box-sizing: border-box\; border-width: 0px\; border-style: solid\; border-color: currentcolor\; margin: 0px\; font-family: Lato\, Helvetica\, Arial\, &quot\;sans-serif&quot\;\; font-size: 20px\; line-height: 28px\; color: rgb(70\, 70\, 72)\; margin-block: 24px\; background-color: rgb(255\, 255\, 255)\;">-&nbsp\;Can an oral (unwritten) contract be enforced?</p>\n\n<p style="box-sizing: border-box\; border-width: 0px\; border-style: solid\; border-color: currentcolor\; margin: 0px\; font-family: Lato\, Helvetica\, Arial\, &quot\;sans-serif&quot\;\; font-size: 20px\; line-height: 28px\; color: rgb(70\, 70\, 72)\; margin-block: 24px\; background-color: rgb(255\, 255\, 255)\;">-&nbsp\;What are the steps to documenting an agreement informally?</p>\n\n<p style="box-sizing: border-box\; border-width: 0px\; border-style: solid\; border-color: currentcolor\; margin: 0px\; font-family: Lato\, Helvetica\, Arial\, &quot\;sans-serif&quot\;\; font-size: 20px\; line-height: 28px\; color: rgb(70\, 70\, 72)\; margin-block: 24px\; background-color: rgb(255\, 255\, 255)\;">-&nbsp\;When can I use an informal agreement process?</p>\n\n<p style="box-sizing: border-box\; border-width: 0px\; border-style: solid\; border-color: currentcolor\; margin: 0px\; font-family: Lato\, Helvetica\, Arial\, &quot\;sans-serif&quot\;\; font-size: 20px\; line-height: 28px\; color: rgb(70\, 70\, 72)\; margin-block: 24px\; background-color: rgb(255\, 255\, 255)\;">-&nbsp\;When should I seek legal help?</p>\n\n<p style="box-sizing: border-box\; border-width: 0px\; border-style: solid\; border-color: currentcolor\; margin: 0px\; font-family: Lato\, Helvetica\, Arial\, &quot\;sans-serif&quot\;\; font-size: 20px\; line-height: 28px\; color: rgb(70\, 70\, 72)\; margin-block: 24px\; background-color: rgb(255\, 255\, 255)\;">Kimberly Hanlon is one of the founding attorneys at Lucere Legal\, where she serves business owners and entrepreneurs with business law and litigation matters.</p>\n\n<p style="box-sizing: border-box\; border-width: 0px\; border-style: solid\; border-color: currentcolor\; margin: 0px\; font-family: Lato\, Helvetica\, Arial\, &quot\;sans-serif&quot\;\; font-size: 20px\; line-height: 28px\; color: rgb(70\, 70\, 72)\; margin-block: 24px\; background-color: rgb(255\, 255\, 255)\;">She is the author of The Minnesota Small Business Owner&#39\;s Legal Survival Guide. She has been awarded with a Women in Business Award\, an Up and Coming Attorney award\, and she has been named a Super Lawyer&#39\;s Rising Star for four years.</p>\n\n<p style="box-sizing: border-box\; border-width: 0px\; border-style: solid\; border-color: currentcolor\; margin: 0px\; font-family: Lato\, Helvetica\, Arial\, &quot\;sans-serif&quot\;\; font-size: 20px\; line-height: 28px\; color: rgb(70\, 70\, 72)\; margin-block: 24px\; background-color: rgb(255\, 255\, 255)\;">She is married to her wonderful husband Richard\, and in her spare time she loves to travel\, read\, and to do fun and creative projects.</p>\n
LOCATION:Webinar
UID:e.2844.10444
SEQUENCE:3
DTSTAMP:20260422T011202Z
URL:https://business.sunprairiechamber.com/events/details/score-the-basics-in-contracts-protect-your-business-with-confidence-10444
END:VEVENT

END:VCALENDAR
