BEGIN:VCALENDAR
VERSION:2.0
PRODID:-//ChamberMaster//Event Calendar 2.0//EN
METHOD:PUBLISH
X-PUBLISHED-TTL:P3D
REFRESH-INTERVAL:P3D
CALSCALE:GREGORIAN
BEGIN:VEVENT
DTSTART:20220714T043000Z
DTEND:20220713T173000Z
X-MICROSOFT-CDO-ALLDAYEVENT:FALSE
SUMMARY:SCORE - Taking Your Speech to New Heights
DESCRIPTION:Going Up: Taking Your Speech to New Heights\n\n\n \n\nWhen you introduce yourself\, do people listen? Do they respond? Do you want them to?\n\n \n\n\n\n\nIn today's million-message mega-media world\, it's never been easier to be heard. As a result\, it's never been more difficult to be listened to.\n\nThis lively discussion provides a new perspective on developing an engaging answer to the most difficult question in business\, "What do you do?"\n\nTAKEAWAYS:\n\n\n	INSIGHT marketing vs. messaging\, pitch vs. purpose.\n	ILLUSTRATION three crucial elements of a successful business story.\n	INSTRUCTION actionable steps you will take toward your new elevator speech.\n\n\nRJ combines over twenty-five years of international presentation development and training\, award-winning content development\, and unbridled enthusiasm for communication to help clients take business messaging to a new level\n\nAfter all\, he's a Wordsmith\, shaping words into works of art!\n\nKEY TOPICS\n\n\n\n\n\n\n\n\n\n	Marketing\, Public Relations & Sales\n	 \n	Strategy & Planning
X-ALT-DESC;FMTTYPE=text/html:<div>\n<h1 class="page-header__title" style="box-sizing: border-box\; font-family: Montserrat\, sans-serif\; margin-top: 0px\; color: rgb(68\, 68\, 70)\; font-size: 2.48832rem\; line-height: 1.15\; font-weight: 400\; margin-bottom: 0.35164em\; border-width: 0.125em\; border-style: solid\; border-color: transparent transparent rgba(120\, 181\, 75\, 0.2)\; padding-bottom: 0.3em\; text-indent: -0.125em\; background-color: rgb(255\, 255\, 255)\;">Going Up: Taking Your Speech to New Heights</h1>\n</div>\n\n<div>&nbsp\;</div>\n\n<div><span style="font-size:16px\;">When you introduce yourself\, do people listen? Do they respond? Do you want them to?</span><br />\n&nbsp\;</div>\n\n<div>\n<div class="block block-score-event block-score-event-score-event-body" style="box-sizing: border-box\; border-bottom: 1px solid rgba(120\, 181\, 75\, 0.2)\; margin-bottom: 28px\; color: rgb(20\, 20\, 20)\; font-family: Montserrat\, sans-serif\; font-size: 16px\; background-color: rgb(255\, 255\, 255)\;">\n<div class="content" style="box-sizing: border-box\;">\n<p style="box-sizing: border-box\; margin-top: 0px\; margin-bottom: 1.75em\; widows: 3\; orphans: 3\;">In today&rsquo\;s million-message mega-media world\, it&rsquo\;s never been easier to be heard. As a&nbsp\;result\, it&rsquo\;s never been more difficult to be listened to.</p>\n\n<p style="box-sizing: border-box\; margin-top: 0px\; margin-bottom: 1.75em\; widows: 3\; orphans: 3\;">This lively discussion provides a new perspective on developing an engaging answer to the most difficult question in&nbsp\;business\, &ldquo\;What do you do?&rdquo\;</p>\n\n<p style="box-sizing: border-box\; margin-top: 0px\; margin-bottom: 1.75em\; widows: 3\; orphans: 3\;">TAKEAWAYS:</p>\n\n<ul style="box-sizing: border-box\; margin-bottom: 1.75em\; padding-left: 1.6em\; list-style-type: square\;">\n	<li style="box-sizing: border-box\;">INSIGHT&hellip\;marketing vs. messaging\, pitch vs. purpose.</li>\n	<li style="box-sizing: border-box\;">ILLUSTRATION&hellip\;three crucial elements of a successful business story.</li>\n	<li style="box-sizing: border-box\;">INSTRUCTION&hellip\;actionable steps you will take toward your new elevator speech.</li>\n</ul>\n\n<p style="box-sizing: border-box\; margin-top: 0px\; margin-bottom: 1.75em\; widows: 3\; orphans: 3\;">RJ combines over twenty-five years of international presentation development and training\, award-winning content development\, and unbridled enthusiasm for communication to help clients take business messaging to a new level</p>\n\n<p style="box-sizing: border-box\; margin-top: 0px\; margin-bottom: 1.75em\; widows: 3\; orphans: 3\;">After all\, he&rsquo\;s a Wordsmith\, shaping words into works of art!</p>\n\n<p style="box-sizing: border-box\; margin-top: 0px\; margin-bottom: 1.75em\; widows: 3\; orphans: 3\;">KEY TOPICS</p>\n</div>\n</div>\n</div>\n\n<div class="block block-score-global block-score-global-score-key-topics" style="box-sizing: border-box\; border-bottom: 0px\; margin-bottom: 0px\; color: rgb(20\, 20\, 20)\; font-family: Montserrat\, sans-serif\; font-size: 16px\; background-color: rgb(255\, 255\, 255)\;">\n<div class="content" style="box-sizing: border-box\;">\n<div class="key-topics" style="box-sizing: border-box\;">\n<div class="item-list" style="box-sizing: border-box\;">\n<ul class="inline-list key-topics--list" style="box-sizing: border-box\; margin: 0px 0px 14px\; padding: 0px\; list-style-type: square\;">\n	<li class="key-topics--item first" style="box-sizing: border-box\; margin: 0px 5px 0px 0px\; padding: 0px\; display: inline-block\;"><a href="https://madison.score.org/content/marketing-resources" style="box-sizing: border-box\; color: rgb(4\, 73\, 119)\; text-decoration-line: none\; background-position: 100% 100%\; background-size: 100% 100%\;">Marketing\, Public Relations &amp\; Sales</a></li>\n	<li>&nbsp\;</li>\n	<li class="key-topics--item last" style="box-sizing: border-box\; margin: 0px 5px 0px 0px\; padding: 0px\; display: inline-block\;"><a href="https://madison.score.org/content/growth-strategy-resources" style="box-sizing: border-box\; color: rgb(4\, 73\, 119)\; text-decoration-line: none\; background-position: 100% 100%\; background-size: 100% 100%\;">Strategy &amp\; Planning</a></li>\n</ul>\n</div>\n</div>\n</div>\n</div>\n
LOCATION:
UID:e.2844.6773
SEQUENCE:3
DTSTAMP:20260419T133950Z
URL:https://business.sunprairiechamber.com/events/details/score-taking-your-speech-to-new-heights-6773
END:VEVENT

END:VCALENDAR
