BEGIN:VCALENDAR
VERSION:2.0
PRODID:-//ChamberMaster//Event Calendar 2.0//EN
METHOD:PUBLISH
X-PUBLISHED-TTL:P3D
REFRESH-INTERVAL:P3D
CALSCALE:GREGORIAN
BEGIN:VEVENT
DTSTART:20260527T170000Z
DTEND:20260527T183000Z
X-MICROSOFT-CDO-ALLDAYEVENT:FALSE
SUMMARY:SCORE: Session 5 - Closing the Loop: Sales Success & Winning Deals Live Event (online)
DESCRIPTION:Session 5: Marketing doesn't end when the lead comes in that's where the win happens. In this final session\, you'll learn how to turn interest into yes\, without being pushy\, awkward\, or anxiety-ridden. We'll connect the dots from strategy to message to website to lead gen and show how small improvements to your sales process can turn closing into a confident\, positive experience (with AI used wisely behind the scenes for follow-up and consistency).\n\nYou'll learn:\n\n\n	Why leads go cold and how to prevent it\n	How to sell with clarity and confidence (not pressure)\n	How to create a simple closing system that helps you win more often\n\n\nDacia Coffey - CEO of The Marketing Blender\n\nCEOs and sales leaders from around the world call on Dacia Coffey to break through revenue plateaus and maximize sales and marketing efforts. A renowned marketing and brand strategist\, Dacia is a Fractional Chief Marketing Officer and the CEO of The Marketing Blender\, an award-winning B2B sales and marketing alignment agency. She's the author of Corporate Caffeine\, host of the award-winning podcast The Marketing Blender Show\, was named an Inc Magazine Entrepreneur of the Year\, and was also tapped as an American Advertising Federation "Shooting Star". She's also the author and podcast host of Corporate Caffeine\, and an internationally recognized speaker helping people unleash individual and organizational potential. Drawing from her experience as a top-tier sales professional\, copywriter and three-time business owner\, Dacia's high-energy style and surprising insights deliver motivation and actionable tips to catalyze change and growth.
X-ALT-DESC;FMTTYPE=text/html:<div class="block block-system block-system-main-block" id="block-outline-frontend-content" style="box-sizing: border-box\; border-width: 0px\; border-style: solid\; border-color: currentcolor\;">\n<div class="block__content" style="box-sizing: border-box\; border-width: 0px\; border-style: solid\; border-color: currentcolor\;"><score-section style="box-sizing: border-box\; border-width: 0px\; border-style: solid\; border-color: currentcolor\;">\n<section class="section-container white small " style="box-sizing: inherit\; padding-block: 64px\; background-color: rgb(255\, 255\, 255)\;"><score-container container-width="narrow" content-align="left" style="box-sizing: border-box\; border-width: 0px\; border-style: solid\; border-color: currentcolor\;" top-margin="space-l">\n<div class="container narrow " style="margin-top: 32px\; box-sizing: inherit\; --container-padding: clamp(1.00rem\,calc(-0.43rem + 7.16vw)\,7.00rem)\; width: 1079.36px\; margin-right: auto\; margin-left: auto\; padding-right: 107.68px\; padding-left: 107.68px\; max-width: 1079.36px\; --container-max-content-width: 864px\;"><score-wysiwyg gap-size="md" style="box-sizing: border-box\; line-height: 1.5\; text-size-adjust: 100%\; tab-size: 4\; font-family: ui-sans-serif\, system-ui\, sans-serif\, &quot\;Apple Color Emoji&quot\;\, &quot\;Segoe UI Emoji&quot\;\, &quot\;Segoe UI Symbol&quot\;\, &quot\;Noto Color Emoji&quot\;\; font-feature-settings: normal\; font-variation-settings: normal\; -webkit-tap-highlight-color: transparent\; border-width: 0px\; border-style: solid\; border-color: currentcolor\; --wysiwyg-gap-size: 1.5rem\;">\n<div class="wysiwyg-wrapper" style="box-sizing: inherit\; border-width: 0px\; border-style: solid\; border-color: currentcolor\; --tw-border-spacing-x: 0\; --tw-border-spacing-y: 0\; --tw-translate-x: 0\; --tw-translate-y: 0\; --tw-rotate: 0\; --tw-skew-x: 0\; --tw-skew-y: 0\; --tw-scale-x: 1\; --tw-scale-y: 1\; --tw-pan-x: \; --tw-pan-y: \; --tw-pinch-zoom: \; --tw-scroll-snap-strictness: proximity\; --tw-gradient-from-position: \; --tw-gradient-via-position: \; --tw-gradient-to-position: \; --tw-ordinal: \; --tw-slashed-zero: \; --tw-numeric-figure: \; --tw-numeric-spacing: \; --tw-numeric-fraction: \; --tw-ring-inset: \; --tw-ring-offset-width: 0px\; --tw-ring-offset-color: #fff\; --tw-ring-color: rgb(59 130 246 / 0.5)\; --tw-ring-offset-shadow: 0 0 #0000\; --tw-ring-shadow: 0 0 #0000\; --tw-shadow: 0 0 #0000\; --tw-shadow-colored: 0 0 #0000\; --tw-blur: \; --tw-brightness: \; --tw-contrast: \; --tw-grayscale: \; --tw-hue-rotate: \; --tw-invert: \; --tw-saturate: \; --tw-sepia: \; --tw-drop-shadow: \; --tw-backdrop-blur: \; --tw-backdrop-brightness: \; --tw-backdrop-contrast: \; --tw-backdrop-grayscale: \; --tw-backdrop-hue-rotate: \; --tw-backdrop-invert: \; --tw-backdrop-opacity: \; --tw-backdrop-saturate: \; --tw-backdrop-sepia: \; --tw-contain-size: \; --tw-contain-layout: \; --tw-contain-paint: \; --tw-contain-style: \;">\n<div class="wysiwyg-container" style="box-sizing: border-box\; border-width: 0px\; border-style: solid\; border-color: currentcolor\; display: flex\; flex-direction: column\; gap: 24px\; width: 864.016px\;">\n<div style="box-sizing: border-box\; border-width: 0px\; border-style: solid\; border-color: currentcolor\;">\n<p style="box-sizing: border-box\; border-width: 0px\; border-style: solid\; border-color: currentcolor\; margin: 0px\; font-family: Lato\, Helvetica\, Arial\, &quot\;sans-serif&quot\;\; font-size: 20px\; line-height: 28px\; color: rgb(70\, 70\, 72)\; margin-block: 24px\; background-color: rgb(255\, 255\, 255)\;"><span style="box-sizing: border-box\; border-width: 0px\; border-style: solid\; border-color: currentcolor\;">Session 5: Marketing doesn&rsquo\;t end when the lead comes in&mdash\;that&rsquo\;s where the win happens. In this final session\, you&rsquo\;ll learn how to turn interest into yes\, without being pushy\, awkward\, or anxiety-ridden. We&rsquo\;ll connect the dots from strategy to message to website to lead gen&mdash\;and show how small improvements to your sales process can turn closing into a confident\, positive experience (with AI used wisely behind the scenes for follow-up and consistency).</span></p>\n\n<p style="box-sizing: border-box\; border-width: 0px\; border-style: solid\; border-color: currentcolor\; margin: 0px\; font-family: Lato\, Helvetica\, Arial\, &quot\;sans-serif&quot\;\; font-size: 20px\; line-height: 28px\; color: rgb(70\, 70\, 72)\; margin-block: 24px\; background-color: rgb(255\, 255\, 255)\;"><span style="box-sizing: border-box\; border-width: 0px\; border-style: solid\; border-color: currentcolor\; font-weight: bolder\; margin: 0px\; line-height: 28px\;">You&rsquo\;ll learn:</span></p>\n\n<ul style="box-sizing: border-box\; border-width: 0px\; border-style: solid\; border-color: currentcolor\; list-style: disc\; margin: 0px\; padding: 0px 40px\; margin-block: 24px\; font-family: ui-sans-serif\, system-ui\, sans-serif\, &quot\;Apple Color Emoji&quot\;\, &quot\;Segoe UI Emoji&quot\;\, &quot\;Segoe UI Symbol&quot\;\, &quot\;Noto Color Emoji&quot\;\; background-color: rgb(255\, 255\, 255)\;">\n	<li style="box-sizing: border-box\; border-width: 0px\; border-style: solid\; border-color: currentcolor\; padding-left: 12px\; font-family: Lato\, Helvetica\, Arial\, &quot\;sans-serif&quot\;\; line-height: 28px\; color: rgb(70\, 70\, 72)\; font-size: 18px\; margin-block-end: 1rem\;"><span style="box-sizing: border-box\; border-width: 0px\; border-style: solid\; border-color: currentcolor\;">Why leads go cold&mdash\;and how to prevent it</span></li>\n	<li style="box-sizing: border-box\; border-width: 0px\; border-style: solid\; border-color: currentcolor\; padding-left: 12px\; font-family: Lato\, Helvetica\, Arial\, &quot\;sans-serif&quot\;\; line-height: 28px\; color: rgb(70\, 70\, 72)\; font-size: 18px\; margin-block-end: 1rem\;"><span style="box-sizing: border-box\; border-width: 0px\; border-style: solid\; border-color: currentcolor\;">How to sell with clarity and confidence (not pressure)</span></li>\n	<li style="box-sizing: border-box\; border-width: 0px\; border-style: solid\; border-color: currentcolor\; padding-left: 12px\; font-family: Lato\, Helvetica\, Arial\, &quot\;sans-serif&quot\;\; line-height: 28px\; color: rgb(70\, 70\, 72)\; font-size: 18px\;"><span style="box-sizing: border-box\; border-width: 0px\; border-style: solid\; border-color: currentcolor\;">How to create a simple closing system that helps you win more often</span></li>\n</ul>\n\n<p style="box-sizing: border-box\; border-width: 0px\; border-style: solid\; border-color: currentcolor\; margin: 0px\; font-family: Lato\, Helvetica\, Arial\, &quot\;sans-serif&quot\;\; font-size: 20px\; line-height: 28px\; color: rgb(70\, 70\, 72)\; margin-block: 24px\; background-color: rgb(255\, 255\, 255)\;"><span style="box-sizing: border-box\; border-width: 0px\; border-style: solid\; border-color: currentcolor\; font-weight: bolder\; margin: 0px\; line-height: 28px\;">Dacia Coffey - CEO of The Marketing Blender</span></p>\n\n<p style="box-sizing: border-box\; border-width: 0px\; border-style: solid\; border-color: currentcolor\; margin: 0px\; font-family: Lato\, Helvetica\, Arial\, &quot\;sans-serif&quot\;\; font-size: 20px\; line-height: 28px\; color: rgb(70\, 70\, 72)\; margin-block: 24px\; background-color: rgb(255\, 255\, 255)\;"><span style="box-sizing: border-box\; border-width: 0px\; border-style: solid\; border-color: currentcolor\;">CEOs and sales leaders from around the world call on Dacia Coffey to break through revenue plateaus and maximize sales and marketing efforts. A renowned marketing and brand strategist\, Dacia is a Fractional Chief Marketing Officer and the CEO of The Marketing Blender\, an award-winning B2B sales and marketing alignment agency. She&rsquo\;s the author of Corporate Caffeine\, host of the award-winning podcast The Marketing Blender Show\, was named an Inc Magazine Entrepreneur of the Year\, and was also tapped as an American Advertising Federation &ldquo\;Shooting Star&rdquo\;.&nbsp\;She&rsquo\;s also the author and podcast host of Corporate Caffeine\, and an internationally recognized speaker helping people unleash individual and organizational potential. Drawing from her experience as a top-tier sales professional\, copywriter and three-time business owner\, Dacia&rsquo\;s high-energy style and surprising insights deliver motivation and actionable tips to catalyze change and growth.</span></p>\n</div>\n</div>\n</div>\n</score-wysiwyg></div>\n</score-container><score-container container-width="narrow" content-align="left" style="box-sizing: border-box\; border-width: 0px\; border-style: solid\; border-color: currentcolor\;" top-margin="space-2xl">\n<div class="container narrow " style="margin-top: 64px\; box-sizing: inherit\; --container-padding: clamp(1.00rem\,calc(-0.43rem + 7.16vw)\,7.00rem)\; width: 1079.36px\; margin-right: auto\; margin-left: auto\; padding-right: 107.68px\; padding-left: 107.68px\; max-width: 1079.36px\; --container-max-content-width: 864px\;"><slot style="box-sizing: inherit\;"><score-social-links content-align="center" fb-link="https://www.facebook.com" has-separator="" li-link="https://www.linkedin.com" mail-to="mail@example.com?subject=Take%20a%20look%20at%20this%20resource%20from%20SCORE&amp\;body=I%20thought%20this%20resource%20from%20SCORE%20would%20be%20of%20interest%20to%20you%3A%0A%0A05-27-26%20-%20Session%205%20-%20Closing%20the%20Loop%3A%20Sales%20Success%20%26amp%3B%20Winning%20Deals%3A%20https%3A%2F%2Fwww.score.org%2Fnorthchicago%2Fevent%2F05-27-26-session-5-closing-loop-sales-success-winning-deals" screen-reader-text="Share This event" share-page-url="https://www.score.org/northchicago/event/05-27-26-session-5-closing-loop-sales-success-winning-deals" style="box-sizing: border-box\; border-width: 0px\; border-style: solid\; border-color: currentcolor\;" tw-link="https://www.twitter.com"> </score-social-links></slot></div>\n</score-container></section>\n</score-section></div>\n</div>\n
LOCATION:Webinar
UID:e.2844.10443
SEQUENCE:3
DTSTAMP:20260422T010813Z
URL:https://business.sunprairiechamber.com/events/details/score-session-5-closing-the-loop-sales-success-winning-deals-live-event-online-10443
END:VEVENT

END:VCALENDAR
