BEGIN:VCALENDAR
VERSION:2.0
PRODID:-//ChamberMaster//Event Calendar 2.0//EN
METHOD:PUBLISH
X-PUBLISHED-TTL:P3D
REFRESH-INTERVAL:P3D
CALSCALE:GREGORIAN
BEGIN:VEVENT
DTSTART:20260513T170000Z
DTEND:20260513T183000Z
X-MICROSOFT-CDO-ALLDAYEVENT:FALSE
SUMMARY:SCORE: Session 4 - Lead Generation That Works: Build a Predictable Pipeline
DESCRIPTION:Lead generation shouldn't feel like gambling. In this session\, we'll break down the lead gen strategies that consistently work for small businesses and what you shouldn't invest in (because not everything "works\," even if someone on the internet swears it does). You'll see Blender case studies that show how small shifts create big pipeline results plus where AI can streamline content\, targeting\, and follow-up in smart\, realistic ways.\n\nYou'll learn:\n\n\n	The difference between "marketing activity" and a real pipeline system\n	What tends to waste money (and why)\n	How to build momentum with lead gen that matches your budget and bandwidth\n\n\nCate Hollowitsch | Chief Marketing Officer\n\nCate Hollowitsch is an energetic\, results-driven fractional CMO with more than 30 years of experience. Her business success earned her a 2024 and 2025 spot as a Titan of Industry and the 2024 Female Executive of the Year by the Stevie Awards. She is a 2024 TEDx Thought Leader\, and the author of Confidence Counts and Mastering the Game of Office Politics. Known for her strategic vision and innovative approach\, Cate has successfully led numerous market-defining campaigns and brand strategies. Cate is an adjunct professor in digital marketing and an international keynote speaker.
X-ALT-DESC;FMTTYPE=text/html:<p style="box-sizing: border-box\; border-width: 0px\; border-style: solid\; border-color: currentcolor\; margin: 0px\; font-family: Lato\, Helvetica\, Arial\, &quot\;sans-serif&quot\;\; font-size: 20px\; line-height: 28px\; color: rgb(70\, 70\, 72)\; margin-block: 24px\; background-color: rgb(255\, 255\, 255)\;"><span style="box-sizing: border-box\; border-width: 0px\; border-style: solid\; border-color: currentcolor\;">Lead generation shouldn&rsquo\;t feel like gambling. In this session\, we&rsquo\;ll break down the lead gen strategies that consistently work for small businesses&mdash\;and&nbsp\;</span><span style="box-sizing: border-box\; border-width: 0px\; border-style: solid\; border-color: currentcolor\; font-weight: bolder\; margin: 0px\; line-height: 28px\;">what you shouldn&rsquo\;t invest in</span><span style="box-sizing: border-box\; border-width: 0px\; border-style: solid\; border-color: currentcolor\;">&nbsp\;(because not everything &ldquo\;works\,&rdquo\; even if someone on the internet swears it does). You&rsquo\;ll see Blender case studies that show how small shifts create big pipeline results&mdash\;plus where AI can streamline content\, targeting\, and follow-up in smart\, realistic ways.</span></p>\n\n<p style="box-sizing: border-box\; border-width: 0px\; border-style: solid\; border-color: currentcolor\; margin: 0px\; font-family: Lato\, Helvetica\, Arial\, &quot\;sans-serif&quot\;\; font-size: 20px\; line-height: 28px\; color: rgb(70\, 70\, 72)\; margin-block: 24px\; background-color: rgb(255\, 255\, 255)\;"><span style="box-sizing: border-box\; border-width: 0px\; border-style: solid\; border-color: currentcolor\; font-weight: bolder\; margin: 0px\; line-height: 28px\;">You&rsquo\;ll learn:</span></p>\n\n<ul style="box-sizing: border-box\; border-width: 0px\; border-style: solid\; border-color: currentcolor\; list-style: disc\; margin: 0px\; padding: 0px 40px\; margin-block: 24px\; font-family: ui-sans-serif\, system-ui\, sans-serif\, &quot\;Apple Color Emoji&quot\;\, &quot\;Segoe UI Emoji&quot\;\, &quot\;Segoe UI Symbol&quot\;\, &quot\;Noto Color Emoji&quot\;\; background-color: rgb(255\, 255\, 255)\;">\n	<li style="box-sizing: border-box\; border-width: 0px\; border-style: solid\; border-color: currentcolor\; padding-left: 12px\; font-family: Lato\, Helvetica\, Arial\, &quot\;sans-serif&quot\;\; line-height: 28px\; color: rgb(70\, 70\, 72)\; font-size: 18px\; margin-block-end: 1rem\;"><span style="box-sizing: border-box\; border-width: 0px\; border-style: solid\; border-color: currentcolor\;">The difference between &ldquo\;marketing activity&rdquo\; and a real pipeline system</span></li>\n	<li style="box-sizing: border-box\; border-width: 0px\; border-style: solid\; border-color: currentcolor\; padding-left: 12px\; font-family: Lato\, Helvetica\, Arial\, &quot\;sans-serif&quot\;\; line-height: 28px\; color: rgb(70\, 70\, 72)\; font-size: 18px\; margin-block-end: 1rem\;"><span style="box-sizing: border-box\; border-width: 0px\; border-style: solid\; border-color: currentcolor\;">What tends to waste money (and why)</span></li>\n	<li style="box-sizing: border-box\; border-width: 0px\; border-style: solid\; border-color: currentcolor\; padding-left: 12px\; font-family: Lato\, Helvetica\, Arial\, &quot\;sans-serif&quot\;\; line-height: 28px\; color: rgb(70\, 70\, 72)\; font-size: 18px\;"><span style="box-sizing: border-box\; border-width: 0px\; border-style: solid\; border-color: currentcolor\;">How to build momentum with lead gen that matches your budget and bandwidth</span></li>\n</ul>\n\n<p style="box-sizing: border-box\; border-width: 0px\; border-style: solid\; border-color: currentcolor\; margin: 0px\; font-family: Lato\, Helvetica\, Arial\, &quot\;sans-serif&quot\;\; font-size: 20px\; line-height: 28px\; color: rgb(70\, 70\, 72)\; margin-block: 24px\; background-color: rgb(255\, 255\, 255)\;"><span style="box-sizing: border-box\; border-width: 0px\; border-style: solid\; border-color: currentcolor\; font-weight: bolder\; margin: 0px\; line-height: 28px\;">Cate Hollowitsch | Chief Marketing Officer</span></p>\n\n<p style="box-sizing: border-box\; border-width: 0px\; border-style: solid\; border-color: currentcolor\; margin: 0px\; font-family: Lato\, Helvetica\, Arial\, &quot\;sans-serif&quot\;\; font-size: 20px\; line-height: 28px\; color: rgb(70\, 70\, 72)\; margin-block: 24px\; background-color: rgb(255\, 255\, 255)\;"><span style="box-sizing: border-box\; border-width: 0px\; border-style: solid\; border-color: currentcolor\;">Cate Hollowitsch is an energetic\, results-driven fractional CMO with more than 30 years of experience. Her business success earned her a 2024 and 2025 spot as a Titan of Industry and the 2024 Female Executive of the Year by the Stevie Awards.&nbsp\;She is a 2024 TEDx Thought Leader\, and the author of Confidence Counts and Mastering the Game of Office Politics.&nbsp\;Known for her strategic vision and innovative approach\, Cate has successfully led numerous market-defining campaigns and brand strategies. Cate is an adjunct professor in digital marketing and an international keynote speaker.</span></p>\n
LOCATION:Webinar
UID:e.2844.10431
SEQUENCE:3
DTSTAMP:20260422T001428Z
URL:https://business.sunprairiechamber.com/events/details/score-session-4-lead-generation-that-works-build-a-predictable-pipeline-10431
END:VEVENT

END:VCALENDAR
