BEGIN:VCALENDAR
VERSION:2.0
PRODID:-//ChamberMaster//Event Calendar 2.0//EN
METHOD:PUBLISH
X-PUBLISHED-TTL:P3D
REFRESH-INTERVAL:P3D
CALSCALE:GREGORIAN
BEGIN:VEVENT
DTSTART:20260515T160000Z
DTEND:20260515T173000Z
X-MICROSOFT-CDO-ALLDAYEVENT:FALSE
SUMMARY:SCORE: Marketing 101 - Basic Marketing Training
DESCRIPTION:This workshop is all about mastering the basic of Marketing . In this workshop we talk through everything a small business needs to set up a solid marketing foundation from which they can grow their business. This includes: target audience\, brand pillars\, content strategy\, mission statement\, and more.\n\nThe Facilitator for this Workshop is Miranda Rodriguez. Miranda is the Small Business Coordinator at the Illinois Small Business Development Center at Waubonsee Community College in Aurora\, Illinois. She is a\n\nMarketing Strategist by trade\, and formerly a Marketing Consultant and Coach at\n\nMarketing for the Uninhibited\, a Marketing Consulting Company that she founded in 2017. Miranda helped a lot of small businesses develop Marketing Strategies\, and Marketing Plans that enhanced these Companie's Revenues.
X-ALT-DESC;FMTTYPE=text/html:<p style="box-sizing: border-box\; border-width: 0px\; border-style: solid\; border-color: currentcolor\; margin: 0px\; font-family: Lato\, Helvetica\, Arial\, &quot\;sans-serif&quot\;\; font-size: 20px\; line-height: 28px\; color: rgb(70\, 70\, 72)\; margin-block: 24px\; background-color: rgb(255\, 255\, 255)\;">This workshop is all about mastering the basic of Marketing . In this workshop we talk through everything a small business needs to set up a solid marketing foundation from which they can grow their business. This includes: target audience\, brand pillars\, content strategy\, mission statement\, and more.</p>\n\n<p style="box-sizing: border-box\; border-width: 0px\; border-style: solid\; border-color: currentcolor\; margin: 0px\; font-family: Lato\, Helvetica\, Arial\, &quot\;sans-serif&quot\;\; font-size: 20px\; line-height: 28px\; color: rgb(70\, 70\, 72)\; margin-block: 24px\; background-color: rgb(255\, 255\, 255)\;"><em style="box-sizing: border-box\; border-width: 0px\; border-style: solid\; border-color: currentcolor\;">The Facilitator for this Workshop is Miranda Rodriguez. Miranda is the Small Business Coordinator at the Illinois Small Business Development Center at Waubonsee Community College in Aurora\, Illinois. She is a</em></p>\n\n<p style="box-sizing: border-box\; border-width: 0px\; border-style: solid\; border-color: currentcolor\; margin: 0px\; font-family: Lato\, Helvetica\, Arial\, &quot\;sans-serif&quot\;\; font-size: 20px\; line-height: 28px\; color: rgb(70\, 70\, 72)\; margin-block: 24px\; background-color: rgb(255\, 255\, 255)\;"><em style="box-sizing: border-box\; border-width: 0px\; border-style: solid\; border-color: currentcolor\;">Marketing Strategist by trade\, and formerly a Marketing Consultant and Coach at</em></p>\n\n<p style="box-sizing: border-box\; border-width: 0px\; border-style: solid\; border-color: currentcolor\; margin: 0px\; font-family: Lato\, Helvetica\, Arial\, &quot\;sans-serif&quot\;\; font-size: 20px\; line-height: 28px\; color: rgb(70\, 70\, 72)\; margin-block: 24px\; background-color: rgb(255\, 255\, 255)\;"><em style="box-sizing: border-box\; border-width: 0px\; border-style: solid\; border-color: currentcolor\;">Marketing for the Uninhibited\, a Marketing Consulting Company that she founded in 2017. Miranda helped a lot of small businesses develop Marketing Strategies\, and Marketing Plans that enhanced these Companie&#39\;s Revenues.</em></p>\n
LOCATION:Webinar
UID:e.2844.10437
SEQUENCE:3
DTSTAMP:20260422T010649Z
URL:https://business.sunprairiechamber.com/events/details/score-marketing-101-basic-marketing-training-10437
END:VEVENT

END:VCALENDAR
