BEGIN:VCALENDAR
VERSION:2.0
PRODID:-//ChamberMaster//Event Calendar 2.0//EN
METHOD:PUBLISH
X-PUBLISHED-TTL:P3D
REFRESH-INTERVAL:P3D
CALSCALE:GREGORIAN
BEGIN:VEVENT
DTSTART:20250513T233000Z
DTEND:20250514T010000Z
X-MICROSOFT-CDO-ALLDAYEVENT:FALSE
SUMMARY:SCORE: Learn How To Use AI For Marketing\, Branding\, & Sales
DESCRIPTION:In this fast-paced\, hands on training \, ADHD & Overwhelm Coach Jennifer Richardson pulls back the curtain on how to use AI tools (like Chat GPT) to sound more like yourself\, not less. You will learn how to train ChatGPT to understand your brand voice\, tone\, and values so it becomes a Co-Creator that works with you \, not instead of you. Whether you are building a marketing strategy\, writing a lead magnet\, crafting a drip campaign\, or just staring at a blinking cursor\, Jenn's got you. This session blends clarity\, creativity\, and connection to help you turn ChatGPT into your marketing bestie .\n\n\n\nBy attending this Workshop you will learn: \n\nHow to "train"ChatGPT to understand and mimic your unique brand voice.\n\nThe five most powerful ways to use AI for small businesses marketing ( without sounding like a corporate robot)\n\nHow to brainstorm and build a lead generating sales funnel with Chat GPT's help - from idea to email sequence.\n\nThe best ChatGBT prompts to use when you are stuck and don't know what to say.\n\nHow to keep the human connection front and center while scaling your messaging.\n\nThe Facilitator for this Workshop is Jennifer Richardson. Jennifer is the founder of Contained Madness\, an ADHD & Overwhelm Coach\, and a professional organizer with over 12 years of experience helping people simplify\, systemize\, and scale. She specializes in practical tools for productivity and marketing \, teaching Entrepreneurs how to leverage AI to sound more like themselves\, not less.\n\n\n\nCo-Sponsored by the Crystal Lake\, IL. Public Library
X-ALT-DESC;FMTTYPE=text/html:<p style="box-sizing: border-box\; border-width: 0px\; border-style: solid\; border-color: currentcolor\; margin: 0px\; font-family: Lato\, Helvetica\, Arial\, &quot\;sans-serif&quot\;\; font-size: 20px\; line-height: 28px\; color: rgb(70\, 70\, 72)\; margin-block: 24px\;">In this fast-paced\, hands on training \, ADHD &amp\; Overwhelm Coach Jennifer Richardson pulls back the curtain on how to use AI tools (like Chat GPT) to sound more like yourself\, not less. You will learn how to train ChatGPT to understand your brand voice\, tone\, and values so it becomes a Co-Creator that works with you \, not instead of you. Whether you are building a marketing strategy\, writing a lead magnet\, crafting a drip campaign\, or just staring at a blinking cursor\, Jenn&#39\;s got you. This session blends clarity\, creativity\, and connection to help you turn ChatGPT into your marketing bestie .<br />\n<br />\nBy attending this Workshop you will learn:&#8203\;</p>\n\n<p style="box-sizing: border-box\; border-width: 0px\; border-style: solid\; border-color: currentcolor\; margin: 0px\; font-family: Lato\, Helvetica\, Arial\, &quot\;sans-serif&quot\;\; font-size: 20px\; line-height: 28px\; color: rgb(70\, 70\, 72)\; margin-block: 24px\;">How to &quot\;train&quot\;ChatGPT to understand and mimic your unique brand voice.<br />\nThe five most powerful ways to use AI for small businesses marketing ( without sounding like a corporate robot)<br />\nHow to brainstorm and build a lead generating sales funnel with Chat GPT&#39\;s help - from idea to email sequence.<br />\nThe best ChatGBT prompts to use when you are stuck and don&#39\;t know what to say.<br />\nHow to keep the human connection front and center while scaling your messaging.<br />\nThe Facilitator for this Workshop is Jennifer Richardson. Jennifer is the founder of Contained Madness\, an ADHD &amp\; Overwhelm Coach\, and a professional organizer with over 12 years of experience helping people simplify\, systemize\, and scale. She specializes in practical tools for productivity and marketing \, teaching Entrepreneurs how to leverage AI to sound more like themselves\, not less.<br />\n<br />\nCo-Sponsored by the Crystal Lake\, IL. Public Library</p>\n\n<p style="box-sizing: border-box\; border-width: 0px\; border-style: solid\; border-color: currentcolor\; margin: 0px\; font-family: Lato\, Helvetica\, Arial\, &quot\;sans-serif&quot\;\; font-size: 20px\; line-height: 28px\; color: rgb(70\, 70\, 72)\; margin-block: 24px\;">&#8203\;</p>\n\n<p style="box-sizing: border-box\; border-width: 0px\; border-style: solid\; border-color: currentcolor\; margin: 0px\; font-family: Lato\, Helvetica\, Arial\, &quot\;sans-serif&quot\;\; font-size: 20px\; line-height: 28px\; color: rgb(70\, 70\, 72)\; margin-block: 24px\;">&#8203\;</p>\n\n<p style="box-sizing: border-box\; border-width: 0px\; border-style: solid\; border-color: currentcolor\; margin: 0px\; font-family: Lato\, Helvetica\, Arial\, &quot\;sans-serif&quot\;\; font-size: 20px\; line-height: 28px\; color: rgb(70\, 70\, 72)\; margin-block: 24px\;">&#8203\;</p>\n\n<p style="box-sizing: border-box\; border-width: 0px\; border-style: solid\; border-color: currentcolor\; margin: 0px\; font-family: Lato\, Helvetica\, Arial\, &quot\;sans-serif&quot\;\; font-size: 20px\; line-height: 28px\; color: rgb(70\, 70\, 72)\; margin-block: 24px\;">&nbsp\;</p>\n
LOCATION:Register for Webinar: https://www.score.org/foxvalley/event/05-13-25-learn-how-use-ai-marketing-branding-sales?utm_source=newsletter&utm_medium=email&utm_campaign=central_region_events&utm_id=May2025
UID:e.2844.9935
SEQUENCE:3
DTSTAMP:20260422T140445Z
URL:https://business.sunprairiechamber.com/events/details/score-learn-how-to-use-ai-for-marketing-branding-sales-9935
END:VEVENT

END:VCALENDAR
