BEGIN:VCALENDAR
VERSION:2.0
PRODID:-//ChamberMaster//Event Calendar 2.0//EN
METHOD:PUBLISH
X-PUBLISHED-TTL:P3D
REFRESH-INTERVAL:P3D
CALSCALE:GREGORIAN
BEGIN:VEVENT
DTSTART:20260526T233000Z
DTEND:20260527T010000Z
X-MICROSOFT-CDO-ALLDAYEVENT:FALSE
SUMMARY:SCORE: Learn How to Scale Your Business So You Don't Implode
DESCRIPTION:Clarity Before Growth: Sustainable scaling starts with absolute clarity target customer\, value proposition\, and your top three strategic priorities. Growth without focus creates chaos\, not profit.\n\n       Build a Repeatable Revenue Engine: Scaling requires predictable sales. Establish a disciplined pipeline\, clear conversion metrics\, and a consistent customer acquisition process that can be measured and improved.\n\n       Systematize Operations: Document and standardize your core processes across delivery\, marketing\, and administration so the business can run through systems\, not just through you.\n\n       Strengthen Financial Control: Cash flow\, margins\, and capital allocation become critical at scale. Know your numbers weekly and ensure growth is profitable not just top-line expansion.\n\n       Leverage People and Technology: True scale comes from multiplying effort through the right hires\, strategic partners\, and smart use of technology (including AI) to increase output without linear cost increases.\n\nThe Facilitator for this Event is Steve Beaman. Steve brings over 40 years of real-world sales expertise to this session\, ensuring that the content is both authentic and impactful. Attendees consistently report increased confidence and improved results after participating one participant shared\, "This session changed the way I see sales forever!" Thank you for considering this opportunity to elevate your business skills. I look forward to seeing you at the Sales Warrior  session and am confident you'll find the experience both inspiring and practical.
X-ALT-DESC;FMTTYPE=text/html:<p style="box-sizing: border-box\; border-width: 0px\; border-style: solid\; border-color: currentcolor\; margin: 0px\; font-family: Lato\, Helvetica\, Arial\, &quot\;sans-serif&quot\;\; font-size: 20px\; line-height: 28px\; color: rgb(70\, 70\, 72)\; margin-block: 24px\; background-color: rgb(255\, 255\, 255)\;"><span style="box-sizing: border-box\; border-width: 0px\; border-style: solid\; border-color: currentcolor\;">&middot\;</span><span style="box-sizing: border-box\; border-width: 0px\; border-style: solid\; border-color: currentcolor\;">&nbsp\;&nbsp\;&nbsp\;&nbsp\;&nbsp\;&nbsp\;</span><span style="box-sizing: border-box\; border-width: 0px\; border-style: solid\; border-color: currentcolor\; font-weight: bolder\; margin: 0px\; line-height: 28px\;">Clarity Before Growth:&nbsp\;</span>Sustainable scaling starts with absolute clarity&mdash\;target customer\, value proposition\, and your top three strategic priorities. Growth without focus creates chaos\, not profit.</p>\n\n<p style="box-sizing: border-box\; border-width: 0px\; border-style: solid\; border-color: currentcolor\; margin: 0px\; font-family: Lato\, Helvetica\, Arial\, &quot\;sans-serif&quot\;\; font-size: 20px\; line-height: 28px\; color: rgb(70\, 70\, 72)\; margin-block: 24px\; background-color: rgb(255\, 255\, 255)\;"><span style="box-sizing: border-box\; border-width: 0px\; border-style: solid\; border-color: currentcolor\;">&middot\;</span><span style="box-sizing: border-box\; border-width: 0px\; border-style: solid\; border-color: currentcolor\;">&nbsp\;&nbsp\;&nbsp\;&nbsp\;&nbsp\;&nbsp\;</span><span style="box-sizing: border-box\; border-width: 0px\; border-style: solid\; border-color: currentcolor\; font-weight: bolder\; margin: 0px\; line-height: 28px\;">Build a Repeatable Revenue Engine:&nbsp\;</span>Scaling requires predictable sales. Establish a disciplined pipeline\, clear conversion metrics\, and a consistent customer acquisition process that can be measured and improved.</p>\n\n<p style="box-sizing: border-box\; border-width: 0px\; border-style: solid\; border-color: currentcolor\; margin: 0px\; font-family: Lato\, Helvetica\, Arial\, &quot\;sans-serif&quot\;\; font-size: 20px\; line-height: 28px\; color: rgb(70\, 70\, 72)\; margin-block: 24px\; background-color: rgb(255\, 255\, 255)\;"><span style="box-sizing: border-box\; border-width: 0px\; border-style: solid\; border-color: currentcolor\;">&middot\;</span><span style="box-sizing: border-box\; border-width: 0px\; border-style: solid\; border-color: currentcolor\;">&nbsp\;&nbsp\;&nbsp\;&nbsp\;&nbsp\;&nbsp\;</span><span style="box-sizing: border-box\; border-width: 0px\; border-style: solid\; border-color: currentcolor\; font-weight: bolder\; margin: 0px\; line-height: 28px\;">Systematize Operations:&nbsp\;</span>Document and standardize your core processes across delivery\, marketing\, and administration so the business can run through systems\, not just through you.</p>\n\n<p style="box-sizing: border-box\; border-width: 0px\; border-style: solid\; border-color: currentcolor\; margin: 0px\; font-family: Lato\, Helvetica\, Arial\, &quot\;sans-serif&quot\;\; font-size: 20px\; line-height: 28px\; color: rgb(70\, 70\, 72)\; margin-block: 24px\; background-color: rgb(255\, 255\, 255)\;"><span style="box-sizing: border-box\; border-width: 0px\; border-style: solid\; border-color: currentcolor\;">&middot\;</span><span style="box-sizing: border-box\; border-width: 0px\; border-style: solid\; border-color: currentcolor\;">&nbsp\;&nbsp\;&nbsp\;&nbsp\;&nbsp\;&nbsp\;</span><span style="box-sizing: border-box\; border-width: 0px\; border-style: solid\; border-color: currentcolor\; font-weight: bolder\; margin: 0px\; line-height: 28px\;">Strengthen Financial Control:&nbsp\;</span>Cash flow\, margins\, and capital allocation become critical at scale. Know your numbers weekly and ensure growth is profitable&mdash\;not just top-line expansion.</p>\n\n<p style="box-sizing: border-box\; border-width: 0px\; border-style: solid\; border-color: currentcolor\; margin: 0px\; font-family: Lato\, Helvetica\, Arial\, &quot\;sans-serif&quot\;\; font-size: 20px\; line-height: 28px\; color: rgb(70\, 70\, 72)\; margin-block: 24px\; background-color: rgb(255\, 255\, 255)\;"><span style="box-sizing: border-box\; border-width: 0px\; border-style: solid\; border-color: currentcolor\;">&middot\;</span><span style="box-sizing: border-box\; border-width: 0px\; border-style: solid\; border-color: currentcolor\;">&nbsp\;&nbsp\;&nbsp\;&nbsp\;&nbsp\;&nbsp\;</span><span style="box-sizing: border-box\; border-width: 0px\; border-style: solid\; border-color: currentcolor\; font-weight: bolder\; margin: 0px\; line-height: 28px\;">Leverage People and Technology:&nbsp\;</span>True scale comes from multiplying effort&mdash\;through the right hires\, strategic partners\, and smart use of technology (including AI) to increase output without linear cost increases.</p>\n\n<p style="box-sizing: border-box\; border-width: 0px\; border-style: solid\; border-color: currentcolor\; margin: 0px\; font-family: Lato\, Helvetica\, Arial\, &quot\;sans-serif&quot\;\; font-size: 20px\; line-height: 28px\; color: rgb(70\, 70\, 72)\; margin-block: 24px\; background-color: rgb(255\, 255\, 255)\;">The Facilitator for this Event is Steve Beaman. Steve brings over 40 years of real-world sales expertise to this session\, ensuring that the content is both authentic and impactful. Attendees consistently report increased confidence and improved results after participating&mdash\;one participant shared\, &quot\;This session changed the way I see sales forever!&quot\; Thank you for considering this opportunity to elevate your business skills. I look forward to seeing you at the Sales Warrior&trade\; session and am confident you&rsquo\;ll find the experience both inspiring and practical.&nbsp\;</p>\n
LOCATION:Webinar
UID:e.2844.10442
SEQUENCE:3
DTSTAMP:20260422T010246Z
URL:https://business.sunprairiechamber.com/events/details/score-learn-how-to-scale-your-business-so-you-don-t-implode-10442
END:VEVENT

END:VCALENDAR
