BEGIN:VCALENDAR
VERSION:2.0
PRODID:-//ChamberMaster//Event Calendar 2.0//EN
METHOD:PUBLISH
X-PUBLISHED-TTL:P3D
REFRESH-INTERVAL:P3D
CALSCALE:GREGORIAN
BEGIN:VEVENT
DTSTART:20240130T180000Z
DTEND:20240130T190000Z
X-MICROSOFT-CDO-ALLDAYEVENT:FALSE
SUMMARY:SCORE - How to Use Artificial Intelligence in Your Business
DESCRIPTION:How to Use Artificial Intelligence in Your Business: A Step-by-Step Guide\nArtificial intelligence has emerged as a revolutionary tool for start-ups and small businesses. However\, using AI successfully requires strategy and a good understanding of the AI tool's applications\, challenges and best practices.\n\nIn this webinar\, our expert presenter will break down the different AI tools available to you and guide you through a six-step process for effectively deploying AI into your business operations. \n\nYou will learn:\n\n\n	How AI functions and potential applications\n	A six-step process for implementing AI tools in your business\n	Actionable strategies for using AI in prospecting\, negotiation\, and closing deals to drive business growth and success\n\n\nWhether you are an executive\, a manager or an aspiring entrepreneur\, this webinar is designed to equip you with the knowledge and tools to leverage AI's transformative capabilities.
X-ALT-DESC;FMTTYPE=text/html:<span style="color: rgb(13\, 61\, 114)\; font-family: Jost\, Helvetica\, Arial\, &quot\;sans-serif&quot\;\; font-size: 64px\; font-weight: 600\; letter-spacing: -1px\; background-color: rgb(255\, 255\, 255)\;">How to Use Artificial Intelligence in Your Business: A Step-by-Step Guide</span>\n<p style="box-sizing: border-box\; border-width: 0px\; border-style: solid\; border-color: currentcolor\; margin: 0px\; font-family: var(--ff-body)\; font-size: var(--fs-xl)\; line-height: var(--lh-xl)\; color: var(--brand-secondaryGraphite)\; margin-block-start: var(--wysiwyg-gap-size)\; margin-block-end: var(--wysiwyg-gap-size)\; background-color: rgb(255\, 255\, 255)\;">Artificial intelligence has emerged as a revolutionary tool for start-ups and small businesses. However\, using AI successfully requires strategy and a good understanding of the AI tool&#39\;s applications\, challenges and best practices.</p>\n\n<p style="box-sizing: border-box\; border-width: 0px\; border-style: solid\; border-color: currentcolor\; margin: 0px\; font-family: var(--ff-body)\; font-size: var(--fs-xl)\; line-height: var(--lh-xl)\; color: var(--brand-secondaryGraphite)\; margin-block-start: var(--wysiwyg-gap-size)\; margin-block-end: var(--wysiwyg-gap-size)\; background-color: rgb(255\, 255\, 255)\;">In this webinar\, our expert presenter will break down the different AI tools available to you and guide you through a six-step process for effectively deploying AI into your business operations.&nbsp\;</p>\n\n<p style="box-sizing: border-box\; border-width: 0px\; border-style: solid\; border-color: currentcolor\; margin: 0px\; font-family: var(--ff-body)\; font-size: var(--fs-xl)\; line-height: var(--lh-xl)\; color: var(--brand-secondaryGraphite)\; margin-block-start: var(--wysiwyg-gap-size)\; margin-block-end: var(--wysiwyg-gap-size)\; background-color: rgb(255\, 255\, 255)\;">You will learn:</p>\n\n<ul dir="ltr" style="box-sizing: border-box\; border-width: 0px\; border-style: solid\; border-color: currentcolor\; list-style-position: initial\; list-style-image: initial\; margin: 0px\; padding: 0px 40px\; margin-block-start: var(--wysiwyg-gap-size)\; margin-block-end: var(--wysiwyg-gap-size)\; font-family: ui-sans-serif\, system-ui\, -apple-system\, BlinkMacSystemFont\, &quot\;Segoe UI&quot\;\, Roboto\, &quot\;Helvetica Neue&quot\;\, Arial\, &quot\;Noto Sans&quot\;\, sans-serif\, &quot\;Apple Color Emoji&quot\;\, &quot\;Segoe UI Emoji&quot\;\, &quot\;Segoe UI Symbol&quot\;\, &quot\;Noto Color Emoji&quot\;\; background-color: rgb(255\, 255\, 255)\;">\n	<li style="box-sizing: border-box\; border-width: 0px\; border-style: solid\; border-color: currentcolor\; padding-left: 12px\; font-family: var(--ff-body)\; line-height: var(--lh-lg)\; color: var(--brand-secondaryGraphite)\; font-size: var(--fs-lg)\; margin-block-end: 1rem\;">How AI functions and potential applications</li>\n	<li style="box-sizing: border-box\; border-width: 0px\; border-style: solid\; border-color: currentcolor\; padding-left: 12px\; font-family: var(--ff-body)\; line-height: var(--lh-lg)\; color: var(--brand-secondaryGraphite)\; font-size: var(--fs-lg)\; margin-block-end: 1rem\;">A six-step process for implementing AI tools in your business</li>\n	<li style="box-sizing: border-box\; border-width: 0px\; border-style: solid\; border-color: currentcolor\; padding-left: 12px\; font-family: var(--ff-body)\; line-height: var(--lh-lg)\; color: var(--brand-secondaryGraphite)\; font-size: var(--fs-lg)\;">Actionable strategies for using AI in prospecting\, negotiation\, and closing deals to drive business growth and success</li>\n</ul>\n\n<p style="box-sizing: border-box\; border-width: 0px\; border-style: solid\; border-color: currentcolor\; margin: 0px\; font-family: var(--ff-body)\; font-size: var(--fs-xl)\; line-height: var(--lh-xl)\; color: var(--brand-secondaryGraphite)\; margin-block-start: var(--wysiwyg-gap-size)\; margin-block-end: var(--wysiwyg-gap-size)\; background-color: rgb(255\, 255\, 255)\;">Whether you are an executive\, a manager or an aspiring entrepreneur\, this webinar is designed to equip you with the knowledge and tools to leverage AI&#39\;s transformative capabilities.</p>\n<br />\n<br />\n&nbsp\;
LOCATION:
UID:e.2844.8569
SEQUENCE:3
DTSTAMP:20260425T140928Z
URL:https://business.sunprairiechamber.com/events/details/score-how-to-use-artificial-intelligence-in-your-business-8569
END:VEVENT

END:VCALENDAR
