BEGIN:VCALENDAR
VERSION:2.0
PRODID:-//ChamberMaster//Event Calendar 2.0//EN
METHOD:PUBLISH
X-PUBLISHED-TTL:P3D
REFRESH-INTERVAL:P3D
CALSCALE:GREGORIAN
BEGIN:VEVENT
DTSTART:20260511T150000Z
DTEND:20260511T163000Z
X-MICROSOFT-CDO-ALLDAYEVENT:FALSE
SUMMARY:SCORE: How To USE AI To Streamline A NonProfit's Operations
DESCRIPTION:How to Use AI to Streamline Operations\n\nThis is for those nonprofits who have heard of AI but don't know where to begin. Participants will be provided with live examples plus a 30 day plan to incorporate AI in your daily operations.\n\nTopics discussed will include the following:\n\nWriting emails\n\nWriting Thank-you letters\n\nStreamlining Media posts\n\nSCORE Fox Valley Member Sonja Baille-David has an extensive background in Professionally Consulting for Nonprofits and will facilitate this Workshop/Focused Interactive Discussion. Sonja is a CPA and MBA. She has "hands on" experience in manufacturing and service operation\, plus 8 years of NonProfit experience including Grant Management\, and Donor Reporting
X-ALT-DESC;FMTTYPE=text/html:<p style="box-sizing: border-box\; border-width: 0px\; border-style: solid\; border-color: currentcolor\; margin: 0px\; font-family: Lato\, Helvetica\, Arial\, &quot\;sans-serif&quot\;\; font-size: 20px\; line-height: 28px\; color: rgb(70\, 70\, 72)\; margin-block: 24px\; background-color: rgb(255\, 255\, 255)\;">How to Use AI to Streamline Operations</p>\n\n<p style="box-sizing: border-box\; border-width: 0px\; border-style: solid\; border-color: currentcolor\; margin: 0px\; font-family: Lato\, Helvetica\, Arial\, &quot\;sans-serif&quot\;\; font-size: 20px\; line-height: 28px\; color: rgb(70\, 70\, 72)\; margin-block: 24px\; background-color: rgb(255\, 255\, 255)\;">This is for those nonprofits who have heard of AI but don&#39\;t know where to begin.&nbsp\;Participants will be provided with live examples plus a 30 day plan to incorporate AI in your daily operations.</p>\n\n<p style="box-sizing: border-box\; border-width: 0px\; border-style: solid\; border-color: currentcolor\; margin: 0px\; font-family: Lato\, Helvetica\, Arial\, &quot\;sans-serif&quot\;\; font-size: 20px\; line-height: 28px\; color: rgb(70\, 70\, 72)\; margin-block: 24px\; background-color: rgb(255\, 255\, 255)\;">Topics discussed will include the following:<br />\nWriting emails<br />\nWriting Thank-you letters<br />\nStreamlining Media posts</p>\n\n<p style="box-sizing: border-box\; border-width: 0px\; border-style: solid\; border-color: currentcolor\; margin: 0px\; font-family: Lato\, Helvetica\, Arial\, &quot\;sans-serif&quot\;\; font-size: 20px\; line-height: 28px\; color: rgb(70\, 70\, 72)\; margin-block: 24px\; background-color: rgb(255\, 255\, 255)\;"><span style="box-sizing: border-box\; border-width: 0px\; border-style: solid\; border-color: currentcolor\;">SCORE Fox Valley Member Sonja Baille-David has an extensive background in Professionally Consulting for Nonprofits and will facilitate this Workshop/Focused Interactive Discussion. Sonja is a CPA and MBA. She has &quot\;hands on&quot\; experience in manufacturing and service operation\, plus 8 years of NonProfit experience including Grant Management\, and Donor Reporting</span></p>\n
LOCATION:Webinar
UID:e.2844.10427
SEQUENCE:3
DTSTAMP:20260422T001648Z
URL:https://business.sunprairiechamber.com/events/details/score-how-to-use-ai-to-streamline-a-nonprofit-s-operations-10427
END:VEVENT

END:VCALENDAR
