BEGIN:VCALENDAR
VERSION:2.0
PRODID:-//ChamberMaster//Event Calendar 2.0//EN
METHOD:PUBLISH
X-PUBLISHED-TTL:P3D
REFRESH-INTERVAL:P3D
CALSCALE:GREGORIAN
BEGIN:VEVENT
DTSTART:20260528T233000Z
DTEND:20260529T010000Z
X-MICROSOFT-CDO-ALLDAYEVENT:FALSE
SUMMARY:SCORE: How to Turn Your Business Knowledge into a Scalable\, AI-Powered System
DESCRIPTION:Most small businesses are sitting on a goldmine of knowledge but they don't have a system to\n\nYour website\, documents\, emails\, processes\, and expertise contain everything needed to improve your marketing\, streamline operations\, and make better decisions. The challenge is that this information is scattered\, underutilized\, and difficult to apply consistently.\n\nIn this session\, you'll learn how to turn your existing business knowledge into a scalable system that works for you. We'll explore a practical framework for organizing and using your information so that it can support content creation\, customer communication\, and internal workflows without starting from scratch every time.\n\nYou'll also see how this approach helps eliminate common frustrations with AI\, including inconsistent outputs\, wasted time\, and lack of control. This webinar is about building a system that allows your business to operate more efficiently\, think more clearly\, and scale with confidence.\n\n \n\nColin Gonsalves is the Chief Strategy Officer of ZenPath AI and a co-owner of Ascend Therapy. With over 20 years of experience at Microsoft and within global firms like Symantec and Bank of Montreal\, Colin specializes in the intersection of AI implementation\, project management\, and change management. He is the architect of the Human-Governed Orchestration Framework (HGOF) a methodology designed to help organizations navigate the complex transition to AI while maintaining absolute human oversight and brand integrity. As an executive consultant\, Colin facilitates specialized workshops that go beyond the technical "how-to\," providing leadership teams with the changemanagement roadmap necessary to move from scattered tools to unified\, scalable systems.\n\nHis approach is grounded in real-world application\, having successfully integrated these AI-powered workflows into the operations of his own multi-disciplinary healthcare practice. A certified expert in digital marketing and analytics\, Colin's mission is to help executives architect        "Private Strategic Vaults" that turn institutional knowledge into a measurable\, competitive advantage.
X-ALT-DESC;FMTTYPE=text/html:<p style="box-sizing: border-box\; border-width: 0px\; border-style: solid\; border-color: currentcolor\; margin: 0px\; font-family: Lato\, Helvetica\, Arial\, &quot\;sans-serif&quot\;\; font-size: 20px\; line-height: 28px\; color: rgb(70\, 70\, 72)\; margin-block: 24px\; background-color: rgb(255\, 255\, 255)\;">Most small businesses are sitting on a goldmine of knowledge&mdash\;but they don&rsquo\;t have a system to</p>\n\n<p style="box-sizing: border-box\; border-width: 0px\; border-style: solid\; border-color: currentcolor\; margin: 0px\; font-family: Lato\, Helvetica\, Arial\, &quot\;sans-serif&quot\;\; font-size: 20px\; line-height: 28px\; color: rgb(70\, 70\, 72)\; margin-block: 24px\; background-color: rgb(255\, 255\, 255)\;">Your website\, documents\, emails\, processes\, and expertise contain everything needed to improve your marketing\, streamline operations\, and make better decisions. The challenge is that this information is scattered\, underutilized\, and difficult to apply consistently.</p>\n\n<p style="box-sizing: border-box\; border-width: 0px\; border-style: solid\; border-color: currentcolor\; margin: 0px\; font-family: Lato\, Helvetica\, Arial\, &quot\;sans-serif&quot\;\; font-size: 20px\; line-height: 28px\; color: rgb(70\, 70\, 72)\; margin-block: 24px\; background-color: rgb(255\, 255\, 255)\;">In this session\, you&rsquo\;ll learn how to turn your existing business knowledge into a scalable system that works for you. We&rsquo\;ll explore a practical framework for organizing and using your information so that it can support content creation\, customer communication\, and internal workflows&mdash\;without starting from scratch every time.</p>\n\n<p style="box-sizing: border-box\; border-width: 0px\; border-style: solid\; border-color: currentcolor\; margin: 0px\; font-family: Lato\, Helvetica\, Arial\, &quot\;sans-serif&quot\;\; font-size: 20px\; line-height: 28px\; color: rgb(70\, 70\, 72)\; margin-block: 24px\; background-color: rgb(255\, 255\, 255)\;">You&rsquo\;ll also see how this approach helps eliminate common frustrations with AI\, including inconsistent outputs\, wasted time\, and lack of control. This webinar is about building a system that allows your business to operate more efficiently\, think more clearly\, and scale with confidence.</p>\n\n<p style="box-sizing: border-box\; border-width: 0px\; border-style: solid\; border-color: currentcolor\; margin: 0px\; font-family: Lato\, Helvetica\, Arial\, &quot\;sans-serif&quot\;\; font-size: 20px\; line-height: 28px\; color: rgb(70\, 70\, 72)\; margin-block: 24px\; background-color: rgb(255\, 255\, 255)\;">&nbsp\;</p>\n\n<p style="box-sizing: border-box\; border-width: 0px\; border-style: solid\; border-color: currentcolor\; margin: 0px\; font-family: Lato\, Helvetica\, Arial\, &quot\;sans-serif&quot\;\; font-size: 20px\; line-height: 28px\; color: rgb(70\, 70\, 72)\; margin-block: 24px\; background-color: rgb(255\, 255\, 255)\;">Colin Gonsalves is the Chief Strategy Officer of ZenPath AI and a co-owner of Ascend Therapy. With over 20 years of experience at Microsoft and within global firms like Symantec and Bank of Montreal\, Colin specializes in the intersection of AI implementation\, project management\, and change management. He is the architect of the Human-Governed Orchestration Framework (HGOF)&mdash\;a methodology designed to help organizations navigate the complex transition to AI while maintaining absolute human oversight and brand integrity. As an executive consultant\, Colin facilitates specialized workshops that go beyond the technical &quot\;how-to\,&quot\; providing leadership teams with the changemanagement roadmap necessary to move from scattered tools to unified\, scalable systems.</p>\n\n<p style="box-sizing: border-box\; border-width: 0px\; border-style: solid\; border-color: currentcolor\; margin: 0px\; font-family: Lato\, Helvetica\, Arial\, &quot\;sans-serif&quot\;\; font-size: 20px\; line-height: 28px\; color: rgb(70\, 70\, 72)\; margin-block: 24px\; background-color: rgb(255\, 255\, 255)\;">His approach is grounded in real-world application\, having successfully integrated these AI-powered workflows into the operations of his own multi-disciplinary healthcare practice. A certified expert in digital marketing and analytics\, Colin&rsquo\;s mission is to help executives architect&nbsp\; &nbsp\; &nbsp\; &nbsp\; &quot\;Private Strategic Vaults&quot\; that turn institutional knowledge into a measurable\, competitive advantage.</p>\n
LOCATION:Webinar
UID:e.2844.10445
SEQUENCE:3
DTSTAMP:20260422T094047Z
URL:https://business.sunprairiechamber.com/events/details/score-how-to-turn-your-business-knowledge-into-a-scalable-ai-powered-system-10445
END:VEVENT

END:VCALENDAR
