BEGIN:VCALENDAR
VERSION:2.0
PRODID:-//ChamberMaster//Event Calendar 2.0//EN
METHOD:PUBLISH
X-PUBLISHED-TTL:P3D
REFRESH-INTERVAL:P3D
CALSCALE:GREGORIAN
BEGIN:VEVENT
DTSTART:20260519T233000Z
DTEND:20260520T010000Z
X-MICROSOFT-CDO-ALLDAYEVENT:FALSE
SUMMARY:SCORE: Growing Your Business & Profit Exponentially
DESCRIPTION:Are you tired of chasing revenue? Not seeing the profits you expected or finding it hard to reinvest in your business or pay yourself what you deserve?\n\nThis Strategy Session is designed to help you refocus on growing revenue from existing customers\, refine your ideal client profile\, eliminate wasteful spending\, and uncover opportunities for automation and efficiency so you can take back control and enjoy running your business again.\n\nTerry Bishop is the President & CEO of Leftherium\, a firm that focuses on serving entrepreneurs\, businesses\, and nonprofits with annual revenues of $1M $50M\, delivering tailored guidance at critical stages of growth. Over the last 30 years\, Terry has accumulated expertise in sales\, account management\, executive and financial leadership to help his clients achieve exponential growth and profitability. In his personal time\, Terry enjoys traveling abroad with his wife\, playing golf without keeping score and watching historical documentaries on titans in business and industry.
X-ALT-DESC;FMTTYPE=text/html:<p style="box-sizing: border-box\; border-width: 0px\; border-style: solid\; border-color: currentcolor\; margin: 0px\; font-family: Lato\, Helvetica\, Arial\, &quot\;sans-serif&quot\;\; font-size: 20px\; line-height: 28px\; color: rgb(70\, 70\, 72)\; margin-block: 24px\; background-color: rgb(255\, 255\, 255)\;">Are you tired of chasing revenue?&nbsp\;Not seeing the profits you expected&mdash\;or finding it hard to reinvest in your business or pay yourself what you deserve?</p>\n\n<p style="box-sizing: border-box\; border-width: 0px\; border-style: solid\; border-color: currentcolor\; margin: 0px\; font-family: Lato\, Helvetica\, Arial\, &quot\;sans-serif&quot\;\; font-size: 20px\; line-height: 28px\; color: rgb(70\, 70\, 72)\; margin-block: 24px\; background-color: rgb(255\, 255\, 255)\;">This Strategy Session is designed to help you refocus on growing revenue from existing customers\, refine your ideal client profile\, eliminate wasteful spending\, and uncover opportunities for automation and efficiency&mdash\;so you can take back control and enjoy running your business again.</p>\n\n<p style="box-sizing: border-box\; border-width: 0px\; border-style: solid\; border-color: currentcolor\; margin: 0px\; font-family: Lato\, Helvetica\, Arial\, &quot\;sans-serif&quot\;\; font-size: 20px\; line-height: 28px\; color: rgb(70\, 70\, 72)\; margin-block: 24px\; background-color: rgb(255\, 255\, 255)\;"><span style="box-sizing: border-box\; border-width: 0px\; border-style: solid\; border-color: currentcolor\;">Terry Bishop is the President &amp\; CEO of Leftherium\, a firm that focuses on serving entrepreneurs\, businesses\, and nonprofits with annual revenues of $1M&ndash\;$50M\, delivering tailored guidance at critical stages of growth.&nbsp\;Over the last 30 years\, Terry has accumulated expertise in sales\, account management\, executive and financial leadership to help his clients achieve exponential growth and profitability.&nbsp\;In his personal time\, Terry enjoys traveling abroad with his wife\, playing golf without keeping score and watching historical documentaries on titans in business and industry.&nbsp\;</span></p>\n
LOCATION:Webinar
UID:e.2844.10438
SEQUENCE:3
DTSTAMP:20260422T010617Z
URL:https://business.sunprairiechamber.com/events/details/score-growing-your-business-profit-exponentially-10438
END:VEVENT

END:VCALENDAR
