BEGIN:VCALENDAR
VERSION:2.0
PRODID:-//ChamberMaster//Event Calendar 2.0//EN
METHOD:PUBLISH
X-PUBLISHED-TTL:P3D
REFRESH-INTERVAL:P3D
CALSCALE:GREGORIAN
BEGIN:VEVENT
DTSTART:20260507T233000Z
DTEND:20260508T010000Z
X-MICROSOFT-CDO-ALLDAYEVENT:FALSE
SUMMARY:SCORE: Grant Writing for Entrepreneurs
DESCRIPTION:Join us for an insightful webinar on grant writing tailored for aspiring entrepreneurs. Learn how to identify the right grant opportunities for your stage\, craft compelling proposals\, and avoid common pitfalls that can limit your chances of success.\n\n Attendees will gain practical strategies and resources to approach grant funding with a clear understanding of fit\, readiness\, and what funders look for\, helping them strengthen their proposals and improve their chances of securing funding.\n\n Joyce Golbus Poll is a nonprofit strategist and grant writer with more than 20 years of experience helping organizations secure competitive funding. She has raised over $150 million for health systems\, universities\, and human service organizations.\n\n A former chief executive officer\, fundraiser\, and program administrator\, Joyce brings a systems-level perspective to grant writing\, aligning strategy\, program design\, and funding to strengthen both proposals and long-term sustainability. She also advises emerging organizations on assessing readiness\, identifying appropriate opportunities\, and avoiding common missteps when pursuing grant funding.\n\n She is the founder of J.G. Poll & Associates.
X-ALT-DESC;FMTTYPE=text/html:<p style="box-sizing: border-box\; border-width: 0px\; border-style: solid\; border-color: currentcolor\; margin: 0px\; font-family: Lato\, Helvetica\, Arial\, &quot\;sans-serif&quot\;\; font-size: 20px\; line-height: 28px\; color: rgb(70\, 70\, 72)\; margin-block: 24px\;"><span style="box-sizing: border-box\; border-width: 0px\; border-style: solid\; border-color: currentcolor\;">Join us for an insightful webinar on grant writing tailored for aspiring entrepreneurs. Learn how to identify the right grant opportunities for your stage\, craft compelling proposals\, and avoid common pitfalls that can limit your chances of success.</span></p>\n\n<p style="box-sizing: border-box\; border-width: 0px\; border-style: solid\; border-color: currentcolor\; margin: 0px\; font-family: Lato\, Helvetica\, Arial\, &quot\;sans-serif&quot\;\; font-size: 20px\; line-height: 28px\; color: rgb(70\, 70\, 72)\; margin-block: 24px\;"><span style="box-sizing: border-box\; border-width: 0px\; border-style: solid\; border-color: currentcolor\;">&nbsp\;Attendees will gain practical strategies and resources to approach grant funding with a clear understanding of fit\, readiness\, and what funders look for\, helping them strengthen their proposals and improve their chances of securing funding.</span></p>\n\n<p style="box-sizing: border-box\; border-width: 0px\; border-style: solid\; border-color: currentcolor\; margin: 0px\; font-family: Lato\, Helvetica\, Arial\, &quot\;sans-serif&quot\;\; font-size: 20px\; line-height: 28px\; color: rgb(70\, 70\, 72)\; margin-block: 24px\;"><span style="box-sizing: border-box\; border-width: 0px\; border-style: solid\; border-color: currentcolor\;"><span style="box-sizing: border-box\; border-width: 0px\; border-style: solid\; border-color: currentcolor\;">&#65279\;</span>Joyce Golbus Poll is a nonprofit strategist and grant writer with more than 20 years of experience helping organizations secure competitive funding. She has raised over $150 million for health systems\, universities\, and human service organizations.</span></p>\n\n<p style="box-sizing: border-box\; border-width: 0px\; border-style: solid\; border-color: currentcolor\; margin: 0px\; font-family: Lato\, Helvetica\, Arial\, &quot\;sans-serif&quot\;\; font-size: 20px\; line-height: 28px\; color: rgb(70\, 70\, 72)\; margin-block: 24px\;"><span style="box-sizing: border-box\; border-width: 0px\; border-style: solid\; border-color: currentcolor\;">&nbsp\;A former chief executive officer\, fundraiser\, and program administrator\, Joyce brings a systems-level perspective to grant writing\, aligning strategy\, program design\, and funding to strengthen both proposals and long-term sustainability. She also advises emerging organizations on assessing readiness\, identifying appropriate opportunities\, and avoiding common missteps when pursuing grant funding.</span></p>\n\n<p style="box-sizing: border-box\; border-width: 0px\; border-style: solid\; border-color: currentcolor\; margin: 0px\; font-family: Lato\, Helvetica\, Arial\, &quot\;sans-serif&quot\;\; font-size: 20px\; line-height: 28px\; color: rgb(70\, 70\, 72)\; margin-block: 24px\;"><span style="box-sizing: border-box\; border-width: 0px\; border-style: solid\; border-color: currentcolor\;">&nbsp\;She is the founder of J.G. Poll &amp\; Associates.</span></p>\n\n<p style="box-sizing: border-box\; border-width: 0px\; border-style: solid\; border-color: currentcolor\; margin: 0px\; font-family: Lato\, Helvetica\, Arial\, &quot\;sans-serif&quot\;\; font-size: 20px\; line-height: 28px\; color: rgb(70\, 70\, 72)\; margin-block: 24px\;">&nbsp\;</p>\n
LOCATION:Webinar
UID:e.2844.10426
SEQUENCE:3
DTSTAMP:20260422T001458Z
URL:https://business.sunprairiechamber.com/events/details/score-grant-writing-for-entrepreneurs-10426
END:VEVENT

END:VCALENDAR
