BEGIN:VCALENDAR
VERSION:2.0
PRODID:-//ChamberMaster//Event Calendar 2.0//EN
METHOD:PUBLISH
X-PUBLISHED-TTL:P3D
REFRESH-INTERVAL:P3D
CALSCALE:GREGORIAN
BEGIN:VEVENT
DTSTART:20260506T233000Z
DTEND:20260507T010000Z
X-MICROSOFT-CDO-ALLDAYEVENT:FALSE
SUMMARY:SCORE: Driving Growth: Delivering Profitable Sales and Delighting the Customer
DESCRIPTION:What you will Learn: How to create a compelling Value Proposition that drives sales and aligns your sales strategy with delivering customer value- focusing not just on closing deals\, but delivering solutions that genuinely solve problems and justify premium pricing.\n\nThe Facilitator for this Workshop is Bob Mallo. Bob is a SCORE Member. He has over 40 years of C-suite experience\, including 30+ years as a CEO and Board Member of companies ranging from $50 million to over $2 billion in education\, distribution\, and manufacturing. He is the Founder and President of Corporate Connection Consulting\, advising CEOs and Business Owners of private and publicly traded companies with revenues ranging from $500K to several billion annually. He serves on multiple corporate and charitable boards\, including Old Plank Trail/ Wintrust Indiana Bank charter\, and was an adjunct business instructor at Joliet Junior College and is currently a SCORE mentor. He recently published a book\, Simple Secrets for Success\, which focuses on real-world leadership stories and personal leadership experiences.
X-ALT-DESC;FMTTYPE=text/html:<p style="box-sizing: border-box\; border-width: 0px\; border-style: solid\; border-color: currentcolor\; margin: 0px\; font-family: Lato\, Helvetica\, Arial\, &quot\;sans-serif&quot\;\; font-size: 20px\; line-height: 28px\; color: rgb(70\, 70\, 72)\; margin-block: 24px\; background-color: rgb(255\, 255\, 255)\;">What you will Learn: How to create a compelling Value Proposition that drives sales and aligns your sales strategy with delivering customer value- focusing not just on closing deals\, but delivering solutions that genuinely solve problems and justify premium&nbsp\;pricing.</p>\n\n<p style="box-sizing: border-box\; border-width: 0px\; border-style: solid\; border-color: currentcolor\; margin: 0px\; font-family: Lato\, Helvetica\, Arial\, &quot\;sans-serif&quot\;\; font-size: 20px\; line-height: 28px\; color: rgb(70\, 70\, 72)\; margin-block: 24px\; background-color: rgb(255\, 255\, 255)\;"><span style="box-sizing: border-box\; border-width: 0px\; border-style: solid\; border-color: currentcolor\; font-weight: bolder\; margin: 0px\; line-height: 28px\;"><em style="box-sizing: border-box\; border-width: 0px\; border-style: solid\; border-color: currentcolor\;">The Facilitator for this Workshop is Bob Mallo. Bob is a SCORE Member. He has over&nbsp\;40 years of C-suite experience\, including&nbsp\;30+ years as a CEO&nbsp\;and Board Member of companies ranging from&nbsp\;$50 million to over $2 billion&nbsp\;in education\, distribution\, and manufacturing. He is the&nbsp\;Founder and President of Corporate Connection Consulting\, advising CEOs and Business Owners of private and publicly traded companies with revenues ranging from&nbsp\;$500K to several billion annually. He serves on multiple corporate and charitable boards\, including&nbsp\;Old Plank Trail/&nbsp\;Wintrust Indiana Bank charter\, and was an adjunct business instructor at&nbsp\;Joliet Junior College and is currently a SCORE mentor. He recently published a book\,&nbsp\;<u style="box-sizing: border-box\; border-width: 0px\; border-style: solid\; border-color: currentcolor\;">Simple Secrets for Success\,</u>&nbsp\;which focuses on&nbsp\;real-world leadership stories and personal leadership experiences.</em></span></p>\n
LOCATION:Webinar
UID:e.2844.10425
SEQUENCE:3
DTSTAMP:20260422T000744Z
URL:https://business.sunprairiechamber.com/events/details/score-driving-growth-delivering-profitable-sales-and-delighting-the-customer-10425
END:VEVENT

END:VCALENDAR
