BEGIN:VCALENDAR
VERSION:2.0
PRODID:-//ChamberMaster//Event Calendar 2.0//EN
METHOD:PUBLISH
X-PUBLISHED-TTL:P3D
REFRESH-INTERVAL:P3D
CALSCALE:GREGORIAN
BEGIN:VEVENT
DTSTART:20260514T170000Z
DTEND:20260514T183000Z
X-MICROSOFT-CDO-ALLDAYEVENT:FALSE
SUMMARY:SCORE: Business Transformation Series #4 – Social Media
DESCRIPTION:This Business Transformation Series is a deep-dive into Digital Marketing and features breakout sessions led by SCORE Mentors\, workbooks and homework assignments and interactive discussion with other mentees and SCORE Mentors. \n\nGoals of this session include:\n\n     Understand the real role of social media in business growth\n\n     Know which platforms matter for YOUR business\n\n     Learn what type of content builds trust and engagement\n\n     Set realistic expectations\n\n     Identify practical next steps\n\nThe Facilitator for this Event is Fernando Rojas . Fernando is a bilingual marketing leader with 15+ years of experience in brand strategy\, digital growth\, and creative leadership across the U.S. and Latin America.
X-ALT-DESC;FMTTYPE=text/html:<p style="box-sizing: border-box\; border-width: 0px\; border-style: solid\; border-color: currentcolor\; margin: 0px\; font-family: Lato\, Helvetica\, Arial\, &quot\;sans-serif&quot\;\; font-size: 20px\; line-height: 28px\; color: rgb(70\, 70\, 72)\; margin-block: 24px\; background-color: rgb(255\, 255\, 255)\;">This Business Transformation Series is a deep-dive into Digital Marketing and features breakout sessions led by SCORE Mentors\, workbooks and homework assignments and interactive discussion with other mentees and SCORE Mentors.&nbsp\;</p>\n\n<p style="box-sizing: border-box\; border-width: 0px\; border-style: solid\; border-color: currentcolor\; margin: 0px\; font-family: Lato\, Helvetica\, Arial\, &quot\;sans-serif&quot\;\; font-size: 20px\; line-height: 28px\; color: rgb(70\, 70\, 72)\; margin-block: 24px\; background-color: rgb(255\, 255\, 255)\;">Goals of this session include:</p>\n\n<p style="box-sizing: border-box\; border-width: 0px\; border-style: solid\; border-color: currentcolor\; margin: 0px\; font-family: Lato\, Helvetica\, Arial\, &quot\;sans-serif&quot\;\; font-size: 20px\; line-height: 28px\; color: rgb(70\, 70\, 72)\; margin-block: 24px\; background-color: rgb(255\, 255\, 255)\;">&bull\;&nbsp\;&nbsp\;&nbsp\;&nbsp\;Understand the real role of social media in business growth</p>\n\n<p style="box-sizing: border-box\; border-width: 0px\; border-style: solid\; border-color: currentcolor\; margin: 0px\; font-family: Lato\, Helvetica\, Arial\, &quot\;sans-serif&quot\;\; font-size: 20px\; line-height: 28px\; color: rgb(70\, 70\, 72)\; margin-block: 24px\; background-color: rgb(255\, 255\, 255)\;">&bull\;&nbsp\;&nbsp\;&nbsp\;&nbsp\;Know which platforms matter for YOUR business</p>\n\n<p style="box-sizing: border-box\; border-width: 0px\; border-style: solid\; border-color: currentcolor\; margin: 0px\; font-family: Lato\, Helvetica\, Arial\, &quot\;sans-serif&quot\;\; font-size: 20px\; line-height: 28px\; color: rgb(70\, 70\, 72)\; margin-block: 24px\; background-color: rgb(255\, 255\, 255)\;">&bull\;&nbsp\;&nbsp\;&nbsp\;&nbsp\;Learn what type of content builds trust and engagement</p>\n\n<p style="box-sizing: border-box\; border-width: 0px\; border-style: solid\; border-color: currentcolor\; margin: 0px\; font-family: Lato\, Helvetica\, Arial\, &quot\;sans-serif&quot\;\; font-size: 20px\; line-height: 28px\; color: rgb(70\, 70\, 72)\; margin-block: 24px\; background-color: rgb(255\, 255\, 255)\;">&bull\;&nbsp\;&nbsp\;&nbsp\;&nbsp\;Set realistic expectations</p>\n\n<p style="box-sizing: border-box\; border-width: 0px\; border-style: solid\; border-color: currentcolor\; margin: 0px\; font-family: Lato\, Helvetica\, Arial\, &quot\;sans-serif&quot\;\; font-size: 20px\; line-height: 28px\; color: rgb(70\, 70\, 72)\; margin-block: 24px\; background-color: rgb(255\, 255\, 255)\;">&bull\;&nbsp\;&nbsp\;&nbsp\;&nbsp\;Identify practical next steps</p>\n\n<p style="box-sizing: border-box\; border-width: 0px\; border-style: solid\; border-color: currentcolor\; margin: 0px\; font-family: Lato\, Helvetica\, Arial\, &quot\;sans-serif&quot\;\; font-size: 20px\; line-height: 28px\; color: rgb(70\, 70\, 72)\; margin-block: 24px\; background-color: rgb(255\, 255\, 255)\;">The Facilitator for this Event is Fernando Rojas . Fernando is a bilingual marketing leader with 15+ years of experience in brand strategy\, digital growth\, and creative leadership across the U.S. and Latin America.</p>\n
LOCATION:Webinar
UID:e.2844.10435
SEQUENCE:3
DTSTAMP:20260422T000508Z
URL:https://business.sunprairiechamber.com/events/details/score-business-transformation-series-4-social-media-10435
END:VEVENT

END:VCALENDAR
