BEGIN:VCALENDAR
VERSION:2.0
PRODID:-//ChamberMaster//Event Calendar 2.0//EN
METHOD:PUBLISH
X-PUBLISHED-TTL:P3D
REFRESH-INTERVAL:P3D
CALSCALE:GREGORIAN
BEGIN:VEVENT
DTSTART:20260506T170000Z
DTEND:20260506T183000Z
X-MICROSOFT-CDO-ALLDAYEVENT:FALSE
SUMMARY:SCORE: Business Transformation Series #3 – Websites & SEO
DESCRIPTION:This Business Transformation Series is a deep-dive into Digital Marketing and features breakout sessions led by SCORE Mentors\, workbooks and homework assignments and interactive discussion with other mentees and SCORE Mentors. \n\nGoals of this session include:\n\n     Understand why a website is important for your business and how to get started\n\n     Understand and implement website best practices with the principles of SEO\n\n     How to monitor your results and diagnose potential issues or improvements\n\nThe Facilitator for this Event is Neal Linkon. Neal retired as the Director of Marketing Operations for Children's Wisconsin. His career included work as a consultant for Fortune 500 companies\, with responsibilities ranging from public relations to internal communications to marketing\, with a focus on digital marketing over the latter half of his career. Neal was inducted into the Healthcare Internet Hall of Fame in 2016 and was named the winner of the John A. Eudes Vision and Excellence Award in 2021. He is now a certified SCORE mentor.
X-ALT-DESC;FMTTYPE=text/html:<p style="box-sizing: border-box\; border-width: 0px\; border-style: solid\; border-color: currentcolor\; margin: 0px\; font-family: Lato\, Helvetica\, Arial\, &quot\;sans-serif&quot\;\; font-size: 20px\; line-height: 28px\; color: rgb(70\, 70\, 72)\; margin-block: 24px\; background-color: rgb(255\, 255\, 255)\;">This Business Transformation Series is a deep-dive into Digital Marketing and features breakout sessions led by SCORE Mentors\, workbooks and homework assignments and interactive discussion with other mentees and SCORE Mentors.&nbsp\;</p>\n\n<p style="box-sizing: border-box\; border-width: 0px\; border-style: solid\; border-color: currentcolor\; margin: 0px\; font-family: Lato\, Helvetica\, Arial\, &quot\;sans-serif&quot\;\; font-size: 20px\; line-height: 28px\; color: rgb(70\, 70\, 72)\; margin-block: 24px\; background-color: rgb(255\, 255\, 255)\;">Goals of this session include:</p>\n\n<p style="box-sizing: border-box\; border-width: 0px\; border-style: solid\; border-color: currentcolor\; margin: 0px\; font-family: Lato\, Helvetica\, Arial\, &quot\;sans-serif&quot\;\; font-size: 20px\; line-height: 28px\; color: rgb(70\, 70\, 72)\; margin-block: 24px\; background-color: rgb(255\, 255\, 255)\;">&bull\;&nbsp\;&nbsp\;&nbsp\;&nbsp\;Understand why a website is important for your business and how to get started</p>\n\n<p style="box-sizing: border-box\; border-width: 0px\; border-style: solid\; border-color: currentcolor\; margin: 0px\; font-family: Lato\, Helvetica\, Arial\, &quot\;sans-serif&quot\;\; font-size: 20px\; line-height: 28px\; color: rgb(70\, 70\, 72)\; margin-block: 24px\; background-color: rgb(255\, 255\, 255)\;">&bull\;&nbsp\;&nbsp\;&nbsp\;&nbsp\;Understand and implement website best practices with the principles of SEO</p>\n\n<p style="box-sizing: border-box\; border-width: 0px\; border-style: solid\; border-color: currentcolor\; margin: 0px\; font-family: Lato\, Helvetica\, Arial\, &quot\;sans-serif&quot\;\; font-size: 20px\; line-height: 28px\; color: rgb(70\, 70\, 72)\; margin-block: 24px\; background-color: rgb(255\, 255\, 255)\;">&bull\;&nbsp\;&nbsp\;&nbsp\;&nbsp\;How to monitor your results and diagnose potential issues or improvements</p>\n\n<p style="box-sizing: border-box\; border-width: 0px\; border-style: solid\; border-color: currentcolor\; margin: 0px\; font-family: Lato\, Helvetica\, Arial\, &quot\;sans-serif&quot\;\; font-size: 20px\; line-height: 28px\; color: rgb(70\, 70\, 72)\; margin-block: 24px\; background-color: rgb(255\, 255\, 255)\;">The Facilitator for this Event is Neal Linkon. Neal retired as the Director of Marketing Operations for Children&rsquo\;s Wisconsin. His career included work as a consultant for Fortune 500 companies\, with responsibilities ranging from public relations to internal communications to marketing\, with a focus on digital marketing over the latter half of his career. Neal was inducted into the Healthcare Internet Hall of Fame in 2016 and was named the winner of the John A. Eudes Vision and Excellence Award in 2021. He is now a certified SCORE mentor.</p>\n
LOCATION:Webinar
UID:e.2844.10424
SEQUENCE:3
DTSTAMP:20260422T001616Z
URL:https://business.sunprairiechamber.com/events/details/score-business-transformation-series-3-websites-seo-10424
END:VEVENT

END:VCALENDAR
