BEGIN:VCALENDAR
VERSION:2.0
PRODID:-//ChamberMaster//Event Calendar 2.0//EN
METHOD:PUBLISH
X-PUBLISHED-TTL:P3D
REFRESH-INTERVAL:P3D
CALSCALE:GREGORIAN
BEGIN:VEVENT
DTSTART:20260513T233000Z
DTEND:20260514T010000Z
X-MICROSOFT-CDO-ALLDAYEVENT:FALSE
SUMMARY:SCORE: Business Exit Value Series: Price Whisperer
DESCRIPTION:Key Takeaways:\n\n        Data-driven pricing strategies that boost EBITDA.\n\n        How to build shareholder value through pricing power.\n\n        The Top Three Mistakes Made with Pricing of your products and services\n\nPer Sjofors is the best-selling author of "The Price Whisperer - A Holistic Approach to Pricing Power" and a thought leader at the Forbes Business Council. He is recognized as one of Inc. Magazine's "10 Most Visionary Leaders."
X-ALT-DESC;FMTTYPE=text/html:<p style="box-sizing: border-box\; border-width: 0px\; border-style: solid\; border-color: currentcolor\; margin: 0px\; font-family: Lato\, Helvetica\, Arial\, &quot\;sans-serif&quot\;\; font-size: 20px\; line-height: 28px\; color: rgb(70\, 70\, 72)\; margin-block: 24px\; background-color: rgb(255\, 255\, 255)\;">Key Takeaways:</p>\n\n<p style="box-sizing: border-box\; border-width: 0px\; border-style: solid\; border-color: currentcolor\; margin: 0px\; font-family: Lato\, Helvetica\, Arial\, &quot\;sans-serif&quot\;\; font-size: 20px\; line-height: 28px\; color: rgb(70\, 70\, 72)\; margin-block: 24px\; background-color: rgb(255\, 255\, 255)\;"><span style="box-sizing: border-box\; border-width: 0px\; border-style: solid\; border-color: currentcolor\;">&middot\;</span><span style="box-sizing: border-box\; border-width: 0px\; border-style: solid\; border-color: currentcolor\;">&nbsp\;&nbsp\;&nbsp\;&nbsp\;&nbsp\;&nbsp\;&nbsp\;</span>Data-driven pricing strategies that boost EBITDA.</p>\n\n<p style="box-sizing: border-box\; border-width: 0px\; border-style: solid\; border-color: currentcolor\; margin: 0px\; font-family: Lato\, Helvetica\, Arial\, &quot\;sans-serif&quot\;\; font-size: 20px\; line-height: 28px\; color: rgb(70\, 70\, 72)\; margin-block: 24px\; background-color: rgb(255\, 255\, 255)\;"><span style="box-sizing: border-box\; border-width: 0px\; border-style: solid\; border-color: currentcolor\;">&middot\;</span><span style="box-sizing: border-box\; border-width: 0px\; border-style: solid\; border-color: currentcolor\;">&nbsp\;&nbsp\;&nbsp\;&nbsp\;&nbsp\;&nbsp\;&nbsp\;</span>How to build shareholder value through pricing power.</p>\n\n<p style="box-sizing: border-box\; border-width: 0px\; border-style: solid\; border-color: currentcolor\; margin: 0px\; font-family: Lato\, Helvetica\, Arial\, &quot\;sans-serif&quot\;\; font-size: 20px\; line-height: 28px\; color: rgb(70\, 70\, 72)\; margin-block: 24px\; background-color: rgb(255\, 255\, 255)\;"><span style="box-sizing: border-box\; border-width: 0px\; border-style: solid\; border-color: currentcolor\;">&middot\;</span><span style="box-sizing: border-box\; border-width: 0px\; border-style: solid\; border-color: currentcolor\;">&nbsp\;&nbsp\;&nbsp\;&nbsp\;&nbsp\;&nbsp\;&nbsp\;</span>The Top Three Mistakes Made with Pricing of your products and services</p>\n\n<p style="box-sizing: border-box\; border-width: 0px\; border-style: solid\; border-color: currentcolor\; margin: 0px\; font-family: Lato\, Helvetica\, Arial\, &quot\;sans-serif&quot\;\; font-size: 20px\; line-height: 28px\; color: rgb(70\, 70\, 72)\; margin-block: 24px\; background-color: rgb(255\, 255\, 255)\;">Per Sjofors is the best-selling author of &quot\;The Price Whisperer - A Holistic Approach to Pricing Power&quot\; and a thought leader at the Forbes Business Council. He is recognized as one of Inc. Magazine&rsquo\;s &quot\;10 Most Visionary Leaders.&rdquo\;</p>\n
LOCATION:Webinar
UID:e.2844.10433
SEQUENCE:3
DTSTAMP:20260422T000642Z
URL:https://business.sunprairiechamber.com/events/details/score-business-exit-value-series-price-whisperer-10433
END:VEVENT

END:VCALENDAR
