BEGIN:VCALENDAR
VERSION:2.0
PRODID:-//ChamberMaster//Event Calendar 2.0//EN
METHOD:PUBLISH
X-PUBLISHED-TTL:P3D
REFRESH-INTERVAL:P3D
CALSCALE:GREGORIAN
BEGIN:VEVENT
DTSTART:20260514T233000Z
DTEND:20260515T010000Z
X-MICROSOFT-CDO-ALLDAYEVENT:FALSE
SUMMARY:SCORE: Business Exit Value Series: Innovation & Efficiency
DESCRIPTION:Key Takeaways:\n\n        Using Custom AI Agents to double output without new hiring.\n\n        Automating business processes to increase operational efficiency.\n\n        How AI adoption increases your business valuation in the eyes of a buyer.\n\n        Business GPTs" that act as 24-year veteran employees digesting your emails\, SOPs\, and data to automate tasks without adding headcount\n\nSandeep Dhall is a Board Member\, Investor\, Advisor & Published Author with 25+ years of Corporate experience in technology and business development. He is a proven Entrepreneur with a track record of launching successful products and companies worldwide. He has expertise with companies of all sizes\, from startups to multi-billion-dollar corporations.
X-ALT-DESC;FMTTYPE=text/html:<p style="box-sizing: border-box\; border-width: 0px\; border-style: solid\; border-color: currentcolor\; margin: 0px\; font-family: Lato\, Helvetica\, Arial\, &quot\;sans-serif&quot\;\; font-size: 20px\; line-height: 28px\; color: rgb(70\, 70\, 72)\; margin-block: 24px\; background-color: rgb(255\, 255\, 255)\;">Key Takeaways:</p>\n\n<p style="box-sizing: border-box\; border-width: 0px\; border-style: solid\; border-color: currentcolor\; margin: 0px\; font-family: Lato\, Helvetica\, Arial\, &quot\;sans-serif&quot\;\; font-size: 20px\; line-height: 28px\; color: rgb(70\, 70\, 72)\; margin-block: 24px\; background-color: rgb(255\, 255\, 255)\;"><span style="box-sizing: border-box\; border-width: 0px\; border-style: solid\; border-color: currentcolor\;">&middot\;</span><span style="box-sizing: border-box\; border-width: 0px\; border-style: solid\; border-color: currentcolor\;">&nbsp\;&nbsp\;&nbsp\;&nbsp\;&nbsp\;&nbsp\;&nbsp\;</span>Using Custom AI Agents to double output without new hiring.</p>\n\n<p style="box-sizing: border-box\; border-width: 0px\; border-style: solid\; border-color: currentcolor\; margin: 0px\; font-family: Lato\, Helvetica\, Arial\, &quot\;sans-serif&quot\;\; font-size: 20px\; line-height: 28px\; color: rgb(70\, 70\, 72)\; margin-block: 24px\; background-color: rgb(255\, 255\, 255)\;"><span style="box-sizing: border-box\; border-width: 0px\; border-style: solid\; border-color: currentcolor\;">&middot\;</span><span style="box-sizing: border-box\; border-width: 0px\; border-style: solid\; border-color: currentcolor\;">&nbsp\;&nbsp\;&nbsp\;&nbsp\;&nbsp\;&nbsp\;&nbsp\;</span>Automating business processes to increase operational efficiency.</p>\n\n<p style="box-sizing: border-box\; border-width: 0px\; border-style: solid\; border-color: currentcolor\; margin: 0px\; font-family: Lato\, Helvetica\, Arial\, &quot\;sans-serif&quot\;\; font-size: 20px\; line-height: 28px\; color: rgb(70\, 70\, 72)\; margin-block: 24px\; background-color: rgb(255\, 255\, 255)\;"><span style="box-sizing: border-box\; border-width: 0px\; border-style: solid\; border-color: currentcolor\;">&middot\;</span><span style="box-sizing: border-box\; border-width: 0px\; border-style: solid\; border-color: currentcolor\;">&nbsp\;&nbsp\;&nbsp\;&nbsp\;&nbsp\;&nbsp\;&nbsp\;</span>How AI adoption increases your business valuation in the eyes of a buyer.</p>\n\n<p style="box-sizing: border-box\; border-width: 0px\; border-style: solid\; border-color: currentcolor\; margin: 0px\; font-family: Lato\, Helvetica\, Arial\, &quot\;sans-serif&quot\;\; font-size: 20px\; line-height: 28px\; color: rgb(70\, 70\, 72)\; margin-block: 24px\; background-color: rgb(255\, 255\, 255)\;"><span style="box-sizing: border-box\; border-width: 0px\; border-style: solid\; border-color: currentcolor\;">&middot\;</span><span style="box-sizing: border-box\; border-width: 0px\; border-style: solid\; border-color: currentcolor\;">&nbsp\;&nbsp\;&nbsp\;&nbsp\;&nbsp\;&nbsp\;&nbsp\;</span>Business GPTs&quot\; that act as 24-year veteran employees&mdash\;digesting your emails\, SOPs\, and data to automate tasks without adding headcount</p>\n\n<p style="box-sizing: border-box\; border-width: 0px\; border-style: solid\; border-color: currentcolor\; margin: 0px\; font-family: Lato\, Helvetica\, Arial\, &quot\;sans-serif&quot\;\; font-size: 20px\; line-height: 28px\; color: rgb(70\, 70\, 72)\; margin-block: 24px\; background-color: rgb(255\, 255\, 255)\;">Sandeep Dhall is a Board Member\, Investor\, Advisor &amp\; Published Author with 25+ years of Corporate experience in technology and business development. He is a proven Entrepreneur with a track record of launching successful products and companies worldwide. He has expertise with companies of all sizes\, from startups to multi-billion-dollar corporations.</p>\n
LOCATION:Webinar
UID:e.2844.10436
SEQUENCE:3
DTSTAMP:20260422T001029Z
URL:https://business.sunprairiechamber.com/events/details/score-business-exit-value-series-innovation-efficiency-10436
END:VEVENT

END:VCALENDAR
