BEGIN:VCALENDAR
VERSION:2.0
PRODID:-//ChamberMaster//Event Calendar 2.0//EN
METHOD:PUBLISH
X-PUBLISHED-TTL:P3D
REFRESH-INTERVAL:P3D
CALSCALE:GREGORIAN
BEGIN:VEVENT
DTSTART:20260511T233000Z
DTEND:20260512T010000Z
X-MICROSOFT-CDO-ALLDAYEVENT:FALSE
SUMMARY:SCORE: Business Exit Value Series: Financial Strategy
DESCRIPTION:Key Takeaways:\n\n Understanding EBITDA and its impact on valuation.\n\n Financial "housekeeping" required 1-3 years before listing.\n\n Strategies to engineer your financials for the highest possible sale price.\n\nJonathan Peisner is a SCORE mentor and Interim CFO and Treasurer. He has spent his career helping public companies create and protect shareholder value and has taught accounting and finance courses at both the undergraduate and graduate levels. He is the founder of Value Creation / Value Protection LLC - a financial & risk consulting practice focused on helping companies in the automotive industry create and protect value.
X-ALT-DESC;FMTTYPE=text/html:<p style="box-sizing: border-box\; border-width: 0px\; border-style: solid\; border-color: currentcolor\; margin: 0px\; font-family: Lato\, Helvetica\, Arial\, &quot\;sans-serif&quot\;\; font-size: 20px\; line-height: 28px\; color: rgb(70\, 70\, 72)\; margin-block: 24px\; background-color: rgb(255\, 255\, 255)\;">Key Takeaways:</p>\n\n<p style="box-sizing: border-box\; border-width: 0px\; border-style: solid\; border-color: currentcolor\; margin: 0px\; font-family: Lato\, Helvetica\, Arial\, &quot\;sans-serif&quot\;\; font-size: 20px\; line-height: 28px\; color: rgb(70\, 70\, 72)\; margin-block: 24px\; background-color: rgb(255\, 255\, 255)\;">&bull\;Understanding EBITDA and its impact on valuation.</p>\n\n<p style="box-sizing: border-box\; border-width: 0px\; border-style: solid\; border-color: currentcolor\; margin: 0px\; font-family: Lato\, Helvetica\, Arial\, &quot\;sans-serif&quot\;\; font-size: 20px\; line-height: 28px\; color: rgb(70\, 70\, 72)\; margin-block: 24px\; background-color: rgb(255\, 255\, 255)\;">&bull\;Financial &quot\;housekeeping&quot\; required 1-3 years before listing.</p>\n\n<p style="box-sizing: border-box\; border-width: 0px\; border-style: solid\; border-color: currentcolor\; margin: 0px\; font-family: Lato\, Helvetica\, Arial\, &quot\;sans-serif&quot\;\; font-size: 20px\; line-height: 28px\; color: rgb(70\, 70\, 72)\; margin-block: 24px\; background-color: rgb(255\, 255\, 255)\;">&bull\;Strategies to engineer your financials for the highest possible sale price.</p>\n\n<p style="box-sizing: border-box\; border-width: 0px\; border-style: solid\; border-color: currentcolor\; margin: 0px\; font-family: Lato\, Helvetica\, Arial\, &quot\;sans-serif&quot\;\; font-size: 20px\; line-height: 28px\; color: rgb(70\, 70\, 72)\; margin-block: 24px\; background-color: rgb(255\, 255\, 255)\;">Jonathan Peisner is a SCORE mentor and Interim CFO and Treasurer. He has spent his career helping public companies create and protect shareholder value and has taught accounting and finance courses at both the undergraduate and graduate levels. He is the founder of Value Creation / Value Protection LLC - a financial &amp\; risk consulting practice focused on helping companies in the automotive industry create and protect value.</p>\n
LOCATION:Webinar
UID:e.2844.10428
SEQUENCE:3
DTSTAMP:20260422T001329Z
URL:https://business.sunprairiechamber.com/events/details/score-business-exit-value-series-financial-strategy-10428
END:VEVENT

END:VCALENDAR
