BEGIN:VCALENDAR
VERSION:2.0
PRODID:-//ChamberMaster//Event Calendar 2.0//EN
METHOD:PUBLISH
X-PUBLISHED-TTL:P3D
REFRESH-INTERVAL:P3D
CALSCALE:GREGORIAN
BEGIN:VEVENT
DTSTART:20260514T150000Z
DTEND:20260514T163000Z
X-MICROSOFT-CDO-ALLDAYEVENT:FALSE
SUMMARY:SCORE: Business Exit Value Series: Employee Ownership
DESCRIPTION:Employee ownership allows owners to transition company ownership to employees rather than third-party buyers\, keeping the business operating and retaining jobs in the community. When employees own a stake in the company\, they are more motivated and engaged to think and act like owners. This "ownership mindset" results in higher productivity\, increased profitability\, improved retention\, and more company resilience. Learn how employee ownership can prepare your business for a sale.\n\nTaylor Knickel is Executive Director of the Texas Center for Employee Ownership\, the nonprofit hub for resources and information on employee ownership in Texas. She brings 15 years of experience in community organizing and civic engagement.
X-ALT-DESC;FMTTYPE=text/html:<p style="box-sizing: border-box\; border-width: 0px\; border-style: solid\; border-color: currentcolor\; margin: 0px\; font-family: Lato\, Helvetica\, Arial\, &quot\;sans-serif&quot\;\; font-size: 20px\; line-height: 28px\; color: rgb(70\, 70\, 72)\; margin-block: 24px\; background-color: rgb(255\, 255\, 255)\;">Employee ownership allows owners to transition company ownership to employees rather than third-party buyers\, keeping the business operating and retaining jobs in the community. When employees own a stake in the company\, they are more motivated and engaged to think and act like owners. This &quot\;ownership mindset&quot\; results in higher productivity\, increased profitability\, improved retention\, and more company resilience. Learn how employee ownership can prepare your business for a sale.</p>\n\n<p style="box-sizing: border-box\; border-width: 0px\; border-style: solid\; border-color: currentcolor\; margin: 0px\; font-family: Lato\, Helvetica\, Arial\, &quot\;sans-serif&quot\;\; font-size: 20px\; line-height: 28px\; color: rgb(70\, 70\, 72)\; margin-block: 24px\; background-color: rgb(255\, 255\, 255)\;">Taylor Knickel is Executive Director of the Texas Center for Employee Ownership\, the nonprofit hub for resources and information on employee ownership in Texas. She brings 15 years of experience in community organizing and civic engagement.&nbsp\;</p>\n
LOCATION:Webinar
UID:e.2844.10434
SEQUENCE:3
DTSTAMP:20260422T001301Z
URL:https://business.sunprairiechamber.com/events/details/score-business-exit-value-series-employee-ownership-10434
END:VEVENT

END:VCALENDAR
