BEGIN:VCALENDAR
VERSION:2.0
PRODID:-//ChamberMaster//Event Calendar 2.0//EN
METHOD:PUBLISH
X-PUBLISHED-TTL:P3D
REFRESH-INTERVAL:P3D
CALSCALE:GREGORIAN
BEGIN:VEVENT
DTSTART:20260520T233000Z
DTEND:20260521T010000Z
X-MICROSOFT-CDO-ALLDAYEVENT:FALSE
SUMMARY:SCORE: Advanced Quickbooks Training - Quickbooks 202
DESCRIPTION:Accurate accounting procedures are the foundation of every successful business.\n\nQuickBooks is one of today's business accounting lifesavers. This simple-to-use software can help you manage your inventory\, track the costs of your business\, generate professional invoices and purchase orders\, stay on top of accounts payables and receivables\, and ensure that your yearly tax preparation is accurate\, timely and frustration-free.\n\nQuickBooks training is like having a trusted business accountant with you every step of the way!\n\nWith this power-packed training\, learn how to      Keep close tabs on all your accounts payable and receivable.\n\n       Master shortcuts for navigating through QuickBooks' menus\, features and functions.\n\n       Produce detailed financial reports to track your company's progress.\n\n       Save money by keeping track of every dollar that comes in and goes out of your business.\n\nAnd much\, much more\n\nThe facilitator for this event is Ms Aileen Gilpin. Aileen brings over 25 years of comprehensive expertise in accounting\, auditing\, recruiting\, marketing\, and business management. Your Front eOffice Inc is a testament to excellence. The Your Front eOffice Inc. team are certified QuickBooks Pro advisors comprised of educators\, bookkeepers\, controllers\, accountants and payroll specialists\, who all share resolute dedication to delivering unparalleled service and invaluable insights to their clients.
X-ALT-DESC;FMTTYPE=text/html:<p style="box-sizing: border-box\; border-width: 0px\; border-style: solid\; border-color: currentcolor\; margin: 0px\; font-family: Lato\, Helvetica\, Arial\, &quot\;sans-serif&quot\;\; font-size: 20px\; line-height: 28px\; color: rgb(70\, 70\, 72)\; margin-block: 24px\; background-color: rgb(255\, 255\, 255)\;"><span style="box-sizing: border-box\; border-width: 0px\; border-style: solid\; border-color: currentcolor\; font-weight: bolder\; margin: 0px\; line-height: 28px\;">Accurate accounting procedures are the foundation of&nbsp\;<em style="box-sizing: border-box\; border-width: 0px\; border-style: solid\; border-color: currentcolor\;">every</em>&nbsp\;successful business.</span></p>\n\n<p style="box-sizing: border-box\; border-width: 0px\; border-style: solid\; border-color: currentcolor\; margin: 0px\; font-family: Lato\, Helvetica\, Arial\, &quot\;sans-serif&quot\;\; font-size: 20px\; line-height: 28px\; color: rgb(70\, 70\, 72)\; margin-block: 24px\; background-color: rgb(255\, 255\, 255)\;"><span style="box-sizing: border-box\; border-width: 0px\; border-style: solid\; border-color: currentcolor\;">QuickBooks is one of today&#39\;s business accounting lifesavers. This simple-to-use software can help you manage your inventory\, track the costs of your business\, generate professional invoices and purchase orders\, stay on top of accounts payables and receivables\, and ensure that your yearly tax preparation is accurate\, timely and frustration-free.</span></p>\n\n<p style="box-sizing: border-box\; border-width: 0px\; border-style: solid\; border-color: currentcolor\; margin: 0px\; font-family: Lato\, Helvetica\, Arial\, &quot\;sans-serif&quot\;\; font-size: 20px\; line-height: 28px\; color: rgb(70\, 70\, 72)\; margin-block: 24px\; background-color: rgb(255\, 255\, 255)\;"><span style="box-sizing: border-box\; border-width: 0px\; border-style: solid\; border-color: currentcolor\;">QuickBooks training is like having a trusted business accountant with you every step of the way!</span></p>\n\n<p style="box-sizing: border-box\; border-width: 0px\; border-style: solid\; border-color: currentcolor\; margin: 0px\; font-family: Lato\, Helvetica\, Arial\, &quot\;sans-serif&quot\;\; font-size: 20px\; line-height: 28px\; color: rgb(70\, 70\, 72)\; margin-block: 24px\; background-color: rgb(255\, 255\, 255)\;"><span style="box-sizing: border-box\; border-width: 0px\; border-style: solid\; border-color: currentcolor\; font-weight: bolder\; margin: 0px\; line-height: 28px\;">With this power-packed training\, learn how to</span><span style="box-sizing: border-box\; border-width: 0px\; border-style: solid\; border-color: currentcolor\;">&nbsp\; &nbsp\; &nbsp\;&nbsp\;</span>Keep close tabs on all your accounts payable and receivable.</p>\n\n<p style="box-sizing: border-box\; border-width: 0px\; border-style: solid\; border-color: currentcolor\; margin: 0px\; font-family: Lato\, Helvetica\, Arial\, &quot\;sans-serif&quot\;\; font-size: 20px\; line-height: 28px\; color: rgb(70\, 70\, 72)\; margin-block: 24px\; background-color: rgb(255\, 255\, 255)\;"><span style="box-sizing: border-box\; border-width: 0px\; border-style: solid\; border-color: currentcolor\;">&middot\;</span><span style="box-sizing: border-box\; border-width: 0px\; border-style: solid\; border-color: currentcolor\;">&nbsp\;&nbsp\;&nbsp\;&nbsp\;&nbsp\;&nbsp\;</span>Master shortcuts for navigating through QuickBooks&rsquo\; menus\, features and functions.</p>\n\n<p style="box-sizing: border-box\; border-width: 0px\; border-style: solid\; border-color: currentcolor\; margin: 0px\; font-family: Lato\, Helvetica\, Arial\, &quot\;sans-serif&quot\;\; font-size: 20px\; line-height: 28px\; color: rgb(70\, 70\, 72)\; margin-block: 24px\; background-color: rgb(255\, 255\, 255)\;"><span style="box-sizing: border-box\; border-width: 0px\; border-style: solid\; border-color: currentcolor\;">&middot\;</span><span style="box-sizing: border-box\; border-width: 0px\; border-style: solid\; border-color: currentcolor\;">&nbsp\;&nbsp\;&nbsp\;&nbsp\;&nbsp\;&nbsp\;</span>Produce detailed financial reports to track your company&rsquo\;s progress.</p>\n\n<p style="box-sizing: border-box\; border-width: 0px\; border-style: solid\; border-color: currentcolor\; margin: 0px\; font-family: Lato\, Helvetica\, Arial\, &quot\;sans-serif&quot\;\; font-size: 20px\; line-height: 28px\; color: rgb(70\, 70\, 72)\; margin-block: 24px\; background-color: rgb(255\, 255\, 255)\;"><span style="box-sizing: border-box\; border-width: 0px\; border-style: solid\; border-color: currentcolor\;">&middot\;</span><span style="box-sizing: border-box\; border-width: 0px\; border-style: solid\; border-color: currentcolor\;">&nbsp\;&nbsp\;&nbsp\;&nbsp\;&nbsp\;&nbsp\;</span>Save money by keeping track of every dollar that comes in and goes out of your business.</p>\n\n<p style="box-sizing: border-box\; border-width: 0px\; border-style: solid\; border-color: currentcolor\; margin: 0px\; font-family: Lato\, Helvetica\, Arial\, &quot\;sans-serif&quot\;\; font-size: 20px\; line-height: 28px\; color: rgb(70\, 70\, 72)\; margin-block: 24px\; background-color: rgb(255\, 255\, 255)\;"><span style="box-sizing: border-box\; border-width: 0px\; border-style: solid\; border-color: currentcolor\;">And much\, much more</span></p>\n\n<p style="box-sizing: border-box\; border-width: 0px\; border-style: solid\; border-color: currentcolor\; margin: 0px\; font-family: Lato\, Helvetica\, Arial\, &quot\;sans-serif&quot\;\; font-size: 20px\; line-height: 28px\; color: rgb(70\, 70\, 72)\; margin-block: 24px\; background-color: rgb(255\, 255\, 255)\;"><span style="box-sizing: border-box\; border-width: 0px\; border-style: solid\; border-color: currentcolor\;">The facilitator for this event is Ms Aileen Gilpin. Aileen brings over 25 years of comprehensive expertise in accounting\, auditing\, recruiting\, marketing\, and business management. Your Front eOffice Inc is a testament to excellence. The Your Front eOffice Inc. team are certified QuickBooks Pro advisors comprised of educators\, bookkeepers\, controllers\, accountants and payroll specialists\, who all share resolute dedication to delivering unparalleled service and invaluable insights to their clients.</span></p>\n
LOCATION:Webinar
UID:e.2844.10440
SEQUENCE:3
DTSTAMP:20260422T011243Z
URL:https://business.sunprairiechamber.com/events/details/score-advanced-quickbooks-training-quickbooks-202-10440
END:VEVENT

END:VCALENDAR
