BEGIN:VCALENDAR
VERSION:2.0
PRODID:-//ChamberMaster//Event Calendar 2.0//EN
METHOD:PUBLISH
X-PUBLISHED-TTL:P3D
REFRESH-INTERVAL:P3D
CALSCALE:GREGORIAN
BEGIN:VEVENT
DTSTART:20240111T150000Z
DTEND:20240111T190000Z
X-MICROSOFT-CDO-ALLDAYEVENT:FALSE
SUMMARY:Patient Care and Support Services In Person Interview Event
DESCRIPTION:At UW Health\, in Madison\, WI\, there are endless career opportunities that support the care we provide to patients and families.\n\n\n\nOn-the-spot interviews are being held and same day job offers may be made. *Some positions may be eligible for a sign-on bonus.\n\nSupport Service Titles:\n\n\n	Culinary Services Retail Assistant*\n	Environmental Services Technician*\n	Food Production Cook*\n	Patient Nutrition Assistant*\n	Patient Services Aide\n	Security Officer*\n	Supply Clerk\n\n\nPatient Care Titles:\n\n\n	Endoscopy Technician\n	Medical Assistant*\n	Medical Lab Technician*\n	Nursing Assistant*\n	Ophthalmic Assistant*\n	Pharmacy Technician*\n	Phlebotomist*\n	Radiologic Technologist*\n	Respiratory Therapist*\n	Specimen Control and Receiving Technician*\n	Student Respiratory Therapist\n	Surgical Technologist*\n\n\nAt UW Health\, you will have:\n\n\n	An excellent benefits package\, including health and dental insurance\, paid time off\, two-week parental leave\, adoption assistance and retirement plans. Full time benefits for part time work (for positions 60% FTE and higher). \n\n\nOur Commitment to Diversity and Inclusion\n\nUW Health is committed to being a diverse\, inclusive and anti-racist workplace and is an Equal Employment Opportunity\, Affirmative Action employer. Our integrity shines through in patient care interactions and our daily work practices as we work to embrace the knowledge\, unique perspectives and qualities each employee and faculty member brings to work each day. Applications from Black\, Indigenous and People of Color (BIPOC) individuals\, LGBTQ+ and non-binary identities\, women\, persons with disabilities\, military service members and veterans are strongly encouraged.  EOE\, including disability/veterans.
X-ALT-DESC;FMTTYPE=text/html:<p>At UW Health\, in Madison\, WI\, there are endless career opportunities that support the care we provide to patients and families.<br />\n<br />\nOn-the-spot interviews are being held and same day job offers may be made. *Some positions may be eligible for a sign-on bonus.</p>\n\n<p><u>Support Service Titles</u>:</p>\n\n<ul>\n	<li>Culinary Services Retail Assistant*</li>\n	<li>Environmental Services Technician*</li>\n	<li>Food Production Cook*</li>\n	<li>Patient Nutrition Assistant*</li>\n	<li>Patient Services Aide</li>\n	<li>Security Officer*</li>\n	<li>Supply Clerk</li>\n</ul>\n\n<p><u>Patient Care Titles:</u></p>\n\n<ul>\n	<li>Endoscopy Technician</li>\n	<li>Medical Assistant*</li>\n	<li>Medical Lab Technician*</li>\n	<li>Nursing Assistant*</li>\n	<li>Ophthalmic Assistant*</li>\n	<li>Pharmacy Technician*</li>\n	<li>Phlebotomist*</li>\n	<li>Radiologic Technologist*</li>\n	<li>Respiratory Therapist*</li>\n	<li>Specimen Control and Receiving Technician*</li>\n	<li>Student Respiratory Therapist</li>\n	<li>Surgical Technologist*</li>\n</ul>\n\n<p><strong><u>At UW Health\, you will have</u></strong>:</p>\n\n<ul>\n	<li>An excellent benefits package\, including health and dental insurance\, paid time off\, two-week parental leave\, adoption assistance and retirement plans. Full time benefits for part time work (for positions 60% FTE and higher).&nbsp\;</li>\n</ul>\n\n<p><strong>Our Commitment to Diversity and Inclusion</strong></p>\n\n<p>UW Health is committed to being a diverse\, inclusive and anti-racist workplace and is an Equal Employment Opportunity\, Affirmative Action employer. Our integrity shines through in patient care interactions and our daily work practices as we work to embrace the knowledge\, unique perspectives and qualities each employee and faculty member brings to work each day.&nbsp\;Applications from Black\, Indigenous and People of Color (BIPOC) individuals\, LGBTQ+ and non-binary identities\, women\, persons with disabilities\, military service members and veterans are strongly encouraged.&nbsp\; EOE\, including disability/veterans.</p>\n
LOCATION:UW Health Career Event Center
UID:e.2844.8598
SEQUENCE:3
DTSTAMP:20260425T141240Z
URL:https://business.sunprairiechamber.com/events/details/patient-care-and-support-services-in-person-interview-event-8598
END:VEVENT

END:VCALENDAR
