BEGIN:VCALENDAR
VERSION:2.0
PRODID:-//ChamberMaster//Event Calendar 2.0//EN
METHOD:PUBLISH
X-PUBLISHED-TTL:P3D
REFRESH-INTERVAL:P3D
CALSCALE:GREGORIAN
BEGIN:VEVENT
DTSTART:20240125T200000Z
DTEND:20240125T213000Z
X-MICROSOFT-CDO-ALLDAYEVENT:FALSE
SUMMARY:Alzheimers and Dementia Caregiver Support Group
DESCRIPTION:Join Us for an Alzheimer's and Dementia Caregiver Support Group\n\n\n\nBuild a support system with people who understand. \n\n\n\nAlzheimer's Association  support groups\, conducted by trained facilitators\, are a safe place for people living with dementia and their care partners to:\n\n	Develop a support system.\n	Exchange practical information on challenges and possible solutions.\n	Talk through issues and ways of coping.\n	Share feelings\, needs and concerns.\n	Learn about community resources.\n\nOffered in partnership with:\n\nThe Colonial Club\n\n301 Blankenheim Ln\,\n\nSun Prairie\, WI 53590\n\n\n\nDesigned for both those caring for someone in the early stages of dementia and for persons living with a form of early stage dementia.\n\n\n\nQuestions or to register call Randy at 414-391-5070 or email rzehr@brookdale.com\n\nor the 24/7 ALZ Helpline at: 800-272-3900
X-ALT-DESC;FMTTYPE=text/html:<span style="font-size:14px\;"><strong>Join Us for an Alzheimer&#39\;s and Dementia Caregiver Support Group</strong></span><br />\n<br />\nBuild a support system with people who understand.&nbsp\;<br />\n<br />\nAlzheimer&rsquo\;s Association&reg\; support groups\, conducted by trained facilitators\, are a safe place for people living with dementia and their care partners to:\n<ul>\n	<li>Develop a support system.</li>\n	<li>Exchange practical information on challenges and possible solutions.</li>\n	<li>Talk through issues and ways of coping.</li>\n	<li>Share feelings\, needs and concerns.</li>\n	<li>Learn about community resources.</li>\n</ul>\n<strong>Offered in partnership with:</strong><br />\nThe Colonial Club<br />\n301 Blankenheim Ln\,<br />\nSun Prairie\, WI 53590<br />\n<br />\nDesigned for both those caring for someone in the early stages of dementia and for persons living with a form of early stage dementia.<br />\n<br />\nQuestions or to register call Randy at 414-391-5070 or email <a href="http://rzehr@brookdale.com">rzehr@brookdale.com</a><br />\nor the 24/7 ALZ Helpline at: 800-272-3900
LOCATION:The Colonial Club 301 Blankenheim Ln\, Sun Prairie\, WI 53590
UID:e.2844.6996
SEQUENCE:3
DTSTAMP:20260425T142200Z
URL:https://business.sunprairiechamber.com/events/details/join-us-alzheimers-and-dementia-caregiver-support-group-01-25-2024-6996
END:VEVENT

END:VCALENDAR
