BEGIN:VCALENDAR
VERSION:2.0
PRODID:-//ChamberMaster//Event Calendar 2.0//EN
METHOD:PUBLISH
X-PUBLISHED-TTL:P3D
REFRESH-INTERVAL:P3D
CALSCALE:GREGORIAN
BEGIN:VEVENT
DTSTART:20241030T180000Z
DTEND:20241030T190000Z
X-MICROSOFT-CDO-ALLDAYEVENT:FALSE
SUMMARY:Johnson Financial Group Groundbreaking
DESCRIPTION:Celebrate the new location of Johnson Financial Group\n\n \n\nAbout Johnson Financial Group:\n\n"Products and services to fit your needs. Whether you're saving for the future\, planning for retirement\, or aiming to achieve your financial goals\, our comprehensive range of offerings is designed to empower you every step of the way."
X-ALT-DESC;FMTTYPE=text/html:<div style="border: 0px\; font-variant-numeric: inherit\; font-variant-east-asian: inherit\; font-variant-alternates: inherit\; font-variant-position: inherit\; font-stretch: inherit\; font-size: 12pt\; line-height: inherit\; font-family: Calibri\, Helvetica\, sans-serif\; font-optical-sizing: inherit\; font-size-adjust: inherit\; font-kerning: inherit\; font-feature-settings: inherit\; font-variation-settings: inherit\; margin: 0px\; padding: 0px\; vertical-align: baseline\; color: black\;"><span style="font-size:24px\;"><b>Celebrate the new location of Johnson Financial Group</b></span></div>\n\n<div style="border: 0px\; font-variant-numeric: inherit\; font-variant-east-asian: inherit\; font-variant-alternates: inherit\; font-variant-position: inherit\; font-stretch: inherit\; font-size: 12pt\; line-height: inherit\; font-family: Calibri\, Helvetica\, sans-serif\; font-optical-sizing: inherit\; font-size-adjust: inherit\; font-kerning: inherit\; font-feature-settings: inherit\; font-variation-settings: inherit\; margin: 0px\; padding: 0px\; vertical-align: baseline\; color: black\;">&nbsp\;</div>\n\n<div style="border: 0px\; font-variant-numeric: inherit\; font-variant-east-asian: inherit\; font-variant-alternates: inherit\; font-variant-position: inherit\; font-stretch: inherit\; font-size: 12pt\; line-height: inherit\; font-family: Calibri\, Helvetica\, sans-serif\; font-optical-sizing: inherit\; font-size-adjust: inherit\; font-kerning: inherit\; font-feature-settings: inherit\; font-variation-settings: inherit\; margin: 0px\; padding: 0px\; vertical-align: baseline\; color: black\;"><span style="font-size:20px\;"><b>About Johnson Financial Group:</b></span></div>\n\n<div style="border: 0px\; font-variant-numeric: inherit\; font-variant-east-asian: inherit\; font-variant-alternates: inherit\; font-variant-position: inherit\; font-stretch: inherit\; font-size: 12pt\; line-height: inherit\; font-family: Calibri\, Helvetica\, sans-serif\; font-optical-sizing: inherit\; font-size-adjust: inherit\; font-kerning: inherit\; font-feature-settings: inherit\; font-variation-settings: inherit\; margin: 0px\; padding: 0px\; vertical-align: baseline\; color: black\;"><span style="font-size:20px\;">&quot\;Products and services to fit your needs. Whether you&#39\;re saving for the future\, planning for retirement\, or aiming to achieve your financial goals\, our comprehensive range of offerings is designed to empower you every step of the way.&quot\;</span></div>\n
LOCATION:
UID:e.2844.9310
SEQUENCE:3
DTSTAMP:20260422T121709Z
URL:https://business.sunprairiechamber.com/events/details/johnson-financial-group-groundbreaking-9310
END:VEVENT

END:VCALENDAR
