BEGIN:VCALENDAR
VERSION:2.0
PRODID:-//ChamberMaster//Event Calendar 2.0//EN
METHOD:PUBLISH
X-PUBLISHED-TTL:P3D
REFRESH-INTERVAL:P3D
CALSCALE:GREGORIAN
BEGIN:VEVENT
DTSTART:20240110T220000Z
DTEND:20240110T233000Z
X-MICROSOFT-CDO-ALLDAYEVENT:FALSE
SUMMARY:Jenny Wren Place Ribbon Cutting
DESCRIPTION:Welcome Sun Prairie's newest apartment complex with an open house and ribbon cutting!\n\n \n\n\n\nJenny Wren Place\, a residential community featuring one- and two-bedroom apartments in Sun Prairie\, Wisconsin. With thoughtfully designed layouts and amenities\, Jenny Wren gives you the ideal space to manage work\, life and home. Ideally located to shopping\, and dining. Your new home awaits!
X-ALT-DESC;FMTTYPE=text/html:<div class="x_elementToProof" style="border: 0px\; font-variant-numeric: inherit\; font-variant-east-asian: inherit\; font-variant-alternates: inherit\; font-variant-position: inherit\; font-stretch: inherit\; font-size: 12pt\; line-height: inherit\; font-family: Calibri\, Helvetica\, sans-serif\; font-optical-sizing: inherit\; font-kerning: inherit\; font-feature-settings: inherit\; font-variation-settings: inherit\; margin: 0px\; padding: 0px\; vertical-align: baseline\; background-color: rgb(255\, 255\, 255)\;"><span style="font-size:24px\;"><strong>Welcome Sun Prairie&#39\;s newest apartment complex with an open house and ribbon cutting!</strong></span></div>\n\n<div class="x_elementToProof" style="border: 0px\; font-variant-numeric: inherit\; font-variant-east-asian: inherit\; font-variant-alternates: inherit\; font-variant-position: inherit\; font-stretch: inherit\; font-size: 12pt\; line-height: inherit\; font-family: Calibri\, Helvetica\, sans-serif\; font-optical-sizing: inherit\; font-kerning: inherit\; font-feature-settings: inherit\; font-variation-settings: inherit\; margin: 0px\; padding: 0px\; vertical-align: baseline\; background-color: rgb(255\, 255\, 255)\;"><span style="color:#000000\;"><span style="font-family: &quot\;open sans&quot\;\, sans-serif\; font-size: 16px\; background-color: rgb(255\, 255\, 255)\;">&nbsp\;</span></span><br />\n<br />\nJenny Wren Place\, a residential community featuring one- and two-bedroom apartments in Sun Prairie\, Wisconsin. With thoughtfully designed layouts and amenities\, Jenny Wren gives you the ideal space to manage work\, life and home. Ideally located to shopping\, and dining. Your new home awaits!&nbsp\;</div>\n
LOCATION:
UID:e.2844.8561
SEQUENCE:3
DTSTAMP:20260425T141337Z
URL:https://business.sunprairiechamber.com/events/details/jenny-wren-place-ribbon-cutting-8561
END:VEVENT

END:VCALENDAR
