BEGIN:VCALENDAR
VERSION:2.0
PRODID:-//ChamberMaster//Event Calendar 2.0//EN
METHOD:PUBLISH
X-PUBLISHED-TTL:P3D
REFRESH-INTERVAL:P3D
CALSCALE:GREGORIAN
BEGIN:VEVENT
DTSTART:20240128T180000Z
DTEND:20240128T200000Z
X-MICROSOFT-CDO-ALLDAYEVENT:FALSE
SUMMARY:Frozen Fest: Cardboard Sled Classic
DESCRIPTION:The Cardboard Sled Classic is an opportunity for families and groups to create their own cardboard sled creations and race them down the sledding hill at Carriage Hills Park to compete for prizes in categories like best time and best design.\n\n \n\nNEW THIS YEAR!!! Cardboard pick ups are "appointment" based. If you need extra cardboard\, email rjohnson@cityofsunprairie.com to set up a time to grab some!!!\n\n \n\nHOW IT WORKS: The Cardboard Sled Classic is simple.. just combine cardboard\, tape\, and creativity! Groups may design their sled to impress\, for speed\, or both! Anything from flat pieces of cardboard with duct tape on them to pirate ships\, school buses\, creatures\, or anything in between! Each sled should be built to be ridden by no more than three riders and pushed by two pushers. SLEDS SHOULD BE CONSTRUCTED PRIOR TO RACE DAY!\n\nGroups can register as one of four entry categories- Club/Community Organization\, Youth-Only\, Adult-Only\, and Family.\n\n \n\nREGISTRATION DEADLINE: January 20th\, 2024\n\nREGISTRATION LINKS FOR EACH CATEGORY BELOW!\n\n \n\nDetailed information will be sent out to all registrants by January 23rd\, 2024 with information for the day of the race such as sled drop off\, judging criteria\, and assigned race times.\n\nFor more information and to register\, follow the links below! We can't wait to see what you come up with!\n\n\n\nClubs/Community Organizations: https://rec.cityofsunprairie.com/ViewCourseActivityDetails.aspx?id=C52945\n\nYouth Only: https://rec.cityofsunprairie.com/ViewCourseActivityDetails.aspx?id=C52946\n\nAdult Only: https://rec.cityofsunprairie.com/ViewCourseActivityDetails.aspx?id=C52944\n\nFamilies: https://rec.cityofsunprairie.com/ViewCourseActivityDetails.aspx?id=C52947
X-ALT-DESC;FMTTYPE=text/html:<div><span style="font-family:arial\,helvetica\,sans-serif"><span style="font-size:12px">The Cardboard Sled Classic is an opportunity for families and groups to create their own cardboard sled creations and race them down the sledding hill at Carriage Hills Park to compete for prizes in categories like best time and best design.</span></span><br />\n&nbsp\;</div>\n\n<div><span style="font-family:arial\,helvetica\,sans-serif"><span style="font-size:12px">NEW THIS YEAR!!! Cardboard pick ups are &quot\;appointment&quot\; based. If you need extra cardboard\, email rjohnson@cityofsunprairie.com to set up a time to grab some!!!</span></span><br />\n&nbsp\;</div>\n\n<div><span style="font-family:arial\,helvetica\,sans-serif"><span style="font-size:12px">HOW IT WORKS: The Cardboard Sled Classic is simple.. just combine cardboard\, tape\, and creativity! Groups may design their sled to impress\, for speed\, or both! Anything from flat pieces of cardboard with duct tape on them to pirate ships\, school buses\, creatures\, or anything in between! Each sled should be built to be ridden by no more than three riders and pushed by two pushers. SLEDS SHOULD BE CONSTRUCTED PRIOR TO RACE DAY!</span></span></div>\n\n<div><span style="font-family:arial\,helvetica\,sans-serif"><span style="font-size:12px">Groups can register as one of four entry categories- Club/Community Organization\, Youth-Only\, Adult-Only\, and Family.</span></span><br />\n&nbsp\;</div>\n\n<div><span style="font-family:arial\,helvetica\,sans-serif"><span style="font-size:12px">REGISTRATION DEADLINE: January 20th\, 2024<br />\nREGISTRATION LINKS FOR EACH CATEGORY BELOW!</span></span><br />\n&nbsp\;</div>\n\n<div><span style="font-family:arial\,helvetica\,sans-serif"><span style="font-size:12px">Detailed information will be sent out to all registrants by January 23rd\, 2024 with information for the day of the race such as sled drop off\, judging criteria\, and assigned race times.</span></span></div>\n\n<div><span style="font-family:arial\,helvetica\,sans-serif"><span style="font-size:12px">For more information and to register\, follow the links below! We can&#39\;t wait to see what you come up with!<br />\n<br />\nClubs/Community Organizations:&nbsp\;<span style="color:rgb(0\, 0\, 0)">https://rec.cityofsunprairie.com/ViewCourseActivityDetails.aspx?id=C52945<br />\nYouth Only:&nbsp\;https://rec.cityofsunprairie.com/ViewCourseActivityDetails.aspx?id=C52946<br />\nAdult Only:&nbsp\;https://rec.cityofsunprairie.com/ViewCourseActivityDetails.aspx?id=C52944<br />\nFamilies:&nbsp\;https://rec.cityofsunprairie.com/ViewCourseActivityDetails.aspx?id=C52947</span></span></span><br />\n&nbsp\;</div>\n
LOCATION:Carriage Hills Park
UID:e.2844.8552
SEQUENCE:3
DTSTAMP:20260425T140508Z
URL:https://business.sunprairiechamber.com/events/details/frozen-fest-cardboard-sled-classic-8552
END:VEVENT

END:VCALENDAR
