BEGIN:VCALENDAR
VERSION:2.0
PRODID:-//ChamberMaster//Event Calendar 2.0//EN
METHOD:PUBLISH
X-PUBLISHED-TTL:P3D
REFRESH-INTERVAL:P3D
CALSCALE:GREGORIAN
BEGIN:VEVENT
DTSTART:20240126T230000Z
DTEND:20240127T013000Z
X-MICROSOFT-CDO-ALLDAYEVENT:FALSE
SUMMARY:Frozen Fest: Candle Lit Snowshoe Hike
DESCRIPTION:Join us for this FREE\, family friendly event to explore the trails of Sheehan Park in the winter!\n\nHike/Walk/Snowshoe OR Bike the trails!\n\nTrails will be lit to guide your way. After your hike\, warm up by our fire pit while sipping hot cocoa. If snow is present\, snowshoeing is preferred. There will be a limited amount of snowshoes available to use free of charge on the trails.\n\nFat Tire Bikes are required if biking the trails. Bikers need to wear a helmet and headlamp when biking.\n\nNo registration or RSVP required.
X-ALT-DESC;FMTTYPE=text/html:<p><span style="background-color:transparent\; color:rgb(5\, 5\, 5)\; font-family:arial\,sans-serif\; font-size:11.5pt">Join us for this FREE\, family friendly event to explore the trails of Sheehan Park in the winter!</span></p>\n\n<p><span style="background-color:transparent\; color:rgb(5\, 5\, 5)\; font-family:arial\,sans-serif\; font-size:11.5pt">Hike/Walk/Snowshoe OR Bike the trails!</span></p>\n\n<p><span style="background-color:transparent\; color:rgb(5\, 5\, 5)\; font-family:arial\,sans-serif\; font-size:11.5pt">Trails will be lit to guide your way. After your hike\, warm up by our fire pit while sipping hot cocoa. If snow is present\, snowshoeing is preferred. There will be a limited amount of snowshoes available to use free of charge on the trails.</span></p>\n\n<p><span style="background-color:transparent\; color:rgb(5\, 5\, 5)\; font-family:arial\,sans-serif\; font-size:11.5pt">Fat Tire Bikes are required if biking the trails. Bikers need to wear a helmet and headlamp when biking.</span></p>\n\n<p><span style="background-color:transparent\; color:rgb(5\, 5\, 5)\; font-family:arial\,sans-serif\; font-size:11.5pt">No registration or RSVP required.</span></p>\n\n<div>&nbsp\;</div>\n
LOCATION:Sheehan Park
UID:e.2844.8549
SEQUENCE:3
DTSTAMP:20260425T141127Z
URL:https://business.sunprairiechamber.com/events/details/frozen-fest-candle-lit-snowshoe-hike-8549
END:VEVENT

END:VCALENDAR
