BEGIN:VCALENDAR
VERSION:2.0
PRODID:-//ChamberMaster//Event Calendar 2.0//EN
METHOD:PUBLISH
X-PUBLISHED-TTL:P3D
REFRESH-INTERVAL:P3D
CALSCALE:GREGORIAN
BEGIN:VEVENT
DTSTART:20231102T150000Z
DTEND:20231102T210000Z
X-MICROSOFT-CDO-ALLDAYEVENT:FALSE
SUMMARY:First Care Clinic for Women at Sunshine Place
DESCRIPTION:First Care Clinic will be in Sun Prairie to provide free healthcare services for women.\n\n\n\nThis organization offers free womens wellness services including free pregnancy testing\, ultrasounds\, testing and treatments\, and occasional PAP clinics in a mobile clinic. The mobile clinic is in Sun Prairie every Thursday. \n\n\n\nAppointments are required.  Please call (608) 259-1605 to make an appointment.  \n\n\n\nFor more information about First Care Clinic at https://firstcareclinic.org/\n\n\n\n*Please check their websit for any updates to this event.
X-ALT-DESC;FMTTYPE=text/html:<div class="detail-content" style="padding: 1em 0px 0px\; font-family: Arial\, sans-serif\; font-size: 12px\; background-color: rgb(255\, 255\, 255)\;">\n<div class="detail-item" style="padding: 3px 0px\; margin: 0px\;"><span style="font-family: Arial\, sans-serif\; font-size: 12px\; white-space: pre-wrap\; background-color: rgb(255\, 255\, 255)\;"><span style="font-size:24px\;"><span style="font-family:verdana\;"><strong>First Care Clinic will be in Sun Prairie to provide free healthcare services for women.</strong></span></span><br />\n<br />\n<span style="font-size:18px\;">This organization offers free womens wellness services including free pregnancy testing\, ultrasounds\, testing and treatments\, and occasional PAP clinics in a mobile clinic. The mobile clinic is in Sun Prairie every Thursday.&nbsp\;</span></span><br style="font-family: Arial\, sans-serif\; font-size: 12px\; white-space: pre-wrap\; background-color: rgb(255\, 255\, 255)\;" />\n<br style="font-family: Arial\, sans-serif\; font-size: 12px\; white-space: pre-wrap\; background-color: rgb(255\, 255\, 255)\;" />\n<span style="font-size:18px\;"><strong><span style="color:#FF0000\;"><span style="font-family: Arial\, sans-serif\; white-space: pre-wrap\; background-color: rgb(255\, 255\, 255)\;">Appoi</span><wbr style="font-family: Arial\, sans-serif\; font-size: 12px\; white-space: pre-wrap\; background-color: rgb(255\, 255\, 255)\;" /><span style="font-family: Arial\, sans-serif\; white-space: pre-wrap\; background-color: rgb(255\, 255\, 255)\;">ntments are required.&nbsp\; Please call (608) 259-1605 to make an appointment.&nbsp\;&nbsp\;</span></span></strong><br style="font-family: Arial\, sans-serif\; font-size: 12px\; white-space: pre-wrap\; background-color: rgb(255\, 255\, 255)\;" />\n<br style="font-family: Arial\, sans-serif\; font-size: 12px\; white-space: pre-wrap\; background-color: rgb(255\, 255\, 255)\;" />\n<span style="font-family: Arial\, sans-serif\; white-space: pre-wrap\; background-color: rgb(255\, 255\, 255)\;">F</span><wbr style="font-family: Arial\, sans-serif\; font-size: 12px\; white-space: pre-wrap\; background-color: rgb(255\, 255\, 255)\;" /><span style="font-family: Arial\, sans-serif\; white-space: pre-wrap\; background-color: rgb(255\, 255\, 255)\;">or more information about First Care Clinic at <a href="https://firstcareclinic.org/">https://firstcareclinic.org/</a><br />\n<br />\n<strong><span style="color:#B22222\;">*Please check their websit for any updates to this event.</span></strong></span></span></div>\n</div>\n
LOCATION:
UID:e.2844.8171
SEQUENCE:3
DTSTAMP:20260419T224109Z
URL:https://business.sunprairiechamber.com/events/details/first-care-clinic-for-women-at-sunshine-place-11-02-2023-8171
END:VEVENT

END:VCALENDAR
