BEGIN:VCALENDAR
VERSION:2.0
PRODID:-//ChamberMaster//Event Calendar 2.0//EN
METHOD:PUBLISH
X-PUBLISHED-TTL:P3D
REFRESH-INTERVAL:P3D
CALSCALE:GREGORIAN
BEGIN:VEVENT
DTSTART:20231017T000000Z
DTEND:20231017T013000Z
X-MICROSOFT-CDO-ALLDAYEVENT:FALSE
SUMMARY:ETS Performance Open House & Ribbon Cutting
DESCRIPTION:Join us for an exciting day of discovery and inspiration at ETS Performance - East Madison's Open House! \n\nWe're thrilled to invite you to explore our state-of-the-art facility\, meet our dedicated team\, and enjoy special appearances by a Wisconsin Badger Men's Basketball player\, Tyler Wahl and Wisconsin Badger's Football player Marty Strey!\n\n\n\nHere's what you can look forward to:\n\nFacility Tours: Get an exclusive look at our cutting-edge training facility\, equipped with the latest sports performance equipment.\n\nMeet Tyler Wahl and Marty Strey: Don't miss the chance to meet Tyler Wahl\, of the Wisconsin Badger Men's Basketball team and Marty Strey of the Wisconsin Badgers Football team. Get autographs\, take photos\, and gain insights into the life of a collegiate athlete.\n\nExpert Insights: Our experienced coaches and trainers will be on hand to answer your questions\, provide training tips\, and discuss how ETS Performance can help you or your athlete reach their peak potential.\n\nGiveaways and Prizes: We have some fantastic giveaways and prizes in store for our guests\, so be sure to stick around for a chance to win!\n\nWhether you're an athlete looking to enhance your performance\, a parent seeking the best training options for your child\, or simply curious about what ETS Performance has to offer\, this Open House is the perfect opportunity to experience it all.\n\n\n\nMark your calendars and bring your friends and family along for an exciting day filled with fitness\, fun\, and inspiration. We can't wait to welcome you to ETS Performance - East Madison!
X-ALT-DESC;FMTTYPE=text/html:<div background-color:="" class="xdj266r x11i5rnm xat24cr x1mh8g0r x1vvkbs x126k92a" color:="" font-size:="" segoe="" style="margin: 0px\; overflow-wrap: break-word\; white-space-collapse: preserve\; font-family: " ui="">\n<div dir="auto" style="font-family: inherit\;">\n<div background-color:="" class="xdj266r x11i5rnm xat24cr x1mh8g0r x1vvkbs x126k92a" color:="" font-size:="" segoe="" style="margin: 0px\; overflow-wrap: break-word\; white-space-collapse: preserve\; font-family: " ui="">\n<div dir="auto" style="font-family: inherit\;">\n<div class="x11i5rnm xat24cr x1mh8g0r x1vvkbs xtlvy1s x126k92a" color:="" font-size:="" segoe="" style="margin: 0.5em 0px 0px\; overflow-wrap: break-word\; white-space-collapse: preserve\; font-family: " ui="">\n<div dir="auto" style="font-family: inherit\;"><span style="font-size:18px\;"><strong>Join us for an exciting day of discovery and inspiration at ETS Performance - East Madison&#39\;s Open House! </strong></span><br />\n<span style="font-size:16px\;">We&#39\;re thrilled to invite you to explore our state-of-the-art facility\, meet our dedicated team\, and enjoy special appearances by a Wisconsin Badger Men&#39\;s Basketball player\, Tyler Wahl and Wisconsin Badger&#39\;s Football player Marty Strey!<br />\n<br />\nHere&#39\;s what you can look forward to:<br />\n<strong>Facility Tours:</strong> Get an exclusive look at our cutting-edge training facility\, equipped with the latest sports performance equipment.<br />\nMeet Tyler Wahl and Marty Strey: Don&#39\;t miss the chance to meet Tyler Wahl\, of the Wisconsin Badger Men&#39\;s Basketball team and Marty Strey of the Wisconsin Badgers Football team. Get autographs\, take photos\, and gain insights into the life of a collegiate athlete.<br />\n<strong>Expert Insights:</strong> Our experienced coaches and trainers will be on hand to answer your questions\, provide training tips\, and discuss how ETS Performance can help you or your athlete reach their peak potential.<br />\n<strong>Giveaways and Prizes: </strong>We have some fantastic giveaways and prizes in store for our guests\, so be sure to stick around for a chance to win!<br />\nWhether you&#39\;re an athlete looking to enhance your performance\, a parent seeking the best training options for your child\, or simply curious about what ETS Performance has to offer\, this Open House is the perfect opportunity to experience it all.<br />\n<br />\nMark your calendars and bring your friends and family along for an exciting day filled with fitness\, fun\, and inspiration. We can&#39\;t wait to welcome you to ETS Performance - East Madison!</span></div>\n</div>\n</div>\n</div>\n</div>\n</div>\n
LOCATION:
UID:e.2844.8429
SEQUENCE:3
DTSTAMP:20260425T101748Z
URL:https://business.sunprairiechamber.com/events/details/ets-performance-open-house-ribbon-cutting-8429
END:VEVENT

END:VCALENDAR
