BEGIN:VCALENDAR
VERSION:2.0
PRODID:-//ChamberMaster//Event Calendar 2.0//EN
METHOD:PUBLISH
X-PUBLISHED-TTL:P3D
REFRESH-INTERVAL:P3D
CALSCALE:GREGORIAN
BEGIN:VEVENT
DTSTART:20241027T200000Z
DTEND:20241027T220000Z
X-MICROSOFT-CDO-ALLDAYEVENT:FALSE
SUMMARY:ContiTech OESL Sun Prairie Trunk or Treat
DESCRIPTION:Join us for a spooktacular time at our Trunk or Treat event!\n\n\n\nYour little ones will enjoy collecting candy and looking at the stunningly decorated trunks! Don't forget to bring bags to hold all your treats. The treat time is 3pm-5pm in our employee parking lot.\n\n\n\nHead into the parking lot by making a right on Wyoming Ave\, then take another right onto Broadway Drive and come in through our gate. We can't wait to see you there!
X-ALT-DESC;FMTTYPE=text/html:<span style="font-size:18px\;"><strong>Join us for a spooktacular time at our Trunk or Treat event!</strong></span><br />\n<br />\n<span style="font-size:14px\;">Your little ones will enjoy collecting candy and looking at the stunningly decorated trunks! Don&#39\;t forget to bring bags to hold all your treats. The treat time is 3pm-5pm in our employee parking lot.<br />\n<br />\nHead into the parking lot by making a right on Wyoming Ave\, then take another right onto Broadway Drive and come in through our gate. We can&#39\;t wait to see you there!&nbsp\;</span>
LOCATION:ContiTech
UID:e.2844.9292
SEQUENCE:3
DTSTAMP:20260422T122650Z
URL:https://business.sunprairiechamber.com/events/details/contitech-oesl-sun-prairie-trunk-or-treat-9292
END:VEVENT

END:VCALENDAR
