BEGIN:VCALENDAR
VERSION:2.0
PRODID:-//ChamberMaster//Event Calendar 2.0//EN
METHOD:PUBLISH
X-PUBLISHED-TTL:P3D
REFRESH-INTERVAL:P3D
CALSCALE:GREGORIAN
BEGIN:VEVENT
DTSTART:20220726T230000Z
DTEND:20220727T000000Z
X-MICROSOFT-CDO-ALLDAYEVENT:FALSE
SUMMARY:Concerts In The Park
DESCRIPTION:Wetmore Park\n\nConcerts in the Park\n\n\n\n\n\n\n\nFree & Open to the Public\n\nKids Crafts and Activities\n\n  Next to our new splash pad!\n\n  Food/Beverage Available for\n\nPurchase at Most Concerts\n\n\n\n\n\n\n\n\n\n\nLine up:\n\nJune 7\, 6-7 PM - Sun Prairie Area Community Band (Traditional & Contemporary Band Music) \n\nJune 14 - Random Maxx (Pop/Rock)\n\nJune 21 - Soggy Prairie (Bluegrass)\n\nJune 28 - Depot. Express (Classic Rock)\n\n \n\nJuly 12 - Sista Sensi (Reggae)\n\nJuly 19 - Nine Thirty Standard Sponsored by the Friends of the Sun Prairie Media Center (Blues/Country/Rock)\n\nJuly 26 - Marta and Clarisse with the Concerts in Piano Gal Shop (Dueling Pianos)\n\n\n\n\n\n\n\n\n\n\n\n\n\n\n\n\n\n\n\n\n\n\n\nAugust 2 - Sammy Ray & Friends (90's\n\nCover Music)\n\nAugust 9 - 5:30-6:15 David Landau (Children's Music) \n\nAugust 9 - 6:30-7:30 Sun Prairie Area Community Band (Traditional &  Contemporary Band Music)\n\nAugust 16 - Blue Olives (Blues) \n\nAugust 23\, 6-7 PM - Sun Prairie Area Community Band (Traditional & Contemporary Band Music)
X-ALT-DESC;FMTTYPE=text/html:<div class="row outer wide" style="box-sizing: border-box\; position: relative\; z-index: 1\; font-family: &quot\;Open Sans&quot\;\; font-size: 14.4px\; background-color: rgb(255\, 255\, 255)\;">\n<p id="isPasted" style="color: rgb(51\, 51\, 51)\; background: rgb(255\, 255\, 255)\; box-sizing: border-box\; margin: 0in 0in 16.8pt\; border: 0px none\; font-size: 15px\; font-family: Calibri\, sans-serif\; line-height: 16.05px\; text-align: center\;"><span style="box-sizing: border-box\; font-weight: 700\;"><span style="box-sizing: border-box\; margin: 0px\; padding: 0px\; border: 0px\; font-weight: inherit\; font-style: inherit\; font-size: 19px\; font-family: Arial\, sans-serif\; vertical-align: baseline\; outline: 0px\;"><span style="font-size:22px\;"><span style="font-family:verdana\;"><strong><span style="font-size:24px\;">Wetmore Park<br />\nConcerts in the Park</span></strong></span></span><br />\n<br />\n<br />\n<br />\n<span style="font-family:verdana\;"><span style="font-size:20px\;">Free &amp\; Open to the Public</span></span></span></span></p>\n\n<p id="isPasted" style="color: rgb(51\, 51\, 51)\; background: rgb(255\, 255\, 255)\; box-sizing: border-box\; margin: 0in 0in 16.8pt\; border: 0px none\; font-size: 15px\; font-family: Calibri\, sans-serif\; line-height: 16.05px\; text-align: center\;"><span style="font-size:20px\;"><strong><span style="font-family:verdana\;"><span style="font-style: inherit\; font-weight: inherit\;">Kids Crafts and Activities</span></span></strong></span></p>\n\n<p style="color: rgb(51\, 51\, 51)\; background: rgb(255\, 255\, 255)\; box-sizing: border-box\; margin: 0in 0in 16.8pt\; border: 0px none\; font-size: 15px\; font-family: Calibri\, sans-serif\; line-height: 16.05px\; text-align: center\;"><span style="font-size:20px\;"><span style="font-family:verdana\;"><span style="box-sizing: border-box\; font-weight: 700\;"><span style="box-sizing: border-box\; margin: 0px\; padding: 0px\; border: 0px\; font-weight: inherit\; font-style: inherit\; vertical-align: baseline\; outline: 0px\;">&nbsp\; Next to our new splash pad!</span></span></span></span></p>\n\n<p style="color: rgb(51\, 51\, 51)\; background: rgb(255\, 255\, 255)\; box-sizing: border-box\; margin: 0in 0in 16.8pt\; border: 0px none\; font-size: 15px\; font-family: Calibri\, sans-serif\; line-height: 16.05px\; text-align: center\;"><span style="font-size:20px\;"><span style="font-family:verdana\;"><span style="box-sizing: border-box\; font-weight: 700\;"><span style="box-sizing: border-box\; margin: 0px\; padding: 0px\; border: 0px\; font-weight: inherit\; font-style: inherit\; vertical-align: baseline\; outline: 0px\;">&nbsp\; Food/Beverage Available for<br />\nPurchase at Most Concerts</span></span></span></span></p>\n</div>\n\n<div class="row outer wide" style="box-sizing: border-box\; position: relative\; z-index: 1\; font-family: &quot\;Open Sans&quot\;\; font-size: 14.4px\; background-color: rgb(255\, 255\, 255)\;">\n<div class="outer col col8 first" data-widgetcontainerid="3c55fe7a-274e-4fb2-9aff-daee368b18f8" style="box-sizing: border-box\; margin: 0px\; position: relative\; z-index: 1\; float: left\; clear: none\; padding: 0px\; width: 300px\; height: auto\;">\n<div class="row nest first last wide" style="box-sizing: border-box\; position: relative\; z-index: 1\;">\n<div class="inner col col8 first last idbbff3b4d-e5f5-4f4b-b15f-b1197ee38264" data-widgetcontainerid="bbff3b4d-e5f5-4f4b-b15f-b1197ee38264" style="box-sizing: border-box\; margin: 0px\; position: relative\; z-index: 1\; float: left\; clear: none\; width: 300px\; padding: 1em\; height: 317px\; min-height: 0px\;">\n<div class="widget editor pageStyles narrow" data-elementqueryclasses="{&quot\;wide-narrow&quot\;:&quot\;min-width:25em&quot\;}" id="divEditorc4f378c2-edbf-4e60-a26b-3aa9fb637a4c" style="box-sizing: border-box\; position: relative\; z-index: 1\; overflow-wrap: break-word\;">\n<div class="fr-view" style="box-sizing: border-box\; overflow-wrap: break-word\; cursor: auto !important\;">\n<p style="box-sizing: border-box\; margin-top: 0px\; margin-bottom: 1.4em\; border: 0px none\;"><br />\n<span style="box-sizing: border-box\; font-weight: 700\;"><span style="font-size:16px\;"><span style="color:#000000\;"><span style="box-sizing: border-box\; margin: 0px\; padding: 0px\; border: 0px\; font-weight: inherit\; font-style: inherit\; font-family: Arial\, sans-serif\; vertical-align: baseline\; outline: 0px\;">Line up:</span></span></span><br />\n<span style="box-sizing: border-box\; margin: 0px\; padding: 0px\; border: 0px\; font-weight: inherit\; font-style: inherit\; font-size: 14px\; font-family: Arial\, sans-serif\; vertical-align: baseline\; outline: 0px\; color: rgb(112\, 173\, 71)\;">June 7\, 6-7 PM - Sun Prairie Area Community Band</span></span><span style="box-sizing: border-box\; margin: 0px\; padding: 0px\; border: 0px\; font-weight: inherit\; font-style: inherit\; font-size: 14px\; font-family: Arial\, sans-serif\; vertical-align: baseline\; outline: 0px\; color: rgb(112\, 173\, 71)\;">&nbsp\;(Traditional &amp\; Contemporary Band Music)&nbsp\;</span><br />\n<span style="box-sizing: border-box\; font-weight: 700\;"><span style="box-sizing: border-box\; margin: 0px\; padding: 0px\; border: 0px\; font-weight: inherit\; font-style: inherit\; font-size: 14px\; font-family: Arial\, sans-serif\; vertical-align: baseline\; outline: 0px\; color: rgb(112\, 173\, 71)\;">June 14 - Random Maxx</span></span><span style="box-sizing: border-box\; margin: 0px\; padding: 0px\; border: 0px\; font-weight: inherit\; font-style: inherit\; font-size: 14px\; font-family: Arial\, sans-serif\; vertical-align: baseline\; outline: 0px\; color: rgb(112\, 173\, 71)\;">&nbsp\;(Pop/Rock)</span><br />\n<span style="box-sizing: border-box\; font-weight: 700\;"><span style="box-sizing: border-box\; margin: 0px\; padding: 0px\; border: 0px\; font-weight: inherit\; font-style: inherit\; font-size: 14px\; font-family: Arial\, sans-serif\; vertical-align: baseline\; outline: 0px\; color: rgb(112\, 173\, 71)\;">June 21 - Soggy Prairie</span></span><span style="box-sizing: border-box\; margin: 0px\; padding: 0px\; border: 0px\; font-weight: inherit\; font-style: inherit\; font-size: 14px\; font-family: Arial\, sans-serif\; vertical-align: baseline\; outline: 0px\; color: rgb(112\, 173\, 71)\;">&nbsp\;(Bluegrass)</span><br />\n<span style="box-sizing: border-box\; font-weight: 700\;"><span style="box-sizing: border-box\; margin: 0px\; padding: 0px\; border: 0px\; font-weight: inherit\; font-style: inherit\; font-size: 14px\; font-family: Arial\, sans-serif\; vertical-align: baseline\; outline: 0px\; color: rgb(112\, 173\, 71)\;">June 28 - Depot. Express</span></span><span style="box-sizing: border-box\; margin: 0px\; padding: 0px\; border: 0px\; font-weight: inherit\; font-style: inherit\; font-size: 14px\; font-family: Arial\, sans-serif\; vertical-align: baseline\; outline: 0px\; color: rgb(112\, 173\, 71)\;">&nbsp\;(Classic Rock)<br />\n&nbsp\;</span><br />\n<span style="box-sizing: border-box\; font-weight: 700\;"><span style="box-sizing: border-box\; margin: 0px\; padding: 0px\; border: 0px\; font-weight: inherit\; font-style: inherit\; font-size: 14px\; font-family: Arial\, sans-serif\; vertical-align: baseline\; outline: 0px\; color: rgb(0\, 112\, 192)\;">July 12 - Sista Sensi&nbsp\;</span></span><span style="box-sizing: border-box\; margin: 0px\; padding: 0px\; border: 0px\; font-weight: inherit\; font-style: inherit\; font-size: 14px\; font-family: Arial\, sans-serif\; vertical-align: baseline\; outline: 0px\; color: rgb(0\, 112\, 192)\;">(Reggae)</span><br />\n<span style="box-sizing: border-box\; font-weight: 700\;"><span style="box-sizing: border-box\; margin: 0px\; padding: 0px\; border: 0px\; font-weight: inherit\; font-style: inherit\; font-size: 14px\; font-family: Arial\, sans-serif\; vertical-align: baseline\; outline: 0px\; color: rgb(0\, 112\, 192)\;">July 19 - Nine Thirty Standard</span></span><span style="box-sizing: border-box\; margin: 0px\; padding: 0px\; border: 0px\; font-weight: inherit\; font-style: inherit\; font-size: 14px\; font-family: Arial\, sans-serif\; vertical-align: baseline\; outline: 0px\; color: rgb(0\, 112\, 192)\;">&nbsp\;<span style="box-sizing: border-box\; font-weight: 700\;"><span style="box-sizing: border-box\; margin: 0px\; padding: 0px\; border: 0px\; font-weight: inherit\; font-style: inherit\; vertical-align: baseline\; outline: 0px\;">Sponsored by the Friends of the Sun Prairie Media Center</span></span>&nbsp\;(Blues/Country/Rock)</span><br />\n<span style="box-sizing: border-box\; font-weight: 700\;"><span style="box-sizing: border-box\; margin: 0px\; padding: 0px\; border: 0px\; font-weight: inherit\; font-style: inherit\; font-size: 14px\; font-family: Arial\, sans-serif\; vertical-align: baseline\; outline: 0px\; color: rgb(0\, 112\, 192)\;">July 26 - Marta and Clarisse with the Concerts in Piano Gal Shop</span></span><span style="box-sizing: border-box\; margin: 0px\; padding: 0px\; border: 0px\; font-weight: inherit\; font-style: inherit\; font-size: 14px\; font-family: Arial\, sans-serif\; vertical-align: baseline\; outline: 0px\; color: rgb(0\, 112\, 192)\;">&nbsp\;(Dueling Pianos)</span></p>\n</div>\n</div>\n</div>\n</div>\n</div>\n\n<div class="outer col col8 last" data-widgetcontainerid="472aa7f9-8c62-486d-9054-cf5854280652" style="box-sizing: border-box\; margin: 0px\; position: relative\; z-index: 1\; float: left\; padding: 0px\; width: 300px\; height: auto\;">\n<div class="row nest first last wide" style="box-sizing: border-box\; position: relative\; z-index: 1\;">\n<div class="inner col col8 first last id3b888f3f-70b9-4ab7-bb9b-6c08d66f12b7" data-widgetcontainerid="3b888f3f-70b9-4ab7-bb9b-6c08d66f12b7" style="box-sizing: border-box\; margin: 0px\; position: relative\; z-index: 1\; float: left\; clear: none\; width: 300px\; padding: 1em\; height: 317px\; min-height: 0px\;">\n<div class="widget editor pageStyles narrow" data-elementqueryclasses="{&quot\;wide-narrow&quot\;:&quot\;min-width:25em&quot\;}" id="divEditord52a56ef-f822-49fa-9198-fd577a31aae0" style="box-sizing: border-box\; position: relative\; z-index: 1\; overflow-wrap: break-word\;">\n<div class="fr-view" style="box-sizing: border-box\; overflow-wrap: break-word\; cursor: auto !important\;">\n<p id="isPasted" style="box-sizing: border-box\; margin: 0in 0in 16.8pt\; border: 0px none\; font-size: 15px\; font-family: Calibri\, sans-serif\; line-height: 16.05px\; background-image: initial\; background-position: initial\; background-size: initial\; background-repeat: initial\; background-attachment: initial\; background-origin: initial\; background-clip: initial\;"><br />\n<br />\n<br />\n<br />\n<br />\n<br />\n<span style="box-sizing: border-box\; font-weight: 700\;"><span style="box-sizing: border-box\; margin: 0px\; padding: 0px\; border: 0px\; font-weight: inherit\; font-style: inherit\; font-size: 14px\; font-family: Arial\, sans-serif\; vertical-align: baseline\; outline: 0px\; color: rgb(237\, 125\, 49)\;">August 2 - Sammy Ray &amp\; Friends</span></span><span style="box-sizing: border-box\; margin: 0px\; padding: 0px\; border: 0px\; font-weight: inherit\; font-style: inherit\; font-size: 14px\; font-family: Arial\, sans-serif\; vertical-align: baseline\; outline: 0px\; color: rgb(237\, 125\, 49)\;">&nbsp\;(90&#39\;s<br />\nCover Music)</span><br />\n<span style="box-sizing: border-box\; font-weight: 700\;"><span style="box-sizing: border-box\; margin: 0px\; padding: 0px\; border: 0px\; font-weight: inherit\; font-style: inherit\; font-size: 14px\; font-family: Arial\, sans-serif\; vertical-align: baseline\; outline: 0px\; color: rgb(237\, 125\, 49)\;">August 9 -&nbsp\;</span></span><span style="box-sizing: border-box\; font-weight: 700\;"><span style="box-sizing: border-box\; margin: 0px\; padding: 0px\; border: 0px\; font-weight: inherit\; font-style: inherit\; font-size: 14px\; font-family: Arial\, sans-serif\; vertical-align: baseline\; outline: 0px\; color: rgb(237\, 125\, 49)\;">5:30-6:15 David Landau</span></span><span style="box-sizing: border-box\; margin: 0px\; padding: 0px\; border: 0px\; font-weight: inherit\; font-style: inherit\; font-size: 14px\; font-family: Arial\, sans-serif\; vertical-align: baseline\; outline: 0px\; color: rgb(237\, 125\, 49)\;">&nbsp\;(Children&#39\;s Music)&nbsp\;</span><br />\n<span style="box-sizing: border-box\; font-weight: 700\;"><span style="box-sizing: border-box\; margin: 0px\; padding: 0px\; border: 0px\; font-weight: inherit\; font-style: inherit\; font-size: 14px\; font-family: Arial\, sans-serif\; vertical-align: baseline\; outline: 0px\; color: rgb(237\, 125\, 49)\;">August 9 - 6:30-7:30 Sun Prairie Area Community Band</span></span><span style="box-sizing: border-box\; margin: 0px\; padding: 0px\; border: 0px\; font-weight: inherit\; font-style: inherit\; font-size: 14px\; font-family: Arial\, sans-serif\; vertical-align: baseline\; outline: 0px\; color: rgb(237\, 125\, 49)\;">&nbsp\;(Traditional &amp\; &nbsp\;Contemporary Band Music)</span><br />\n<span style="box-sizing: border-box\; font-weight: 700\;"><span style="box-sizing: border-box\; margin: 0px\; padding: 0px\; border: 0px\; font-weight: inherit\; font-style: inherit\; font-size: 14px\; font-family: Arial\, sans-serif\; vertical-align: baseline\; outline: 0px\; color: rgb(237\, 125\, 49)\;">August 16 - Blue Olives</span></span><span style="box-sizing: border-box\; margin: 0px\; padding: 0px\; border: 0px\; font-weight: inherit\; font-style: inherit\; font-size: 14px\; font-family: Arial\, sans-serif\; vertical-align: baseline\; outline: 0px\; color: rgb(237\, 125\, 49)\;">&nbsp\;(Blues)&nbsp\;</span><br />\n<span style="box-sizing: border-box\; margin: 0px\; padding: 0px\; border: 0px\; font-weight: inherit\; font-style: inherit\; font-size: 14px\; font-family: Arial\, sans-serif\; vertical-align: baseline\; outline: 0px\; color: rgb(237\, 125\, 49)\;"><span style="box-sizing: border-box\; font-weight: 700\;">August 23\, 6-7 PM - Sun Prairie Area Community Band</span>&nbsp\;(Traditional &amp\; Contemporary Band Music)&nbsp\;</span></p>\n</div>\n</div>\n</div>\n</div>\n</div>\n</div>\n<br />\n<br />\n&nbsp\;
LOCATION:
UID:e.2844.6288
SEQUENCE:3
DTSTAMP:20260419T134705Z
URL:https://business.sunprairiechamber.com/events/details/concerts-in-the-park-07-26-2022-6288
END:VEVENT

END:VCALENDAR
