BEGIN:VCALENDAR
VERSION:2.0
PRODID:-//ChamberMaster//Event Calendar 2.0//EN
METHOD:PUBLISH
X-PUBLISHED-TTL:P3D
REFRESH-INTERVAL:P3D
CALSCALE:GREGORIAN
BEGIN:VEVENT
DTSTART:20241026T150000Z
DTEND:20241026T160000Z
X-MICROSOFT-CDO-ALLDAYEVENT:FALSE
SUMMARY:Breathwork Workshop hosted by Orange Shoe
DESCRIPTION:This breathwork workshop is all about helping you release the stress of everyday life\, reconnect with the deepest parts of yourself\, and find that sense of calm you've been needing. It's your time to pause\, breathe\, and grow in a way that feels aligned and empowering.\n\n\n\nOrange Shoe is hosting Nicole\, a breathwork and mindbody coach to help members of our community learn more about the power of Breathwork.\n\n\n\nPlease register below and bring your own mat! We look forward to seeing you!
X-ALT-DESC;FMTTYPE=text/html:<span style="color:rgb(61\, 109\, 115)">This breathwork workshop is all about helping you release the stress of everyday life\, reconnect with the deepest parts of yourself\, and find that sense of calm you&#39\;ve been needing. It&rsquo\;s your time to pause\, breathe\, and grow in a way that feels aligned and empowering.<br />\n<br />\nOrange Shoe is hosting Nicole\, a breathwork and mindbody coach to help members of our community learn more about the power of Breathwork.<br />\n<br />\nPlease register below and bring your own mat! We look forward to seeing you!</span><br type="_moz" />\n&nbsp\;
LOCATION:Orange Shoe Personal Fitness\, Sun Prairie
UID:e.2844.9300
SEQUENCE:3
DTSTAMP:20260422T121653Z
URL:https://business.sunprairiechamber.com/events/details/breathwork-workshop-hosted-by-orange-shoe-9300
END:VEVENT

END:VCALENDAR
