BEGIN:VCALENDAR
VERSION:2.0
PRODID:-//ChamberMaster//Event Calendar 2.0//EN
METHOD:PUBLISH
X-PUBLISHED-TTL:P3D
REFRESH-INTERVAL:P3D
CALSCALE:GREGORIAN
BEGIN:VEVENT
DTSTART:20220714T230000Z
DTEND:20220715T010000Z
X-MICROSOFT-CDO-ALLDAYEVENT:FALSE
SUMMARY:BB Jack's Paint & Sip Night
DESCRIPTION:BB Jack's Paint & Sip Night!\n\n\n\nThinking Summer? Join us for a night out\, and create your very own Beach Tote Bag! All supplies included. BB Jack's in Cottage Grove will be hosting the class\, and our talented instructor from http://Art-vark Studios Paint and Sip will lead the class!\n\nTell a friend and sign up today! https://apm.activecommunities.com/.../Activity_Search/3367
X-ALT-DESC;FMTTYPE=text/html:<div class="kvgmc6g5 cxmmr5t8 oygrvhab hcukyx3x c1et5uql ii04i59q" style="overflow-wrap: break-word\; margin: 0px\; white-space: pre-wrap\; font-family: &quot\;Segoe UI Historic&quot\;\, &quot\;Segoe UI&quot\;\, Helvetica\, Arial\, sans-serif\; color: rgb(5\, 5\, 5)\; font-size: 15px\; background-color: rgb(255\, 255\, 255)\;">\n<div dir="auto" style="font-family: inherit\;"><span style="font-size:24px\;"><span style="font-family:comic sans ms\;"><strong>BB Jack&#39\;s Paint &amp\; Sip Night!</strong></span></span><br />\n<br />\n<span style="font-size:18px\;"><span style="font-family:comic sans ms\;">Thinking Summer? Join us for a night out\, and create your very own Beach Tote Bag! All supplies included. BB Jack&#39\;s in Cottage Grove will be hosting the class\, and our talented instructor from <a href="http://Art-vark Studios Paint and Sip">http://Art-vark Studios Paint and Sip</a> will lead the class!</span></span><br />\n<span style="font-size:18px\;"><span style="font-family:comic sans ms\;">Tell a friend and sign up today! <a href="https://apm.activecommunities.com/.../Activity_Search/3367">https://apm.activecommunities.com/.../Activity_Search/3367</a></span></span><br />\n<br />\n&nbsp\;</div>\n</div>\n
LOCATION:
UID:e.2844.6730
SEQUENCE:3
DTSTAMP:20260419T120959Z
URL:https://business.sunprairiechamber.com/events/details/bb-jack-s-paint-sip-night-6730
END:VEVENT

END:VCALENDAR
